From mboxrd@z Thu Jan 1 00:00:00 1970 Return-Path: Received: from mails.dpdk.org (mails.dpdk.org [217.70.189.124]) by inbox.dpdk.org (Postfix) with ESMTP id 420BD461BE for ; Fri, 7 Feb 2025 19:25:24 +0100 (CET) Received: from mails.dpdk.org (localhost [127.0.0.1]) by mails.dpdk.org (Postfix) with ESMTP id 3E2F342EE5; Fri, 7 Feb 2025 19:25:24 +0100 (CET) Received: from mail-io1-f97.google.com (mail-io1-f97.google.com [209.85.166.97]) by mails.dpdk.org (Postfix) with ESMTP id 3D5F442EE2 for ; Fri, 7 Feb 2025 19:25:23 +0100 (CET) Received: by mail-io1-f97.google.com with SMTP id ca18e2360f4ac-844e39439abso65309739f.1 for ; Fri, 07 Feb 2025 10:25:23 -0800 (PST) DKIM-Signature: v=1; a=rsa-sha256; c=relaxed/relaxed; d=iol.unh.edu; s=unh-iol; t=1738952722; x=1739557522; darn=dpdk.org; h=references:in-reply-to:cc:to:from:subject:message-id:date:from:to :cc:subject:date:message-id:reply-to; bh=p4ffafMhQBiVxnCuRYF/O+nHH0IcGrfWEjr3HPLZsJE=; b=Q7yRhnjdirRl9NXNfH0Il4pN/uxcsRCAZc2stOt/j07f0AclDu3PGyJQYVyYVExG1c ZYVD0pJBi9Wao5WVqOLX9MZosa9tYs+ga/MeTERvo3axJqtk5kTmFaP94D1T+nLow/LP 05L/tCxP8yzZrv/YSq4Pz2BJvESli3hiCeiC8= X-Google-DKIM-Signature: v=1; a=rsa-sha256; c=relaxed/relaxed; d=1e100.net; s=20230601; t=1738952722; x=1739557522; h=references:in-reply-to:cc:to:from:subject:message-id:date :x-gm-message-state:from:to:cc:subject:date:message-id:reply-to; bh=p4ffafMhQBiVxnCuRYF/O+nHH0IcGrfWEjr3HPLZsJE=; b=cJnUJi7SWGECL/VKufiqeTeI6RFmrd4pJ3PHjBpj3qiYIQLbMiS4psoqukXjxdZnem vAZ8Cu/QgiAthSUEaufHzGLAioR//AKShiFqwjLiYpIfdYIwP2vyb1ROFgutsaw0OcXl JDvOc5kvUDc9GjYQ14QnCNVD3oapr3eQB+Kg/J61NFRdilwtbXG11ANZs4x3fFEsYrCy N2Ff66UatCdWkUVUCHEXzWGf1FF+CeRJqZwwcpSgOPC7UuKKPQThBADGiBy/pcboJeVX TkdUMNSFvz3l8LGmaxP+0xcrF2huJB4i8V+YEAL77iAagnbWGl/iAZ6TY99Hsg2YEFU0 YekQ== X-Gm-Message-State: AOJu0YyrSNOKA2FVMbgXyNqgHSaHHXJFiit9Cv1tNe4PDHDz/XJtZsGo FWA9l2LZy6F4+0G2y8ciBDKhPlk9PRLICUAOe+ylwl1cPlZIYVaDs/OtPR5ZeNzXLgfuppLYO3t 0DBHpzNj7xPoDU0sDmvgBDBBkgSL9KV6z5FAwg5Si X-Gm-Gg: ASbGncs9redXQNCR4tkxrmGI9AfPkSXYDs+/3WdsCLPajhYWKUuYNEygAmgIKgaGAnq /HUTaaLN8zPseDljXAJlexF0JpneCupRSbVtIWUBU/Iaj4VD0JbG9AkU8kLa+1HLAMeuppx/eqr LVuZ1VjOCO/tATMiOsKy5YzGYPL9gDdQggB5D/MWFzwsB7Re8nqw31asuoFni5NsNbjChucAqTn HcWKC6H4ekipQ86m9EcBFZoyxaYvACivUmEgWVAhugL+IorMvgB5Ig/Mj2UAvWshd4Hwi6qHK1J BPh9Amrji121bpxE3lwSbio2ZFM67A== X-Google-Smtp-Source: AGHT+IEzJYJSMewmToQCVzmA5OturxqtdVrGd1JJ1DnyTLREBvsRTTeGrLfgJSOmFp21+GDgq1Ar2O90Fb5w X-Received: by 2002:a05:6602:4008:b0:851:f176:9827 with SMTP id ca18e2360f4ac-854fd89ba0bmr498907339f.5.1738952722597; Fri, 07 Feb 2025 10:25:22 -0800 (PST) Received: from postal.iol.unh.edu (postal.iol.unh.edu. [132.177.123.84]) by smtp-relay.gmail.com with ESMTPS id 8926c6da1cb9f-4eccfad6a85sm242161173.71.2025.02.07.10.25.22 (version=TLS1_2 cipher=ECDHE-ECDSA-AES128-GCM-SHA256 bits=128/128); Fri, 07 Feb 2025 10:25:22 -0800 (PST) X-Relaying-Domain: iol.unh.edu Date: Fri, 07 Feb 2025 10:25:22 -0800 (PST) Message-ID: <67a65012.050a0220.2415b8.c52cSMTPIN_ADDED_MISSING@mx.google.com> Received: from [172.21.0.11] (unknown [172.18.0.240]) by postal.iol.unh.edu (Postfix) with ESMTP id 241326052477; Fri, 7 Feb 2025 13:24:52 -0500 (EST) Subject: |WARNING| pw149284 [PATCH] net/virtio: fix Rx checksum calculation From: dpdklab@iol.unh.edu To: Test Report Cc: dpdk-test-reports@iol.unh.edu In-Reply-To: <20241217153253.457646-1-maxime.coquelin@redhat.com> References: <20241217153253.457646-1-maxime.coquelin@redhat.com> Content-Type: text/plain X-BeenThere: test-report@dpdk.org X-Mailman-Version: 2.1.29 Precedence: list List-Id: automatic DPDK test reports List-Unsubscribe: , List-Archive: List-Post: List-Help: List-Subscribe: , Errors-To: test-report-bounces@dpdk.org Test-Label: iol-compile-amd64-testing Test-Status: WARNING http://dpdk.org/patch/149284 _Testing issues_ Submitter: Maxime Coquelin Date: Tuesday, December 17 2024 15:32:53 DPDK git baseline: Repo:dpdk Branch: master CommitID:510b460e02594a70d4ce19e2d29df3ade8af36d7 149284 --> testing issues Test environment and result as below: +---------------------+--------------------+------------------+-------------------+-------------------+-------------------------+----------------------+ | Environment | dpdk_meson_compile | dpdk_compile_ovs | dpdk_compile_spdk | dpdk_msvc_compile | dpdk_llvm_clang_compile | dpdk_mingw64_compile | +=====================+====================+==================+===================+===================+=========================+======================+ | Fedora 39 (Clang) | PASS | PASS | PASS | SKIPPED | SKIPPED | SKIPPED | +---------------------+--------------------+------------------+-------------------+-------------------+-------------------------+----------------------+ | Fedora 39 | PASS | PASS | PASS | SKIPPED | SKIPPED | SKIPPED | +---------------------+--------------------+------------------+-------------------+-------------------+-------------------------+----------------------+ | openSUSE Leap 15 | PASS | WARN | SKIPPED | SKIPPED | SKIPPED | SKIPPED | +---------------------+--------------------+------------------+-------------------+-------------------+-------------------------+----------------------+ | RHEL9 | PASS | PASS | SKIPPED | SKIPPED | SKIPPED | SKIPPED | +---------------------+--------------------+------------------+-------------------+-------------------+-------------------------+----------------------+ | Ubuntu 20.04 | PASS | SKIPPED | SKIPPED | SKIPPED | SKIPPED | SKIPPED | +---------------------+--------------------+------------------+-------------------+-------------------+-------------------------+----------------------+ | Ubuntu 22.04 | PASS | PASS | PASS | SKIPPED | SKIPPED | SKIPPED | +---------------------+--------------------+------------------+-------------------+-------------------+-------------------------+----------------------+ | Ubuntu 24.04 | PASS | PASS | PASS | SKIPPED | SKIPPED | SKIPPED | +---------------------+--------------------+------------------+-------------------+-------------------+-------------------------+----------------------+ | Alpine | PASS | PASS | SKIPPED | SKIPPED | SKIPPED | SKIPPED | +---------------------+--------------------+------------------+-------------------+-------------------+-------------------------+----------------------+ | FreeBSD 13.4 | PASS | SKIPPED | SKIPPED | SKIPPED | SKIPPED | SKIPPED | +---------------------+--------------------+------------------+-------------------+-------------------+-------------------------+----------------------+ | FreeBSD 14.2 | PASS | SKIPPED | SKIPPED | SKIPPED | SKIPPED | SKIPPED | +---------------------+--------------------+------------------+-------------------+-------------------+-------------------------+----------------------+ | CentOS Stream 9 | PASS | PASS | PASS | SKIPPED | SKIPPED | SKIPPED | +---------------------+--------------------+------------------+-------------------+-------------------+-------------------------+----------------------+ | Debian 12 | PASS | PASS | PASS | SKIPPED | SKIPPED | SKIPPED | +---------------------+--------------------+------------------+-------------------+-------------------+-------------------------+----------------------+ | Fedora 40 | PASS | PASS | PASS | SKIPPED | SKIPPED | SKIPPED | +---------------------+--------------------+------------------+-------------------+-------------------+-------------------------+----------------------+ | Fedora 40 (Clang) | PASS | PASS | PASS | SKIPPED | SKIPPED | SKIPPED | +---------------------+--------------------+------------------+-------------------+-------------------+-------------------------+----------------------+ | RHEL8 | PASS | PASS | SKIPPED | SKIPPED | SKIPPED | SKIPPED | +---------------------+--------------------+------------------+-------------------+-------------------+-------------------------+----------------------+ | Windows Server 2022 | SKIPPED | SKIPPED | SKIPPED | PASS | PASS | PASS | +---------------------+--------------------+------------------+-------------------+-------------------+-------------------------+----------------------+ ==== 20 line log output for openSUSE Leap 15 (dpdk_compile_ovs): ==== --- Failed to get log output --- ==== End log output ==== Fedora 39 (Clang) Kernel: Depends on container host Compiler: clang 17.0.6 (Fedora 17.0.6-2.fc39) Fedora 39 Kernel: Depends on container host Compiler: gcc 13.3.1 20240522 (Red Hat 13.3.1-1) openSUSE Leap 15 Kernel: Depends on container host Compiler: gcc (SUSE Linux) 7.5.0 RHEL9 Kernel: Depends on container host Compiler: gcc 11.5.0 20240719 (Red Hat 11.5.0-2) Ubuntu 20.04 Kernel: Depends on container host Compiler: gcc (Ubuntu 9.4.0-1ubuntu1~20.04.2) 9.4.0 Ubuntu 22.04 Kernel: Depends on container host Compiler: gcc (Ubuntu 11.4.0-1ubuntu1~22.04) 11.4.0 Ubuntu 24.04 Kernel: Depends on container host Compiler: gcc (Ubuntu 13.3.0-6ubuntu2~24.04) 13.3.0 Alpine Kernel: Depends on container host Compiler: gcc (Alpine 14.2.0) 14.2.0 FreeBSD 13.4 Kernel: 13.4-RELEASE-p1 Compiler: clang 18.1.6 FreeBSD 14.2 Kernel: 14.2-RELEASE Compiler: clang 18.1.6 CentOS Stream 9 Kernel: Depends on container host Compiler: gcc 11.5.0 20240719 (Red Hat 11.5.0-2) Debian 12 Kernel: Depends on container host Compiler: gcc (Debian 12.2.0-14) 12.2.0 Fedora 40 Kernel: Depends on container host Compiler: gcc 14.2.1 20240912 (Red Hat 14.2.1-3) Fedora 40 (Clang) Kernel: Depends on container host Compiler: clang 18.1.8 (Fedora 18.1.8-1.fc40) RHEL8 Kernel: Depends on container host Compiler: gcc 8.5.0 20210514 (Red Hat 8.5.0-22) Windows Server 2022 Kernel: 10.0.20348.2031 Compiler: clang 15.0.7, gcc 14.1.0 (MinGW), and MSVC VS 19.39.33521 To view detailed results, visit: https://lab.dpdk.org/results/dashboard/patchsets/32153/ UNH-IOL DPDK Community Lab To manage your email subscriptions, visit: https://lab.dpdk.org/results/dashboard/preferences/subscriptions/