From mboxrd@z Thu Jan 1 00:00:00 1970 Return-Path: Received: from mails.dpdk.org (mails.dpdk.org [217.70.189.124]) by inbox.dpdk.org (Postfix) with ESMTP id 4FE4C461BE for ; Fri, 7 Feb 2025 19:25:26 +0100 (CET) Received: from mails.dpdk.org (localhost [127.0.0.1]) by mails.dpdk.org (Postfix) with ESMTP id 4D3D342EE5; Fri, 7 Feb 2025 19:25:26 +0100 (CET) Received: from mail-il1-f228.google.com (mail-il1-f228.google.com [209.85.166.228]) by mails.dpdk.org (Postfix) with ESMTP id B368342EE2 for ; Fri, 7 Feb 2025 19:25:24 +0100 (CET) Received: by mail-il1-f228.google.com with SMTP id e9e14a558f8ab-3d03ac846a7so7514135ab.2 for ; Fri, 07 Feb 2025 10:25:24 -0800 (PST) DKIM-Signature: v=1; a=rsa-sha256; c=relaxed/relaxed; d=iol.unh.edu; s=unh-iol; t=1738952724; x=1739557524; darn=dpdk.org; h=cc:to:from:subject:message-id:date:from:to:cc:subject:date :message-id:reply-to; bh=7Rz9LNLWECcSDayQ1b9TVh+nuFWJTha65v/1ZqVdxWc=; b=RpzW/lC12q8h08VEXVkOY4W0bd5Zb3gGalTL21mOgctwLs9lhpRRYQpHNKV2voKtiD 623QXU4hWvtjXi4zv5mgiJh1izEN2lzr6hMUr47BB+aDn5xf0CnaWg+7NU96hU+BKGrc HO9kVR+/2/P87HrU++sWpvwjh3IX86tRD/onY= X-Google-DKIM-Signature: v=1; a=rsa-sha256; c=relaxed/relaxed; d=1e100.net; s=20230601; t=1738952724; x=1739557524; h=cc:to:from:subject:message-id:date:x-gm-message-state:from:to:cc :subject:date:message-id:reply-to; bh=7Rz9LNLWECcSDayQ1b9TVh+nuFWJTha65v/1ZqVdxWc=; b=OOJinAcEvhDfoiW1wrCr3zkv7lo7IXQWGqaCdFpFWNbBn77kuWV0Ec5HUVADjkavm9 6o+uJesBKkAStz9JQX3W2aZu/mYjvfaTk/1dfHmM43Pb2UWmPiSyZ1W899OzMS4wQBay 8QuZJR7/ynmTHjE2guWCsQ56J4sAX+Gscvfanz/1iTz43ru16mhlEIw/3Uqe8pi9/KQV lYdqZ+AQdFVhGzTnGzImBlmQ/SBeSBLXz2NBrIRvcck2hEgGPaPlrNXatU15z/G7ih1y /ofvCn7htbaABmIuFpii0OnADLNW8XfnXX2utk71SKJZqMDtFFTPW+wsX8M4RfUMlH2V kTDw== X-Gm-Message-State: AOJu0YysWb+p5UHIKw/0Nq0UraupOHL3tuF43GAqqi/axkGA7qDE5s1M 1FnVArPniuXYDkdTFribQJbBsZrp0LyqVH6Px7OY99KnS0J7ex0RypGCZ/qq1oldKFbCIWfExbI 59fS0LDuji051Jle+3GM5z5ZQMpZ1Hq56MR2Le/Ct X-Gm-Gg: ASbGncvWaFyUw1HZpaqjWqioAAXVCVr41v75mQGZG7cQ0wG2w0iK5BW4cBFnTf+meRN Zp3CLtaKuf8h7GldnQMpvfAj+Nc38U0h2BsHJzpV0ab+pv/5V7JzR05t+8eLWut23pTulB1kpz8 klXBRaNdMCeqfdNi+eehvAbUKyog3nEKM2VHINz9YYbiRv1xqY8izUe4uxr1Q0yWJRA++1J4X6n U2ZBWv4qkOuSrt2czFd07FhK5zIfDEfNLWbVEXYLROYV6FExmJSeTt4Uy0ixR+rF+fVN9x57U0+ 5FH6TL28XvF/CdJ59hK30WTy4IkN8w== X-Google-Smtp-Source: AGHT+IF89+FwSXH7j+16xIO2uZntNQP17EhnfiPDsoUQmnDg55ZQ92mHTF96FYQwSSSLE/93eiCcjXpdAzEh X-Received: by 2002:a05:6e02:216d:b0:3d0:10a6:99be with SMTP id e9e14a558f8ab-3d13dd4b96amr34449255ab.12.1738952724113; Fri, 07 Feb 2025 10:25:24 -0800 (PST) Received: from postal.iol.unh.edu (postal.iol.unh.edu. [132.177.123.84]) by smtp-relay.gmail.com with ESMTPS id e9e14a558f8ab-3d05e8d9282sm2662315ab.8.2025.02.07.10.25.24 (version=TLS1_2 cipher=ECDHE-ECDSA-AES128-GCM-SHA256 bits=128/128); Fri, 07 Feb 2025 10:25:24 -0800 (PST) X-Relaying-Domain: iol.unh.edu Date: Fri, 07 Feb 2025 10:25:24 -0800 (PST) Message-ID: <67a65014.050a0220.341dbc.e6feSMTPIN_ADDED_MISSING@mx.google.com> Received: from [172.21.0.12] (unknown [172.18.0.240]) by postal.iol.unh.edu (Postfix) with ESMTP id 92756605247D; Fri, 7 Feb 2025 13:24:53 -0500 (EST) Subject: |WARNING| [GIT MASTER] 78d0246a2e2fb14cba220d507192d12d2ce896ac From: dpdklab@iol.unh.edu To: Test Report Cc: dpdk-test-reports@iol.unh.edu, Stephen Hemminger Content-Type: text/plain X-BeenThere: test-report@dpdk.org X-Mailman-Version: 2.1.29 Precedence: list List-Id: automatic DPDK test reports List-Unsubscribe: , List-Archive: List-Post: List-Help: List-Subscribe: , Errors-To: test-report-bounces@dpdk.org _Testing issues_ Branch: dpdk-next-net 78d0246a2e2fb14cba220d507192d12d2ce896ac --> testing issues Test environment and result as below: +---------------------+--------------------+------------------+-------------------+-------------------+-------------------------+----------------------+ | Environment | dpdk_meson_compile | dpdk_compile_ovs | dpdk_compile_spdk | dpdk_msvc_compile | dpdk_llvm_clang_compile | dpdk_mingw64_compile | +=====================+====================+==================+===================+===================+=========================+======================+ | Debian 12 | PASS | PASS | PASS | SKIPPED | SKIPPED | SKIPPED | +---------------------+--------------------+------------------+-------------------+-------------------+-------------------------+----------------------+ | Fedora 39 | PASS | PASS | PASS | SKIPPED | SKIPPED | SKIPPED | +---------------------+--------------------+------------------+-------------------+-------------------+-------------------------+----------------------+ | Fedora 40 (Clang) | PASS | PASS | PASS | SKIPPED | SKIPPED | SKIPPED | +---------------------+--------------------+------------------+-------------------+-------------------+-------------------------+----------------------+ | openSUSE Leap 15 | PASS | WARN | SKIPPED | SKIPPED | SKIPPED | SKIPPED | +---------------------+--------------------+------------------+-------------------+-------------------+-------------------------+----------------------+ | RHEL8 | PASS | PASS | SKIPPED | SKIPPED | SKIPPED | SKIPPED | +---------------------+--------------------+------------------+-------------------+-------------------+-------------------------+----------------------+ | RHEL9 | PASS | PASS | SKIPPED | SKIPPED | SKIPPED | SKIPPED | +---------------------+--------------------+------------------+-------------------+-------------------+-------------------------+----------------------+ | Ubuntu 24.04 | PASS | PASS | PASS | SKIPPED | SKIPPED | SKIPPED | +---------------------+--------------------+------------------+-------------------+-------------------+-------------------------+----------------------+ | FreeBSD 13.4 | PASS | SKIPPED | SKIPPED | SKIPPED | SKIPPED | SKIPPED | +---------------------+--------------------+------------------+-------------------+-------------------+-------------------------+----------------------+ | FreeBSD 14.2 | PASS | SKIPPED | SKIPPED | SKIPPED | SKIPPED | SKIPPED | +---------------------+--------------------+------------------+-------------------+-------------------+-------------------------+----------------------+ | CentOS Stream 9 | PASS | PASS | PASS | SKIPPED | SKIPPED | SKIPPED | +---------------------+--------------------+------------------+-------------------+-------------------+-------------------------+----------------------+ | Fedora 40 | PASS | PASS | PASS | SKIPPED | SKIPPED | SKIPPED | +---------------------+--------------------+------------------+-------------------+-------------------+-------------------------+----------------------+ | Fedora 39 (Clang) | PASS | PASS | PASS | SKIPPED | SKIPPED | SKIPPED | +---------------------+--------------------+------------------+-------------------+-------------------+-------------------------+----------------------+ | Ubuntu 20.04 | PASS | SKIPPED | SKIPPED | SKIPPED | SKIPPED | SKIPPED | +---------------------+--------------------+------------------+-------------------+-------------------+-------------------------+----------------------+ | Ubuntu 22.04 | PASS | PASS | PASS | SKIPPED | SKIPPED | SKIPPED | +---------------------+--------------------+------------------+-------------------+-------------------+-------------------------+----------------------+ | Windows Server 2022 | SKIPPED | SKIPPED | SKIPPED | PASS | PASS | PASS | +---------------------+--------------------+------------------+-------------------+-------------------+-------------------------+----------------------+ ==== 20 line log output for openSUSE Leap 15 (dpdk_compile_ovs): ==== --- Failed to get log output --- ==== End log output ==== Debian 12 Kernel: Depends on container host Compiler: gcc (Debian 12.2.0-14) 12.2.0 Fedora 39 Kernel: Depends on container host Compiler: gcc 13.3.1 20240522 (Red Hat 13.3.1-1) Fedora 40 (Clang) Kernel: Depends on container host Compiler: clang 18.1.8 (Fedora 18.1.8-1.fc40) openSUSE Leap 15 Kernel: Depends on container host Compiler: gcc (SUSE Linux) 7.5.0 RHEL8 Kernel: Depends on container host Compiler: gcc 8.5.0 20210514 (Red Hat 8.5.0-22) RHEL9 Kernel: Depends on container host Compiler: gcc 11.5.0 20240719 (Red Hat 11.5.0-2) Ubuntu 24.04 Kernel: Depends on container host Compiler: gcc (Ubuntu 13.3.0-6ubuntu2~24.04) 13.3.0 FreeBSD 13.4 Kernel: 13.4-RELEASE-p1 Compiler: clang 18.1.6 FreeBSD 14.2 Kernel: 14.2-RELEASE Compiler: clang 18.1.6 CentOS Stream 9 Kernel: Depends on container host Compiler: gcc 11.5.0 20240719 (Red Hat 11.5.0-2) Fedora 40 Kernel: Depends on container host Compiler: gcc 14.2.1 20240912 (Red Hat 14.2.1-3) Fedora 39 (Clang) Kernel: Depends on container host Compiler: clang 17.0.6 (Fedora 17.0.6-2.fc39) Ubuntu 20.04 Kernel: Depends on container host Compiler: gcc (Ubuntu 9.4.0-1ubuntu1~20.04.2) 9.4.0 Ubuntu 22.04 Kernel: Depends on container host Compiler: gcc (Ubuntu 11.4.0-1ubuntu1~22.04) 11.4.0 Windows Server 2022 Kernel: 10.0.20348.2031 Compiler: clang 15.0.7, gcc 14.1.0 (MinGW), and MSVC VS 19.39.33521 To view detailed results, visit: https://lab.dpdk.org/results/dashboard/tarballs/31955/ UNH-IOL DPDK Community Lab To manage your email subscriptions, visit: https://lab.dpdk.org/results/dashboard/preferences/subscriptions/