From mboxrd@z Thu Jan 1 00:00:00 1970 Return-Path: Received: from mails.dpdk.org (mails.dpdk.org [217.70.189.124]) by inbox.dpdk.org (Postfix) with ESMTP id 6025F461BE for ; Fri, 7 Feb 2025 19:25:33 +0100 (CET) Received: from mails.dpdk.org (localhost [127.0.0.1]) by mails.dpdk.org (Postfix) with ESMTP id 5DE2F42EE2; Fri, 7 Feb 2025 19:25:33 +0100 (CET) Received: from mail-il1-f228.google.com (mail-il1-f228.google.com [209.85.166.228]) by mails.dpdk.org (Postfix) with ESMTP id C40B742EE2 for ; Fri, 7 Feb 2025 19:25:31 +0100 (CET) Received: by mail-il1-f228.google.com with SMTP id e9e14a558f8ab-3cf8e017abcso7017935ab.1 for ; Fri, 07 Feb 2025 10:25:31 -0800 (PST) DKIM-Signature: v=1; a=rsa-sha256; c=relaxed/relaxed; d=iol.unh.edu; s=unh-iol; t=1738952731; x=1739557531; darn=dpdk.org; h=references:in-reply-to:cc:to:from:subject:message-id:date:from:to :cc:subject:date:message-id:reply-to; bh=N5XkrGPjLyNHM4cNIqVod7v0p3B9wFtcFnVDaZeKty0=; b=hwwrbCXXwhA2Vm++y6i7v7/VkmtzsubEgYWfMqKvGrEDXucAK8FEAUcMaGF/4sd4Ql kCjdhTDvgBMWfJ9w46anxwvmUu5xTJP9Z/2ejIDLrIYTaKHrsuO0FDdU3ui1c3chiVmb sZZz/3zGz0+Wkbk84Q5FMnfPFyL7IbRxGwiCk= X-Google-DKIM-Signature: v=1; a=rsa-sha256; c=relaxed/relaxed; d=1e100.net; s=20230601; t=1738952731; x=1739557531; h=references:in-reply-to:cc:to:from:subject:message-id:date :x-gm-message-state:from:to:cc:subject:date:message-id:reply-to; bh=N5XkrGPjLyNHM4cNIqVod7v0p3B9wFtcFnVDaZeKty0=; b=YkBR+/IvgfnNVSay1gJUlpNfIkAUKCgsVx2LLEdXp97LgeZgEE1X+cEypcU6w7Mh1d stoE5imvbsFb4CusCRoMqMxjxvk+Y24WB9QyZS9d74a6fHzUZ+L1qlz9dGS+kz/xiHr+ 56xPu/ClAJyxDW0vObypYtSOIUos5uyFjCP8CwFULbUuXezmoHsTQ9kNSUH9MWtcN1f2 wbrfBivy/Evjemef7Dgig/wAa3Jff8TIk5n+fWoIuF8DEMVIZsZr1S644yz3X/dXRia5 vjJXwxBniqBNCwTfpBQmMz50L61pJG5zOYyq+MIbkOchWiBeT4n2B74R/a3JntTEc5WB KgrA== X-Gm-Message-State: AOJu0YzFpvpqqOQpJ7rgHa0BqVaKFKM59ARQw8s17cskELxrWdjAfPWr NGVd5dvOvlsRRHL1jN5KbPqRgsAdsJl6iEnkaGUEKRBME1Vh8mNepTh0MsPDPwadCv7jn6/GNmW m1mXhQP+hRiZrljG77CNsWEFRdpfZZrjOdXhc15MR X-Gm-Gg: ASbGncs+WrMsbm/ju9hKyAGxDnX9y3GOFO7BZOHKq5Isd0gIQEHcFs8h0tD5pGHLidz oZ053jjRDGrbXZgRxw+lOAVoxStHy8G2GV/S7QyjpyDF7mvxc+hRYuv6rZoAOJo3xxWYgdynHop lqYSzQgQAN/IFi4FAM82reAGzomfSJiSRsGIzHYe8N4mXUmQPtiAEm5pf+NHjeF2RfQt0twhoiA ltkAJcmUwLXQ7tD7i0ukBRLKT0Pqye+hEyXclR+w16GXgw4v6x5hLs62ZqzUcQkRD2yXB1lb+Ug SLpSL3nt8k6397ULLvVy4piZlB9YYw== X-Google-Smtp-Source: AGHT+IF944fJtPEl1ExIzg9LryXBZNkebldChduhmCLcGLnlgIS1YKYzA6f3hY8zT6uaMfZd2g0e+CdGYjQI X-Received: by 2002:a05:6e02:2162:b0:3cf:cbab:28e4 with SMTP id e9e14a558f8ab-3d13defdd4cmr24063255ab.14.1738952731150; Fri, 07 Feb 2025 10:25:31 -0800 (PST) Received: from postal.iol.unh.edu (postal.iol.unh.edu. [132.177.123.84]) by smtp-relay.gmail.com with ESMTPS id 8926c6da1cb9f-4eccf9aa208sm259038173.2.2025.02.07.10.25.31 (version=TLS1_2 cipher=ECDHE-ECDSA-AES128-GCM-SHA256 bits=128/128); Fri, 07 Feb 2025 10:25:31 -0800 (PST) X-Relaying-Domain: iol.unh.edu Date: Fri, 07 Feb 2025 10:25:31 -0800 (PST) Message-ID: <67a6501b.050a0220.34bb88.da76SMTPIN_ADDED_MISSING@mx.google.com> Received: from [172.21.0.13] (unknown [172.18.0.240]) by postal.iol.unh.edu (Postfix) with ESMTP id A42F26052483; Fri, 7 Feb 2025 13:25:00 -0500 (EST) Subject: |WARNING| pw149284 [PATCH] net/virtio: fix Rx checksum calculation From: dpdklab@iol.unh.edu To: Test Report Cc: dpdk-test-reports@iol.unh.edu In-Reply-To: <20241217153253.457646-1-maxime.coquelin@redhat.com> References: <20241217153253.457646-1-maxime.coquelin@redhat.com> Content-Type: text/plain X-BeenThere: test-report@dpdk.org X-Mailman-Version: 2.1.29 Precedence: list List-Id: automatic DPDK test reports List-Unsubscribe: , List-Archive: List-Post: List-Help: List-Subscribe: , Errors-To: test-report-bounces@dpdk.org Test-Label: iol-compile-amd64-testing Test-Status: WARNING http://dpdk.org/patch/149284 _Testing issues_ Submitter: Maxime Coquelin Date: Tuesday, December 17 2024 15:32:53 DPDK git baseline: Repo:dpdk Branch: master CommitID:510b460e02594a70d4ce19e2d29df3ade8af36d7 149284 --> testing issues Test environment and result as below: +---------------------+--------------------+------------------+-------------------+-------------------+-------------------------+----------------------+ | Environment | dpdk_meson_compile | dpdk_compile_ovs | dpdk_compile_spdk | dpdk_msvc_compile | dpdk_llvm_clang_compile | dpdk_mingw64_compile | +=====================+====================+==================+===================+===================+=========================+======================+ | CentOS Stream 9 | PASS | PASS | PASS | SKIPPED | SKIPPED | SKIPPED | +---------------------+--------------------+------------------+-------------------+-------------------+-------------------------+----------------------+ | Debian 12 | PASS | PASS | PASS | SKIPPED | SKIPPED | SKIPPED | +---------------------+--------------------+------------------+-------------------+-------------------+-------------------------+----------------------+ | Fedora 39 (Clang) | PASS | PASS | PASS | SKIPPED | SKIPPED | SKIPPED | +---------------------+--------------------+------------------+-------------------+-------------------+-------------------------+----------------------+ | Fedora 40 | PASS | PASS | PASS | SKIPPED | SKIPPED | SKIPPED | +---------------------+--------------------+------------------+-------------------+-------------------+-------------------------+----------------------+ | RHEL9 | PASS | PASS | SKIPPED | SKIPPED | SKIPPED | SKIPPED | +---------------------+--------------------+------------------+-------------------+-------------------+-------------------------+----------------------+ | Ubuntu 20.04 | PASS | SKIPPED | SKIPPED | SKIPPED | SKIPPED | SKIPPED | +---------------------+--------------------+------------------+-------------------+-------------------+-------------------------+----------------------+ | Ubuntu 22.04 | PASS | PASS | PASS | SKIPPED | SKIPPED | SKIPPED | +---------------------+--------------------+------------------+-------------------+-------------------+-------------------------+----------------------+ | Alpine | PASS | PASS | SKIPPED | SKIPPED | SKIPPED | SKIPPED | +---------------------+--------------------+------------------+-------------------+-------------------+-------------------------+----------------------+ | FreeBSD 13.4 | PASS | SKIPPED | SKIPPED | SKIPPED | SKIPPED | SKIPPED | +---------------------+--------------------+------------------+-------------------+-------------------+-------------------------+----------------------+ | FreeBSD 14.2 | PASS | SKIPPED | SKIPPED | SKIPPED | SKIPPED | SKIPPED | +---------------------+--------------------+------------------+-------------------+-------------------+-------------------------+----------------------+ | Fedora 39 | PASS | PASS | PASS | SKIPPED | SKIPPED | SKIPPED | +---------------------+--------------------+------------------+-------------------+-------------------+-------------------------+----------------------+ | openSUSE Leap 15 | PASS | WARN | SKIPPED | SKIPPED | SKIPPED | SKIPPED | +---------------------+--------------------+------------------+-------------------+-------------------+-------------------------+----------------------+ | Windows Server 2022 | SKIPPED | SKIPPED | SKIPPED | PASS | PASS | PASS | +---------------------+--------------------+------------------+-------------------+-------------------+-------------------------+----------------------+ ==== 20 line log output for openSUSE Leap 15 (dpdk_compile_ovs): ==== --- Failed to get log output --- ==== End log output ==== CentOS Stream 9 Kernel: Depends on container host Compiler: gcc 11.5.0 20240719 (Red Hat 11.5.0-2) Debian 12 Kernel: Depends on container host Compiler: gcc (Debian 12.2.0-14) 12.2.0 Fedora 39 (Clang) Kernel: Depends on container host Compiler: clang 17.0.6 (Fedora 17.0.6-2.fc39) Fedora 40 Kernel: Depends on container host Compiler: gcc 14.2.1 20240912 (Red Hat 14.2.1-3) RHEL9 Kernel: Depends on container host Compiler: gcc 11.5.0 20240719 (Red Hat 11.5.0-2) Ubuntu 20.04 Kernel: Depends on container host Compiler: gcc (Ubuntu 9.4.0-1ubuntu1~20.04.2) 9.4.0 Ubuntu 22.04 Kernel: Depends on container host Compiler: gcc (Ubuntu 11.4.0-1ubuntu1~22.04) 11.4.0 Alpine Kernel: Depends on container host Compiler: gcc (Alpine 14.2.0) 14.2.0 FreeBSD 13.4 Kernel: 13.4-RELEASE-p1 Compiler: clang 18.1.6 FreeBSD 14.2 Kernel: 14.2-RELEASE Compiler: clang 18.1.6 Fedora 39 Kernel: Depends on container host Compiler: gcc 13.3.1 20240522 (Red Hat 13.3.1-1) openSUSE Leap 15 Kernel: Depends on container host Compiler: gcc (SUSE Linux) 7.5.0 Windows Server 2022 Kernel: 10.0.20348.2031 Compiler: clang 15.0.7, gcc 14.1.0 (MinGW), and MSVC VS 19.39.33521 To view detailed results, visit: https://lab.dpdk.org/results/dashboard/patchsets/32153/ UNH-IOL DPDK Community Lab To manage your email subscriptions, visit: https://lab.dpdk.org/results/dashboard/preferences/subscriptions/