From mboxrd@z Thu Jan 1 00:00:00 1970 Return-Path: Received: from mails.dpdk.org (mails.dpdk.org [217.70.189.124]) by inbox.dpdk.org (Postfix) with ESMTP id 95AB0461BE for ; Fri, 7 Feb 2025 19:25:47 +0100 (CET) Received: from mails.dpdk.org (localhost [127.0.0.1]) by mails.dpdk.org (Postfix) with ESMTP id 9351B42EEE; Fri, 7 Feb 2025 19:25:47 +0100 (CET) Received: from mail-ot1-f99.google.com (mail-ot1-f99.google.com [209.85.210.99]) by mails.dpdk.org (Postfix) with ESMTP id 232BE42EE7 for ; Fri, 7 Feb 2025 19:25:46 +0100 (CET) Received: by mail-ot1-f99.google.com with SMTP id 46e09a7af769-71e3005916aso723216a34.2 for ; Fri, 07 Feb 2025 10:25:46 -0800 (PST) DKIM-Signature: v=1; a=rsa-sha256; c=relaxed/relaxed; d=iol.unh.edu; s=unh-iol; t=1738952745; x=1739557545; darn=dpdk.org; h=references:in-reply-to:cc:to:from:subject:message-id:date:from:to :cc:subject:date:message-id:reply-to; bh=M15ayzfWEoyWUN/nEORZ51XHUSXTwj066nvEFCsyF0k=; b=Qk/IWqjF3RcgGyeMg73EwhExScdvbZXnpATGl9CxJvUSsbws0pBKg0xiGszWr4kvnh i7K5Oc7ciPIsotU0ky8Aq+xbBMhzRbpzKWfZUt6wZ+QAY8Y8awoXvT5hFgOLKhAWH3dB w7qhj9g5hy818ihxlN19eF8VnaSc6M2U5L11Y= X-Google-DKIM-Signature: v=1; a=rsa-sha256; c=relaxed/relaxed; d=1e100.net; s=20230601; t=1738952745; x=1739557545; h=references:in-reply-to:cc:to:from:subject:message-id:date :x-gm-message-state:from:to:cc:subject:date:message-id:reply-to; bh=M15ayzfWEoyWUN/nEORZ51XHUSXTwj066nvEFCsyF0k=; b=VbnNkx3FPxjiipV2DwDFFHWqOPkOA35s0PTup7c19mXwtbJTaVSMlXHEYxTPorsvKe ceesfczKwRbC98vym41mEg2ppBqWiFr0v4T237Irw4PoRECc3pWjpkiEHz8lqoRWvNX2 XsD5QOBZR9W8VY6vpdm1L3a4Pjma847Z3V96BNaFj7BVswjBF9wuCV0g2Z8VMUkUha8b r8XVnB/HR78wBf3iMeGOcwzhEd2x+g8OKATZmGUGC5YeXBZWiUu2YmDQJLB28gub6tUI bWrQP7ThCEPu8j1+q7TlDWhRFiZR06nioxuXmdExvoUpAFn5jv8NqiWppbgQQGCcIxJt PKxA== X-Gm-Message-State: AOJu0YzeRdzeFs3DU2LdmO8PxNlQ2oefunZKr84oayyj+uH5Q/ZvVd6E bGE85Z0t4uPrrDlMIZxZy6Mc2fV7TKJ0AWimGXdG2TXfNfF5kukuQz55/aiRZMkGhQOFaB/LhNP FrC3HSAjQZoXxKHpPL2shZxOAp82M4alT8ynhKKVY X-Gm-Gg: ASbGnctH4AObSI8q/eWt1QKpaboApMFwi0NtzAdg/SL4YtdXaXqjDDddtkaKlIPolld uGEFFbxP8cXCtJzYzPf/OiL+6QQtu80zzmWNOQP1cqVQV14MXLT6muMNeY39CYCQUga4gKoB8Sx lWJ1vCG+wZsmXMzuHZPXnRrOmO/4yfW/qBL65rXFe7qB7g09Rf+icEFBYbvbGPtUo+WRiXGug4u RpUfBUxRVq4JdlSw2xrjf63mW2wyZu4E/eT8UrPgvwEZLBG/O2pA0WPySYqVya75TOsN9fqCm/9 RjohPze2G9mEUpDGJjr/mb8ejQMcaA== X-Google-Smtp-Source: AGHT+IF0WfP3dFA6/SvQANOGi8LBQzkHMavlwEHRtmoh6jaDpshTSCAK7fb+tEpEUUCkPD4IXU64BqucC/x8 X-Received: by 2002:a05:6830:d0a:b0:71e:223c:1789 with SMTP id 46e09a7af769-726b88459c2mr3199605a34.16.1738952745306; Fri, 07 Feb 2025 10:25:45 -0800 (PST) Received: from postal.iol.unh.edu (postal.iol.unh.edu. [132.177.123.84]) by smtp-relay.gmail.com with ESMTPS id 46e09a7af769-726af932637sm201070a34.4.2025.02.07.10.25.45 (version=TLS1_2 cipher=ECDHE-ECDSA-AES128-GCM-SHA256 bits=128/128); Fri, 07 Feb 2025 10:25:45 -0800 (PST) X-Relaying-Domain: iol.unh.edu Date: Fri, 07 Feb 2025 10:25:45 -0800 (PST) Message-ID: <67a65029.050a0220.18e51b.a334SMTPIN_ADDED_MISSING@mx.google.com> Received: from [172.21.0.9] (unknown [172.18.0.240]) by postal.iol.unh.edu (Postfix) with ESMTP id C58136052477; Fri, 7 Feb 2025 13:25:44 -0500 (EST) Subject: |WARNING| pw149259 [PATCH] [v2] eventdev: add port attribute for ind From: dpdklab@iol.unh.edu To: Test Report Cc: dpdk-test-reports@iol.unh.edu In-Reply-To: <20241216203313.31730-1-pravin.pathak@intel.com> References: <20241216203313.31730-1-pravin.pathak@intel.com> Content-Type: text/plain X-BeenThere: test-report@dpdk.org X-Mailman-Version: 2.1.29 Precedence: list List-Id: automatic DPDK test reports List-Unsubscribe: , List-Archive: List-Post: List-Help: List-Subscribe: , Errors-To: test-report-bounces@dpdk.org Test-Label: iol-compile-amd64-testing Test-Status: WARNING http://dpdk.org/patch/149259 _Testing issues_ Submitter: Pathak, Pravin Date: Monday, December 16 2024 20:33:13 DPDK git baseline: Repo:dpdk Branch: master CommitID:1b3bf1128d9bda5595861814792f74b8f57160c8 149259 --> testing issues Test environment and result as below: +---------------------+--------------------+------------------+-------------------+-------------------------+----------------------+-------------------+ | Environment | dpdk_meson_compile | dpdk_compile_ovs | dpdk_compile_spdk | dpdk_llvm_clang_compile | dpdk_mingw64_compile | dpdk_msvc_compile | +=====================+====================+==================+===================+=========================+======================+===================+ | CentOS Stream 9 | PASS | PASS | PASS | SKIPPED | SKIPPED | SKIPPED | +---------------------+--------------------+------------------+-------------------+-------------------------+----------------------+-------------------+ | Fedora 39 (Clang) | PASS | PASS | PASS | SKIPPED | SKIPPED | SKIPPED | +---------------------+--------------------+------------------+-------------------+-------------------------+----------------------+-------------------+ | Fedora 39 | PASS | PASS | PASS | SKIPPED | SKIPPED | SKIPPED | +---------------------+--------------------+------------------+-------------------+-------------------------+----------------------+-------------------+ | openSUSE Leap 15 | PASS | WARN | SKIPPED | SKIPPED | SKIPPED | SKIPPED | +---------------------+--------------------+------------------+-------------------+-------------------------+----------------------+-------------------+ | RHEL9 | PASS | PASS | SKIPPED | SKIPPED | SKIPPED | SKIPPED | +---------------------+--------------------+------------------+-------------------+-------------------------+----------------------+-------------------+ | Ubuntu 22.04 | PASS | PASS | PASS | SKIPPED | SKIPPED | SKIPPED | +---------------------+--------------------+------------------+-------------------+-------------------------+----------------------+-------------------+ | FreeBSD 14.2 | PASS | SKIPPED | SKIPPED | SKIPPED | SKIPPED | SKIPPED | +---------------------+--------------------+------------------+-------------------+-------------------------+----------------------+-------------------+ | Debian 12 | PASS | PASS | PASS | SKIPPED | SKIPPED | SKIPPED | +---------------------+--------------------+------------------+-------------------+-------------------------+----------------------+-------------------+ | Fedora 40 | PASS | PASS | PASS | SKIPPED | SKIPPED | SKIPPED | +---------------------+--------------------+------------------+-------------------+-------------------------+----------------------+-------------------+ | FreeBSD 13.4 | PASS | SKIPPED | SKIPPED | SKIPPED | SKIPPED | SKIPPED | +---------------------+--------------------+------------------+-------------------+-------------------------+----------------------+-------------------+ | Alpine | PASS | PASS | SKIPPED | SKIPPED | SKIPPED | SKIPPED | +---------------------+--------------------+------------------+-------------------+-------------------------+----------------------+-------------------+ | Ubuntu 20.04 | PASS | SKIPPED | SKIPPED | SKIPPED | SKIPPED | SKIPPED | +---------------------+--------------------+------------------+-------------------+-------------------------+----------------------+-------------------+ | Ubuntu 24.04 | PASS | PASS | PASS | SKIPPED | SKIPPED | SKIPPED | +---------------------+--------------------+------------------+-------------------+-------------------------+----------------------+-------------------+ | RHEL8 | PASS | PASS | SKIPPED | SKIPPED | SKIPPED | SKIPPED | +---------------------+--------------------+------------------+-------------------+-------------------------+----------------------+-------------------+ | Windows Server 2022 | SKIPPED | SKIPPED | SKIPPED | PASS | PASS | PASS | +---------------------+--------------------+------------------+-------------------+-------------------------+----------------------+-------------------+ ==== 20 line log output for openSUSE Leap 15 (dpdk_compile_ovs): ==== --- Failed to get log output --- ==== End log output ==== CentOS Stream 9 Kernel: Depends on container host Compiler: gcc 11.5.0 20240719 (Red Hat 11.5.0-2) Fedora 39 (Clang) Kernel: Depends on container host Compiler: clang 17.0.6 (Fedora 17.0.6-2.fc39) Fedora 39 Kernel: Depends on container host Compiler: gcc 13.3.1 20240522 (Red Hat 13.3.1-1) openSUSE Leap 15 Kernel: Depends on container host Compiler: gcc (SUSE Linux) 7.5.0 RHEL9 Kernel: Depends on container host Compiler: gcc 11.5.0 20240719 (Red Hat 11.5.0-2) Ubuntu 22.04 Kernel: Depends on container host Compiler: gcc (Ubuntu 11.4.0-1ubuntu1~22.04) 11.4.0 FreeBSD 14.2 Kernel: 14.2-RELEASE Compiler: clang 18.1.6 Debian 12 Kernel: Depends on container host Compiler: gcc (Debian 12.2.0-14) 12.2.0 Fedora 40 Kernel: Depends on container host Compiler: gcc 14.2.1 20240912 (Red Hat 14.2.1-3) FreeBSD 13.4 Kernel: 13.4-RELEASE-p1 Compiler: clang 18.1.6 Alpine Kernel: Depends on container host Compiler: gcc (Alpine 14.2.0) 14.2.0 Ubuntu 20.04 Kernel: Depends on container host Compiler: gcc (Ubuntu 9.4.0-1ubuntu1~20.04.2) 9.4.0 Ubuntu 24.04 Kernel: Depends on container host Compiler: gcc (Ubuntu 13.3.0-6ubuntu2~24.04) 13.3.0 RHEL8 Kernel: Depends on container host Compiler: gcc 8.5.0 20210514 (Red Hat 8.5.0-22) Windows Server 2022 Kernel: 10.0.20348.2031 Compiler: clang 15.0.7, gcc 14.1.0 (MinGW), and MSVC VS 19.39.33521 To view detailed results, visit: https://lab.dpdk.org/results/dashboard/patchsets/32150/ UNH-IOL DPDK Community Lab To manage your email subscriptions, visit: https://lab.dpdk.org/results/dashboard/preferences/subscriptions/