From mboxrd@z Thu Jan 1 00:00:00 1970 Return-Path: Received: from mails.dpdk.org (mails.dpdk.org [217.70.189.124]) by inbox.dpdk.org (Postfix) with ESMTP id B0D59461BE for ; Fri, 7 Feb 2025 19:25:59 +0100 (CET) Received: from mails.dpdk.org (localhost [127.0.0.1]) by mails.dpdk.org (Postfix) with ESMTP id AB71642EEE; Fri, 7 Feb 2025 19:25:59 +0100 (CET) Received: from mail-qv1-f99.google.com (mail-qv1-f99.google.com [209.85.219.99]) by mails.dpdk.org (Postfix) with ESMTP id D2B8C42EEB for ; Fri, 7 Feb 2025 19:25:57 +0100 (CET) Received: by mail-qv1-f99.google.com with SMTP id 6a1803df08f44-6e436c59113so20838506d6.3 for ; Fri, 07 Feb 2025 10:25:57 -0800 (PST) DKIM-Signature: v=1; a=rsa-sha256; c=relaxed/relaxed; d=iol.unh.edu; s=unh-iol; t=1738952757; x=1739557557; darn=dpdk.org; h=cc:to:from:subject:message-id:date:from:to:cc:subject:date :message-id:reply-to; bh=zo1SIjPiUC1gUY6UPXXMz3FtaZGwfkped5Ncx3L64xM=; b=CpUl21XU/Ew1iYxK+UNPhpBv1nGXPdWtQzP86/Me2CNsZ6Gs+x0bSl/wRUEumwkHIO t2vATbkR+yMOBI6+HuC3fh047reWxU8NbWuwL3m6GiZGlv746nyH/PjvgSEJf4gyCSI/ BsZf/NSqr/kFzqBW0lQcpmr4UCKySnKZRePBg= X-Google-DKIM-Signature: v=1; a=rsa-sha256; c=relaxed/relaxed; d=1e100.net; s=20230601; t=1738952757; x=1739557557; h=cc:to:from:subject:message-id:date:x-gm-message-state:from:to:cc :subject:date:message-id:reply-to; bh=zo1SIjPiUC1gUY6UPXXMz3FtaZGwfkped5Ncx3L64xM=; b=mdhqP4md0T0STDM4fOYj4UcJ8JyMHT5VuMK812BmTHS7uJ2QvcrBIyl3g6bG4xRfXJ dfbfWhAAOOw2P2m1Zlf+re6TTyOwGdTW5Oi2LXfaCkQLfZjrNAD2veS1ZIzX7ElGYAhK X8UAT57Rp1n9ndcA7fjM01duyDLrp4yg/We1fZkS+beryCsMz4gueAy3GgWWCwQo7p1h zQyQVO3XVlOdBRn0jsInP5Fcgxl3UevkXJpAHcYQdhlArge07rbU5Wpx0Lzzi8vRzbWh K6+8lq8NdVu1pfurLln8fa9fb2RzcLaKZMy1R3KvQirCF3BgwbVBF33Iak2ndr7N/XKa +Y8w== X-Gm-Message-State: AOJu0Yz5VGTu2ZmsnIrooDLttWFkjJSQh9zdz16NC1h2NCGxFb9/EphC XXij6niZ+OIF4hlRxvd3b1es8s2/W3c8fSHFs5fyGKFxkNPOtN4bk86t4iC0glVE9VBPGKprf7T NlAU2f9WAXrFOQ3Hn3pAYDmJV1EAGUZFy X-Gm-Gg: ASbGncsQ4gmqIIGh6U7aIUEWBASjKYQTFcAq6WIOBFYmg3BF7fbPvD1hKGPfTAdAVx1 on/3/Ehde9zC5V05RQSDZJEkWHMp4+GaGUq3B8xbfwNBDajUCXNXNBDAnP46iML3zUo68pX4z7w aE6Vrdvuf82CYdA9IhoMFmeoSuMOS1x15Gl+sTmaSPg3Bz8/Z0vcLtQDiDaoqc8LmRhPZ1bpCcH TI0XHhjgNtXRINAeDvLZW4kmbgoXeYH1qT9hX8KCe7RwI5c0lyxOUWc+jmoJi+acybpx5W10UH5 k7kQZIkxCT47pArR9Y6skn6Q1L325g== X-Google-Smtp-Source: AGHT+IFOW7vUcwNjrVnSl56ITn8bmUokmbrzJW4RVXBZ0W2JYRL9/9gtSOXapuPtQe+ZO2ET7rVFjka8L6MH X-Received: by 2002:a05:6214:c6e:b0:6e4:269f:60fd with SMTP id 6a1803df08f44-6e445681b9dmr54127216d6.23.1738952757257; Fri, 07 Feb 2025 10:25:57 -0800 (PST) Received: from postal.iol.unh.edu (postal.iol.unh.edu. [132.177.123.84]) by smtp-relay.gmail.com with ESMTPS id 6a1803df08f44-6e43baf1098sm2362896d6.55.2025.02.07.10.25.57 (version=TLS1_2 cipher=ECDHE-ECDSA-AES128-GCM-SHA256 bits=128/128); Fri, 07 Feb 2025 10:25:57 -0800 (PST) X-Relaying-Domain: iol.unh.edu Date: Fri, 07 Feb 2025 10:25:57 -0800 (PST) Message-ID: <67a65035.050a0220.2131a5.c7bcSMTPIN_ADDED_MISSING@mx.google.com> Received: from [172.21.0.6] (unknown [172.18.0.240]) by postal.iol.unh.edu (Postfix) with ESMTP id F24456052477; Fri, 7 Feb 2025 13:25:56 -0500 (EST) Subject: |WARNING| [GIT MASTER] 39bcde2d05afc0f904f906182be1e659b60ceeb7 From: dpdklab@iol.unh.edu To: Test Report Cc: dpdk-test-reports@iol.unh.edu, Xueming Li , Christian Ehrhardt , Kevin Traynor , Luca Boccassi Content-Type: text/plain X-BeenThere: test-report@dpdk.org X-Mailman-Version: 2.1.29 Precedence: list List-Id: automatic DPDK test reports List-Unsubscribe: , List-Archive: List-Post: List-Help: List-Subscribe: , Errors-To: test-report-bounces@dpdk.org _Testing issues_ Branch: tags/v23.11 39bcde2d05afc0f904f906182be1e659b60ceeb7 --> testing issues Test environment and result as below: +---------------------+--------------------+------------------+-------------------+-------------------+-------------------------+----------------------+ | Environment | dpdk_meson_compile | dpdk_compile_ovs | dpdk_compile_spdk | dpdk_msvc_compile | dpdk_llvm_clang_compile | dpdk_mingw64_compile | +=====================+====================+==================+===================+===================+=========================+======================+ | Fedora 39 | PASS | PASS | PASS | SKIPPED | SKIPPED | SKIPPED | +---------------------+--------------------+------------------+-------------------+-------------------+-------------------------+----------------------+ | Fedora 40 (Clang) | PASS | PASS | PASS | SKIPPED | SKIPPED | SKIPPED | +---------------------+--------------------+------------------+-------------------+-------------------+-------------------------+----------------------+ | Fedora 40 | PASS | PASS | PASS | SKIPPED | SKIPPED | SKIPPED | +---------------------+--------------------+------------------+-------------------+-------------------+-------------------------+----------------------+ | openSUSE Leap 15 | PASS | WARN | SKIPPED | SKIPPED | SKIPPED | SKIPPED | +---------------------+--------------------+------------------+-------------------+-------------------+-------------------------+----------------------+ | RHEL8 | PASS | PASS | SKIPPED | SKIPPED | SKIPPED | SKIPPED | +---------------------+--------------------+------------------+-------------------+-------------------+-------------------------+----------------------+ | RHEL9 | PASS | PASS | SKIPPED | SKIPPED | SKIPPED | SKIPPED | +---------------------+--------------------+------------------+-------------------+-------------------+-------------------------+----------------------+ | Ubuntu 20.04 | PASS | SKIPPED | SKIPPED | SKIPPED | SKIPPED | SKIPPED | +---------------------+--------------------+------------------+-------------------+-------------------+-------------------------+----------------------+ | Ubuntu 24.04 | PASS | PASS | PASS | SKIPPED | SKIPPED | SKIPPED | +---------------------+--------------------+------------------+-------------------+-------------------+-------------------------+----------------------+ | Alpine | PASS | PASS | SKIPPED | SKIPPED | SKIPPED | SKIPPED | +---------------------+--------------------+------------------+-------------------+-------------------+-------------------------+----------------------+ | FreeBSD 13.4 | PASS | SKIPPED | SKIPPED | SKIPPED | SKIPPED | SKIPPED | +---------------------+--------------------+------------------+-------------------+-------------------+-------------------------+----------------------+ | FreeBSD 14.2 | PASS | SKIPPED | SKIPPED | SKIPPED | SKIPPED | SKIPPED | +---------------------+--------------------+------------------+-------------------+-------------------+-------------------------+----------------------+ | CentOS Stream 9 | PASS | PASS | PASS | SKIPPED | SKIPPED | SKIPPED | +---------------------+--------------------+------------------+-------------------+-------------------+-------------------------+----------------------+ | Fedora 39 (Clang) | PASS | PASS | PASS | SKIPPED | SKIPPED | SKIPPED | +---------------------+--------------------+------------------+-------------------+-------------------+-------------------------+----------------------+ | Debian 12 | PASS | PASS | PASS | SKIPPED | SKIPPED | SKIPPED | +---------------------+--------------------+------------------+-------------------+-------------------+-------------------------+----------------------+ | Ubuntu 22.04 | PASS | PASS | PASS | SKIPPED | SKIPPED | SKIPPED | +---------------------+--------------------+------------------+-------------------+-------------------+-------------------------+----------------------+ | Windows Server 2022 | SKIPPED | SKIPPED | SKIPPED | PASS | PASS | PASS | +---------------------+--------------------+------------------+-------------------+-------------------+-------------------------+----------------------+ ==== 20 line log output for openSUSE Leap 15 (dpdk_compile_ovs): ==== --- Failed to get log output --- ==== End log output ==== Fedora 39 Kernel: Depends on container host Compiler: gcc 13.3.1 20240522 (Red Hat 13.3.1-1) Fedora 40 (Clang) Kernel: Depends on container host Compiler: clang 18.1.8 (Fedora 18.1.8-1.fc40) Fedora 40 Kernel: Depends on container host Compiler: gcc 14.2.1 20240912 (Red Hat 14.2.1-3) openSUSE Leap 15 Kernel: Depends on container host Compiler: gcc (SUSE Linux) 7.5.0 RHEL8 Kernel: Depends on container host Compiler: gcc 8.5.0 20210514 (Red Hat 8.5.0-22) RHEL9 Kernel: Depends on container host Compiler: gcc 11.5.0 20240719 (Red Hat 11.5.0-2) Ubuntu 20.04 Kernel: Depends on container host Compiler: gcc (Ubuntu 9.4.0-1ubuntu1~20.04.2) 9.4.0 Ubuntu 24.04 Kernel: Depends on container host Compiler: gcc (Ubuntu 13.3.0-6ubuntu2~24.04) 13.3.0 Alpine Kernel: Depends on container host Compiler: gcc (Alpine 14.2.0) 14.2.0 FreeBSD 13.4 Kernel: 13.4-RELEASE-p1 Compiler: clang 18.1.6 FreeBSD 14.2 Kernel: 14.2-RELEASE Compiler: clang 18.1.6 CentOS Stream 9 Kernel: Depends on container host Compiler: gcc 11.5.0 20240719 (Red Hat 11.5.0-2) Fedora 39 (Clang) Kernel: Depends on container host Compiler: clang 17.0.6 (Fedora 17.0.6-2.fc39) Debian 12 Kernel: Depends on container host Compiler: gcc (Debian 12.2.0-14) 12.2.0 Ubuntu 22.04 Kernel: Depends on container host Compiler: gcc (Ubuntu 11.4.0-1ubuntu1~22.04) 11.4.0 Windows Server 2022 Kernel: 10.0.20348.2031 Compiler: clang 15.0.7, gcc 14.1.0 (MinGW), and MSVC VS 19.39.33521 To view detailed results, visit: https://lab.dpdk.org/results/dashboard/tarballs/31947/ UNH-IOL DPDK Community Lab To manage your email subscriptions, visit: https://lab.dpdk.org/results/dashboard/preferences/subscriptions/