From mboxrd@z Thu Jan 1 00:00:00 1970 Return-Path: Received: from mails.dpdk.org (mails.dpdk.org [217.70.189.124]) by inbox.dpdk.org (Postfix) with ESMTP id BF6AC461BE for ; Fri, 7 Feb 2025 19:26:01 +0100 (CET) Received: from mails.dpdk.org (localhost [127.0.0.1]) by mails.dpdk.org (Postfix) with ESMTP id BCC9F42EEB; Fri, 7 Feb 2025 19:26:01 +0100 (CET) Received: from mail-pl1-f227.google.com (mail-pl1-f227.google.com [209.85.214.227]) by mails.dpdk.org (Postfix) with ESMTP id 0972142EF1 for ; Fri, 7 Feb 2025 19:26:00 +0100 (CET) Received: by mail-pl1-f227.google.com with SMTP id d9443c01a7336-21f40f2bafdso28176645ad.3 for ; Fri, 07 Feb 2025 10:25:59 -0800 (PST) DKIM-Signature: v=1; a=rsa-sha256; c=relaxed/relaxed; d=iol.unh.edu; s=unh-iol; t=1738952759; x=1739557559; darn=dpdk.org; h=cc:to:from:subject:message-id:date:from:to:cc:subject:date :message-id:reply-to; bh=x61btka+9hPDJ5aMOFdMV/37LvKjPrjyS3KYcrFGGs0=; b=VO+UnD9ujVMBsKzqyXMA8ErLI6PMioOQmd6i1QV2xpDzD/nuRRrashfPIoGlfEzBMe U1ES8vFAX/WfLalMZvBmJJwZ5ifcnwMOcRsRCDdOoK1myZACsZws64y8grqW79RC3xM8 jrZ5bKfSvZit6yUJJCDz9Wq9vElBQLtl/hmEc= X-Google-DKIM-Signature: v=1; a=rsa-sha256; c=relaxed/relaxed; d=1e100.net; s=20230601; t=1738952759; x=1739557559; h=cc:to:from:subject:message-id:date:x-gm-message-state:from:to:cc :subject:date:message-id:reply-to; bh=x61btka+9hPDJ5aMOFdMV/37LvKjPrjyS3KYcrFGGs0=; b=Z65K0nomGM1lgLaSp8Y3WZNHj7jZL8jqSbhIh8u4RNY8weBm7KP+H70YPUU8ruuu1p SxtySHjNfVYimraFjbNzFMmv3YiMHT9QnyCzTGsmfPVv9R5xh7q7Ecq4XQSWGpFR6GYu qtbp1DD1Fm1dF65gJYMJTZdEY6hl1t1lMRy6z4WGIoPeqNA521lcRwGHBrThuPORX+aX 5z2YGb6vXITOav5Cd6Iqgdw3z9rdynvwlWbls5RgqRKSM42xLDKJG8eknPpJ/aK+Ov6d 5iHEPilaVAPNB1m8CSD0yJTdOFmZ3+6M6mALt+Zk+LL4F833BpjoICKuHCohYkhCeIQk 3R4A== X-Gm-Message-State: AOJu0YwONkPuVtk9uLhCCe/ZaBgzO9Dnhzm64TlLUGOWbRuI7eX1i7Md Q0+gTTX+bSxeTvX1XNO0P0d8wpI30NXnJaryrQlCwCwzJ99WNXtwaqDbHETsD8KOdGUBUBBPLpF quR8G7oPlcOkf3b9K5RU7KAgdDv9Hs9iTNKWnq26b X-Gm-Gg: ASbGncuzK0/oAiWtOvvwlEGDb9o18R3chExR7zmLBn4q8w96bxiNF54N6C+BiCwrbJD WOBzvmUAXTENmOCiddqn/yUceJ2RuoHql7BlWpRy6YIJCeMVUApMSeyWNxb6w00hvfoJUCVdBhX lfXGcbNkAJbvlm+sXdSXIIuQOYBjGmwrWsEbPvxaEZd1K8ckarj0N6swNDHQsy8fpjnXtgFHoKf Xd4JNC6GsytyjHpZBpSJsH0weBZ0askOnZvawkst7lLMpFk9BJdm6a7THLyxQTSff7InSQGABOU nr05kCZ2tuxzQoPxp2rzzjxIZZn2yA== X-Google-Smtp-Source: AGHT+IG8aBeVeL0zVhIzYhmn92YfdvtyKbGo/QxtOBVF2uwwnozi+8Lmcmqa3GhmVqzXzkYucSdf9Mb+Zgyf X-Received: by 2002:a17:902:d502:b0:215:b058:289c with SMTP id d9443c01a7336-21f4e6a11afmr56027225ad.8.1738952759245; Fri, 07 Feb 2025 10:25:59 -0800 (PST) Received: from postal.iol.unh.edu (postal.iol.unh.edu. [132.177.123.84]) by smtp-relay.gmail.com with ESMTPS id d9443c01a7336-21f3656d5adsm2018625ad.54.2025.02.07.10.25.59 (version=TLS1_2 cipher=ECDHE-ECDSA-AES128-GCM-SHA256 bits=128/128); Fri, 07 Feb 2025 10:25:59 -0800 (PST) X-Relaying-Domain: iol.unh.edu Date: Fri, 07 Feb 2025 10:25:59 -0800 (PST) Message-ID: <67a65037.170a0220.2acdbc.a5a1SMTPIN_ADDED_MISSING@mx.google.com> Received: from [172.21.0.7] (unknown [172.18.0.240]) by postal.iol.unh.edu (Postfix) with ESMTP id 7250C6052477; Fri, 7 Feb 2025 13:25:58 -0500 (EST) Subject: |WARNING| [GIT MASTER] 78d0246a2e2fb14cba220d507192d12d2ce896ac From: dpdklab@iol.unh.edu To: Test Report Cc: dpdk-test-reports@iol.unh.edu, Stephen Hemminger Content-Type: text/plain X-BeenThere: test-report@dpdk.org X-Mailman-Version: 2.1.29 Precedence: list List-Id: automatic DPDK test reports List-Unsubscribe: , List-Archive: List-Post: List-Help: List-Subscribe: , Errors-To: test-report-bounces@dpdk.org _Testing issues_ Branch: dpdk-next-net 78d0246a2e2fb14cba220d507192d12d2ce896ac --> testing issues Test environment and result as below: +---------------------+--------------------+------------------+-------------------+-------------------+-------------------------+----------------------+ | Environment | dpdk_meson_compile | dpdk_compile_ovs | dpdk_compile_spdk | dpdk_msvc_compile | dpdk_llvm_clang_compile | dpdk_mingw64_compile | +=====================+====================+==================+===================+===================+=========================+======================+ | Debian 12 | PASS | PASS | PASS | SKIPPED | SKIPPED | SKIPPED | +---------------------+--------------------+------------------+-------------------+-------------------+-------------------------+----------------------+ | Fedora 40 (Clang) | PASS | PASS | PASS | SKIPPED | SKIPPED | SKIPPED | +---------------------+--------------------+------------------+-------------------+-------------------+-------------------------+----------------------+ | Fedora 40 | PASS | PASS | PASS | SKIPPED | SKIPPED | SKIPPED | +---------------------+--------------------+------------------+-------------------+-------------------+-------------------------+----------------------+ | openSUSE Leap 15 | PASS | WARN | SKIPPED | SKIPPED | SKIPPED | SKIPPED | +---------------------+--------------------+------------------+-------------------+-------------------+-------------------------+----------------------+ | RHEL8 | PASS | PASS | SKIPPED | SKIPPED | SKIPPED | SKIPPED | +---------------------+--------------------+------------------+-------------------+-------------------+-------------------------+----------------------+ | Ubuntu 20.04 | PASS | SKIPPED | SKIPPED | SKIPPED | SKIPPED | SKIPPED | +---------------------+--------------------+------------------+-------------------+-------------------+-------------------------+----------------------+ | Ubuntu 22.04 | PASS | PASS | PASS | SKIPPED | SKIPPED | SKIPPED | +---------------------+--------------------+------------------+-------------------+-------------------+-------------------------+----------------------+ | Ubuntu 24.04 | PASS | PASS | PASS | SKIPPED | SKIPPED | SKIPPED | +---------------------+--------------------+------------------+-------------------+-------------------+-------------------------+----------------------+ | Alpine | PASS | PASS | SKIPPED | SKIPPED | SKIPPED | SKIPPED | +---------------------+--------------------+------------------+-------------------+-------------------+-------------------------+----------------------+ | FreeBSD 14.2 | PASS | SKIPPED | SKIPPED | SKIPPED | SKIPPED | SKIPPED | +---------------------+--------------------+------------------+-------------------+-------------------+-------------------------+----------------------+ | CentOS Stream 9 | PASS | PASS | PASS | SKIPPED | SKIPPED | SKIPPED | +---------------------+--------------------+------------------+-------------------+-------------------+-------------------------+----------------------+ | Fedora 39 | PASS | PASS | PASS | SKIPPED | SKIPPED | SKIPPED | +---------------------+--------------------+------------------+-------------------+-------------------+-------------------------+----------------------+ | Fedora 39 (Clang) | PASS | PASS | PASS | SKIPPED | SKIPPED | SKIPPED | +---------------------+--------------------+------------------+-------------------+-------------------+-------------------------+----------------------+ | FreeBSD 13.4 | PASS | SKIPPED | SKIPPED | SKIPPED | SKIPPED | SKIPPED | +---------------------+--------------------+------------------+-------------------+-------------------+-------------------------+----------------------+ | RHEL9 | PASS | PASS | SKIPPED | SKIPPED | SKIPPED | SKIPPED | +---------------------+--------------------+------------------+-------------------+-------------------+-------------------------+----------------------+ | Windows Server 2022 | SKIPPED | SKIPPED | SKIPPED | PASS | PASS | PASS | +---------------------+--------------------+------------------+-------------------+-------------------+-------------------------+----------------------+ ==== 20 line log output for openSUSE Leap 15 (dpdk_compile_ovs): ==== --- Failed to get log output --- ==== End log output ==== Debian 12 Kernel: Depends on container host Compiler: gcc (Debian 12.2.0-14) 12.2.0 Fedora 40 (Clang) Kernel: Depends on container host Compiler: clang 18.1.8 (Fedora 18.1.8-1.fc40) Fedora 40 Kernel: Depends on container host Compiler: gcc 14.2.1 20240912 (Red Hat 14.2.1-3) openSUSE Leap 15 Kernel: Depends on container host Compiler: gcc (SUSE Linux) 7.5.0 RHEL8 Kernel: Depends on container host Compiler: gcc 8.5.0 20210514 (Red Hat 8.5.0-22) Ubuntu 20.04 Kernel: Depends on container host Compiler: gcc (Ubuntu 9.4.0-1ubuntu1~20.04.2) 9.4.0 Ubuntu 22.04 Kernel: Depends on container host Compiler: gcc (Ubuntu 11.4.0-1ubuntu1~22.04) 11.4.0 Ubuntu 24.04 Kernel: Depends on container host Compiler: gcc (Ubuntu 13.3.0-6ubuntu2~24.04) 13.3.0 Alpine Kernel: Depends on container host Compiler: gcc (Alpine 14.2.0) 14.2.0 FreeBSD 14.2 Kernel: 14.2-RELEASE Compiler: clang 18.1.6 CentOS Stream 9 Kernel: Depends on container host Compiler: gcc 11.5.0 20240719 (Red Hat 11.5.0-2) Fedora 39 Kernel: Depends on container host Compiler: gcc 13.3.1 20240522 (Red Hat 13.3.1-1) Fedora 39 (Clang) Kernel: Depends on container host Compiler: clang 17.0.6 (Fedora 17.0.6-2.fc39) FreeBSD 13.4 Kernel: 13.4-RELEASE-p1 Compiler: clang 18.1.6 RHEL9 Kernel: Depends on container host Compiler: gcc 11.5.0 20240719 (Red Hat 11.5.0-2) Windows Server 2022 Kernel: 10.0.20348.2031 Compiler: clang 15.0.7, gcc 14.1.0 (MinGW), and MSVC VS 19.39.33521 To view detailed results, visit: https://lab.dpdk.org/results/dashboard/tarballs/31949/ UNH-IOL DPDK Community Lab To manage your email subscriptions, visit: https://lab.dpdk.org/results/dashboard/preferences/subscriptions/