From mboxrd@z Thu Jan 1 00:00:00 1970 Return-Path: Received: from mails.dpdk.org (mails.dpdk.org [217.70.189.124]) by inbox.dpdk.org (Postfix) with ESMTP id D9692461BE for ; Fri, 7 Feb 2025 19:26:10 +0100 (CET) Received: from mails.dpdk.org (localhost [127.0.0.1]) by mails.dpdk.org (Postfix) with ESMTP id D442042EE7; Fri, 7 Feb 2025 19:26:10 +0100 (CET) Received: from mail-ot1-f100.google.com (mail-ot1-f100.google.com [209.85.210.100]) by mails.dpdk.org (Postfix) with ESMTP id 72A1E42E90 for ; Fri, 7 Feb 2025 19:26:09 +0100 (CET) Received: by mail-ot1-f100.google.com with SMTP id 46e09a7af769-71e181fb288so1581024a34.2 for ; Fri, 07 Feb 2025 10:26:09 -0800 (PST) DKIM-Signature: v=1; a=rsa-sha256; c=relaxed/relaxed; d=iol.unh.edu; s=unh-iol; t=1738952769; x=1739557569; darn=dpdk.org; h=references:in-reply-to:cc:to:from:subject:message-id:date:from:to :cc:subject:date:message-id:reply-to; bh=wwaCerdbV5O6N70MZ5nsEnOtiufAG1TnAZ+U4VV75E4=; b=RT1DqLua4O/s++szV5vnBKbFHvttbKuhaLafhKQTcSjf4DA8pXgkylcV6/s0YIF0qC knao10EaT2pTUB5cF7R8e3tGWqJcFwQ9lzGyVkIdNwL2qO92YRRpEFP0ggslr1bi8ZAP Rezff9AdgBLf/n60Xr1JSqaEOBslmCH8BLydk= X-Google-DKIM-Signature: v=1; a=rsa-sha256; c=relaxed/relaxed; d=1e100.net; s=20230601; t=1738952769; x=1739557569; h=references:in-reply-to:cc:to:from:subject:message-id:date :x-gm-message-state:from:to:cc:subject:date:message-id:reply-to; bh=wwaCerdbV5O6N70MZ5nsEnOtiufAG1TnAZ+U4VV75E4=; b=FSz1YBKH510b0VQX4BNTfizH4npi1lx6KwjsDFOY6ln0en4561ZIt9CrNovlsPXLw9 U3vmJmKD+79eDnqbk8E7mqR6uBZMnODUGLNSLDeLfS5XcUvtyhqp3bdZosYRBSy0B6Fk L8NTTQMJxR8egIIjhrnA0QmemcHYt3Cxnqi/cjugQF63Gs+bRqH08PaZuIs8M06xNzrZ S99hnssOfv/mpuuqcGHS5Qq6uchEMgqMZ6TGpSMrKMcf3VHKRbVL6edmNr3q9DPL0vDd B7PdrreFSDQL8/D9HKv6qjZ1QFb8YsYxm0otAZyIcyTED7z+IelkWv0xfhi0V5+g6Wqx YeLA== X-Gm-Message-State: AOJu0YzsIuQXPagc05k6ilQ4E/uA9+E4hIFzFjw9jIKegzXlKBabNiMC aYPsDzm94BEkq+THFRwDIf9JKhz896VwuPIrXuJbCP464gbvabX5GcO6qm3c4RdrVHiuZ1zodfI yO3Yek5PJv3+Znp5IXmD8yAqRYqVNf6JVZuwpitjK X-Gm-Gg: ASbGnctfhgRQUEc2aUI6NreI6Uybr1kUCv068diQbW25jnPDQaTn5/g/U9ucNZR1eE5 D2PPEQ3btm2bcDBVzo6Pixv2bEOm2892/6B2PdH3aLwjGEHPVqt4b/EwJrljrEXQpNu0eUpUVTU ZbIvZBnf/GW87Od2HYv+BKpwEpMlmGaBxXerKrZlKfR9yuGFrYD7H3WgMf8hyZuAHvQS2wKU4I7 QvdjdztYTVoCi/5VwfVkNcVN4isiP8WXwJDC4t3njsHb1mp+vIAnSNaWyuZFi0k27rmzXMduSdD gXUEBGi6sJoevKXWiVJPBXDWXGRRyQ== X-Google-Smtp-Source: AGHT+IGmlcf5r9yzowQy8fysXL1mKovxJfP4iHU7qroCulY4kjXNtJOjz3QtKP69VXzC/7D43wG1vG7XCDC1 X-Received: by 2002:a05:6830:d8a:b0:71d:f6d3:9fd2 with SMTP id 46e09a7af769-726b88a7743mr3278469a34.24.1738952768831; Fri, 07 Feb 2025 10:26:08 -0800 (PST) Received: from postal.iol.unh.edu (postal.iol.unh.edu. [132.177.123.84]) by smtp-relay.gmail.com with ESMTPS id 46e09a7af769-726af9fe43csm193789a34.7.2025.02.07.10.26.08 (version=TLS1_2 cipher=ECDHE-ECDSA-AES128-GCM-SHA256 bits=128/128); Fri, 07 Feb 2025 10:26:08 -0800 (PST) X-Relaying-Domain: iol.unh.edu Date: Fri, 07 Feb 2025 10:26:08 -0800 (PST) Message-ID: <67a65040.050a0220.85d33.9601SMTPIN_ADDED_MISSING@mx.google.com> Received: from [172.21.0.5] (unknown [172.18.0.240]) by postal.iol.unh.edu (Postfix) with ESMTP id 49CD06052471; Fri, 7 Feb 2025 13:25:38 -0500 (EST) Subject: |WARNING| pw149260-149264 [PATCH] [v2,5/5] eal/x86: defer power intr From: dpdklab@iol.unh.edu To: Test Report Cc: dpdk-test-reports@iol.unh.edu In-Reply-To: <20241217085954.3310414-6-david.marchand@redhat.com> References: <20241217085954.3310414-6-david.marchand@redhat.com> Content-Type: text/plain X-BeenThere: test-report@dpdk.org X-Mailman-Version: 2.1.29 Precedence: list List-Id: automatic DPDK test reports List-Unsubscribe: , List-Archive: List-Post: List-Help: List-Subscribe: , Errors-To: test-report-bounces@dpdk.org Test-Label: iol-compile-amd64-testing Test-Status: WARNING http://dpdk.org/patch/149264 _Testing issues_ Submitter: David Marchand Date: Tuesday, December 17 2024 08:59:52 DPDK git baseline: Repo:dpdk Branch: master CommitID:7df61db6c387703a36306c1aea92225921e2eeb2 149260-149264 --> testing issues Test environment and result as below: +---------------------+--------------------+------------------+-------------------+-------------------+-------------------------+----------------------+ | Environment | dpdk_meson_compile | dpdk_compile_ovs | dpdk_compile_spdk | dpdk_msvc_compile | dpdk_llvm_clang_compile | dpdk_mingw64_compile | +=====================+====================+==================+===================+===================+=========================+======================+ | Fedora 39 (Clang) | PASS | PASS | PASS | SKIPPED | SKIPPED | SKIPPED | +---------------------+--------------------+------------------+-------------------+-------------------+-------------------------+----------------------+ | Fedora 39 | PASS | PASS | PASS | SKIPPED | SKIPPED | SKIPPED | +---------------------+--------------------+------------------+-------------------+-------------------+-------------------------+----------------------+ | Fedora 40 (Clang) | PASS | PASS | PASS | SKIPPED | SKIPPED | SKIPPED | +---------------------+--------------------+------------------+-------------------+-------------------+-------------------------+----------------------+ | openSUSE Leap 15 | PASS | WARN | SKIPPED | SKIPPED | SKIPPED | SKIPPED | +---------------------+--------------------+------------------+-------------------+-------------------+-------------------------+----------------------+ | Ubuntu 22.04 | PASS | PASS | PASS | SKIPPED | SKIPPED | SKIPPED | +---------------------+--------------------+------------------+-------------------+-------------------+-------------------------+----------------------+ | Alpine | PASS | PASS | SKIPPED | SKIPPED | SKIPPED | SKIPPED | +---------------------+--------------------+------------------+-------------------+-------------------+-------------------------+----------------------+ | FreeBSD 13.4 | PASS | SKIPPED | SKIPPED | SKIPPED | SKIPPED | SKIPPED | +---------------------+--------------------+------------------+-------------------+-------------------+-------------------------+----------------------+ | FreeBSD 14.2 | PASS | SKIPPED | SKIPPED | SKIPPED | SKIPPED | SKIPPED | +---------------------+--------------------+------------------+-------------------+-------------------+-------------------------+----------------------+ | CentOS Stream 9 | PASS | PASS | PASS | SKIPPED | SKIPPED | SKIPPED | +---------------------+--------------------+------------------+-------------------+-------------------+-------------------------+----------------------+ | Fedora 40 | PASS | PASS | PASS | SKIPPED | SKIPPED | SKIPPED | +---------------------+--------------------+------------------+-------------------+-------------------+-------------------------+----------------------+ | RHEL9 | PASS | PASS | SKIPPED | SKIPPED | SKIPPED | SKIPPED | +---------------------+--------------------+------------------+-------------------+-------------------+-------------------------+----------------------+ | RHEL8 | PASS | PASS | SKIPPED | SKIPPED | SKIPPED | SKIPPED | +---------------------+--------------------+------------------+-------------------+-------------------+-------------------------+----------------------+ | Ubuntu 20.04 | PASS | SKIPPED | SKIPPED | SKIPPED | SKIPPED | SKIPPED | +---------------------+--------------------+------------------+-------------------+-------------------+-------------------------+----------------------+ | Ubuntu 24.04 | PASS | PASS | PASS | SKIPPED | SKIPPED | SKIPPED | +---------------------+--------------------+------------------+-------------------+-------------------+-------------------------+----------------------+ | Windows Server 2022 | SKIPPED | SKIPPED | SKIPPED | PASS | PASS | PASS | +---------------------+--------------------+------------------+-------------------+-------------------+-------------------------+----------------------+ ==== 20 line log output for openSUSE Leap 15 (dpdk_compile_ovs): ==== --- Failed to get log output --- ==== End log output ==== Fedora 39 (Clang) Kernel: Depends on container host Compiler: clang 17.0.6 (Fedora 17.0.6-2.fc39) Fedora 39 Kernel: Depends on container host Compiler: gcc 13.3.1 20240522 (Red Hat 13.3.1-1) Fedora 40 (Clang) Kernel: Depends on container host Compiler: clang 18.1.8 (Fedora 18.1.8-1.fc40) openSUSE Leap 15 Kernel: Depends on container host Compiler: gcc (SUSE Linux) 7.5.0 Ubuntu 22.04 Kernel: Depends on container host Compiler: gcc (Ubuntu 11.4.0-1ubuntu1~22.04) 11.4.0 Alpine Kernel: Depends on container host Compiler: gcc (Alpine 14.2.0) 14.2.0 FreeBSD 13.4 Kernel: 13.4-RELEASE-p1 Compiler: clang 18.1.6 FreeBSD 14.2 Kernel: 14.2-RELEASE Compiler: clang 18.1.6 CentOS Stream 9 Kernel: Depends on container host Compiler: gcc 11.5.0 20240719 (Red Hat 11.5.0-2) Fedora 40 Kernel: Depends on container host Compiler: gcc 14.2.1 20240912 (Red Hat 14.2.1-3) RHEL9 Kernel: Depends on container host Compiler: gcc 11.5.0 20240719 (Red Hat 11.5.0-2) RHEL8 Kernel: Depends on container host Compiler: gcc 8.5.0 20210514 (Red Hat 8.5.0-22) Ubuntu 20.04 Kernel: Depends on container host Compiler: gcc (Ubuntu 9.4.0-1ubuntu1~20.04.2) 9.4.0 Ubuntu 24.04 Kernel: Depends on container host Compiler: gcc (Ubuntu 13.3.0-6ubuntu2~24.04) 13.3.0 Windows Server 2022 Kernel: 10.0.20348.2031 Compiler: clang 15.0.7, gcc 14.1.0 (MinGW), and MSVC VS 19.39.33521 To view detailed results, visit: https://lab.dpdk.org/results/dashboard/patchsets/32151/ UNH-IOL DPDK Community Lab To manage your email subscriptions, visit: https://lab.dpdk.org/results/dashboard/preferences/subscriptions/