From mboxrd@z Thu Jan 1 00:00:00 1970 Return-Path: Received: from mails.dpdk.org (mails.dpdk.org [217.70.189.124]) by inbox.dpdk.org (Postfix) with ESMTP id C49B5461BE for ; Fri, 7 Feb 2025 19:27:05 +0100 (CET) Received: from mails.dpdk.org (localhost [127.0.0.1]) by mails.dpdk.org (Postfix) with ESMTP id C041F42EF5; Fri, 7 Feb 2025 19:27:05 +0100 (CET) Received: from mail-pl1-f226.google.com (mail-pl1-f226.google.com [209.85.214.226]) by mails.dpdk.org (Postfix) with ESMTP id BB29542EF5 for ; Fri, 7 Feb 2025 19:27:04 +0100 (CET) Received: by mail-pl1-f226.google.com with SMTP id d9443c01a7336-21f2f386cbeso43317505ad.0 for ; Fri, 07 Feb 2025 10:27:04 -0800 (PST) DKIM-Signature: v=1; a=rsa-sha256; c=relaxed/relaxed; d=iol.unh.edu; s=unh-iol; t=1738952824; x=1739557624; darn=dpdk.org; h=references:in-reply-to:cc:to:from:subject:message-id:date:from:to :cc:subject:date:message-id:reply-to; bh=Gvx4KrDHnVeC6uciv/D0JS12AvN5XbLumWevNRZSUUM=; b=BlaL1UEbvELbG1Mped5GJhqpvNzqG+Z2sfAaeGmVHVFu0RsRmc4GM3cVzkSFg6e3R+ YkLK265jP9xO2+ESBx0bVz1H4vwSZ/l9ZRYzz+HnGhdtnp+78A6SLfmnL0neqdfKIJL6 KEVQhs+TyvEbhAOOW5Fl6JRVaeon/+GxOPB8A= X-Google-DKIM-Signature: v=1; a=rsa-sha256; c=relaxed/relaxed; d=1e100.net; s=20230601; t=1738952824; x=1739557624; h=references:in-reply-to:cc:to:from:subject:message-id:date :x-gm-message-state:from:to:cc:subject:date:message-id:reply-to; bh=Gvx4KrDHnVeC6uciv/D0JS12AvN5XbLumWevNRZSUUM=; b=oxC5AerMuMLYT2NYqNzlkxufRGRcnlNsW/nKxvsnDB4lmeKrZ1sIoZeFMiPapcgLy1 zMvQHbDvK+3ABg4I1YBC8BcShon0/bwzMKDvNVM0jM9+vssFSse3LSyjiSx18z4V7zFt LNa6ILRQd6XTCqUCZFBOklw33N7pZoXpY0gxsQNiafXNhUhyFhTNR9r+7UiYXdE9pkU/ J/5rnInigIdLvevyfK1nDpje3QYFgX/R+DTMZcOuOcoCE0uduPggj+UrdEASlKeqg9XN zhdpuRzhGdLmlHy1JQKcJWSkIMNwMW1S2o9Q/mGkv1Aaz5N/go2KjEmsJzaWTXNhq6li kRWg== X-Gm-Message-State: AOJu0YywRu49U4dIHibOsnjKVr+4faH3YC61MZOJcjk0eWPCqZrM5/bI D2t8rD6FmRfebbccj9hJWf2DCkM4P2Pg1OxBVcUGxhLDtCKvq3fr2GNPELnRQlKjGLlV7my066Z df+zu+DQtTn+x652KjVHcpQMmk+rnrGyJSBcXb7Kv X-Gm-Gg: ASbGncsnC3V1301KR16ZL/BuYNt/di+Ca+j1tqczGymX0i2qETp9iyJgliUJ1RzFx2m 0kcP5M3U+bjCnCUodF+DD+H8UzLRDUSPqY/gSJZl4yPSID7wxUyeMVfsY/sxkQ5NNa9j6jw7mMJ 9tLskn3LN5wXrMrJbbrvZ2wEK10dhfYUAdILobD5qO/10yl4SE38ODblf+OW9jm/efsC+1j6bJ4 8Xu26UHlxyY9Fu+xGW36k3CKsODpevoVQIpfiIxa0GxLC380G7x+0Q/HxQwo42KMVhnNJarZZ8e mX79v9Undww7qzR1LmVPM/DwJuc39g== X-Google-Smtp-Source: AGHT+IEdtguhupUB2J4o4NYYWQz4Bz9CuC0vtsCs67mYBf5syYTOIYkIo+L6oD5ofxN53CkwkuKYaW2skGMG X-Received: by 2002:a17:903:1a24:b0:216:3633:36e7 with SMTP id d9443c01a7336-21f4e6f4c8emr64637625ad.26.1738952824025; Fri, 07 Feb 2025 10:27:04 -0800 (PST) Received: from postal.iol.unh.edu (postal.iol.unh.edu. [132.177.123.84]) by smtp-relay.gmail.com with ESMTPS id d9443c01a7336-21f36582233sm1953715ad.56.2025.02.07.10.27.03 (version=TLS1_2 cipher=ECDHE-ECDSA-AES128-GCM-SHA256 bits=128/128); Fri, 07 Feb 2025 10:27:04 -0800 (PST) X-Relaying-Domain: iol.unh.edu Date: Fri, 07 Feb 2025 10:27:04 -0800 (PST) Message-ID: <67a65078.170a0220.1b506c.94b6SMTPIN_ADDED_MISSING@mx.google.com> Received: from [172.21.0.9] (unknown [172.18.0.240]) by postal.iol.unh.edu (Postfix) with ESMTP id 37F0E6052472; Fri, 7 Feb 2025 13:26:33 -0500 (EST) Subject: |WARNING| pw149253-149258 [PATCH] [v3,6/6] net/virtio: remove unneed From: dpdklab@iol.unh.edu To: Test Report Cc: dpdk-test-reports@iol.unh.edu In-Reply-To: <20241216191323.75753-7-stephen@networkplumber.org> References: <20241216191323.75753-7-stephen@networkplumber.org> Content-Type: text/plain X-BeenThere: test-report@dpdk.org X-Mailman-Version: 2.1.29 Precedence: list List-Id: automatic DPDK test reports List-Unsubscribe: , List-Archive: List-Post: List-Help: List-Subscribe: , Errors-To: test-report-bounces@dpdk.org Test-Label: iol-compile-amd64-testing Test-Status: WARNING http://dpdk.org/patch/149258 _Testing issues_ Submitter: Stephen Hemminger Date: Monday, December 16 2024 19:11:38 DPDK git baseline: Repo:dpdk Branch: master CommitID:f1e0472368d4dbb1da33ae68b18ca21bc8a55259 149253-149258 --> testing issues Test environment and result as below: +---------------------+--------------------+------------------+-------------------+-------------------------+----------------------+-------------------+ | Environment | dpdk_meson_compile | dpdk_compile_ovs | dpdk_compile_spdk | dpdk_llvm_clang_compile | dpdk_mingw64_compile | dpdk_msvc_compile | +=====================+====================+==================+===================+=========================+======================+===================+ | CentOS Stream 9 | PASS | PASS | PASS | SKIPPED | SKIPPED | SKIPPED | +---------------------+--------------------+------------------+-------------------+-------------------------+----------------------+-------------------+ | Debian 12 | PASS | PASS | PASS | SKIPPED | SKIPPED | SKIPPED | +---------------------+--------------------+------------------+-------------------+-------------------------+----------------------+-------------------+ | Fedora 39 (Clang) | PASS | PASS | PASS | SKIPPED | SKIPPED | SKIPPED | +---------------------+--------------------+------------------+-------------------+-------------------------+----------------------+-------------------+ | Fedora 39 | PASS | PASS | PASS | SKIPPED | SKIPPED | SKIPPED | +---------------------+--------------------+------------------+-------------------+-------------------------+----------------------+-------------------+ | Fedora 40 (Clang) | PASS | PASS | PASS | SKIPPED | SKIPPED | SKIPPED | +---------------------+--------------------+------------------+-------------------+-------------------------+----------------------+-------------------+ | Fedora 40 | PASS | PASS | PASS | SKIPPED | SKIPPED | SKIPPED | +---------------------+--------------------+------------------+-------------------+-------------------------+----------------------+-------------------+ | openSUSE Leap 15 | PASS | WARN | SKIPPED | SKIPPED | SKIPPED | SKIPPED | +---------------------+--------------------+------------------+-------------------+-------------------------+----------------------+-------------------+ | RHEL8 | PASS | PASS | SKIPPED | SKIPPED | SKIPPED | SKIPPED | +---------------------+--------------------+------------------+-------------------+-------------------------+----------------------+-------------------+ | RHEL9 | PASS | PASS | SKIPPED | SKIPPED | SKIPPED | SKIPPED | +---------------------+--------------------+------------------+-------------------+-------------------------+----------------------+-------------------+ | Ubuntu 20.04 | PASS | SKIPPED | SKIPPED | SKIPPED | SKIPPED | SKIPPED | +---------------------+--------------------+------------------+-------------------+-------------------------+----------------------+-------------------+ | Ubuntu 22.04 | PASS | PASS | PASS | SKIPPED | SKIPPED | SKIPPED | +---------------------+--------------------+------------------+-------------------+-------------------------+----------------------+-------------------+ | Ubuntu 24.04 | PASS | PASS | PASS | SKIPPED | SKIPPED | SKIPPED | +---------------------+--------------------+------------------+-------------------+-------------------------+----------------------+-------------------+ | FreeBSD 13.4 | PASS | SKIPPED | SKIPPED | SKIPPED | SKIPPED | SKIPPED | +---------------------+--------------------+------------------+-------------------+-------------------------+----------------------+-------------------+ | Alpine | PASS | PASS | SKIPPED | SKIPPED | SKIPPED | SKIPPED | +---------------------+--------------------+------------------+-------------------+-------------------------+----------------------+-------------------+ | FreeBSD 14.2 | PASS | SKIPPED | SKIPPED | SKIPPED | SKIPPED | SKIPPED | +---------------------+--------------------+------------------+-------------------+-------------------------+----------------------+-------------------+ | Windows Server 2022 | SKIPPED | SKIPPED | SKIPPED | PASS | PASS | PASS | +---------------------+--------------------+------------------+-------------------+-------------------------+----------------------+-------------------+ ==== 20 line log output for openSUSE Leap 15 (dpdk_compile_ovs): ==== --- Failed to get log output --- ==== End log output ==== CentOS Stream 9 Kernel: Depends on container host Compiler: gcc 11.5.0 20240719 (Red Hat 11.5.0-2) Debian 12 Kernel: Depends on container host Compiler: gcc (Debian 12.2.0-14) 12.2.0 Fedora 39 (Clang) Kernel: Depends on container host Compiler: clang 17.0.6 (Fedora 17.0.6-2.fc39) Fedora 39 Kernel: Depends on container host Compiler: gcc 13.3.1 20240522 (Red Hat 13.3.1-1) Fedora 40 (Clang) Kernel: Depends on container host Compiler: clang 18.1.8 (Fedora 18.1.8-1.fc40) Fedora 40 Kernel: Depends on container host Compiler: gcc 14.2.1 20240912 (Red Hat 14.2.1-3) openSUSE Leap 15 Kernel: Depends on container host Compiler: gcc (SUSE Linux) 7.5.0 RHEL8 Kernel: Depends on container host Compiler: gcc 8.5.0 20210514 (Red Hat 8.5.0-22) RHEL9 Kernel: Depends on container host Compiler: gcc 11.5.0 20240719 (Red Hat 11.5.0-2) Ubuntu 20.04 Kernel: Depends on container host Compiler: gcc (Ubuntu 9.4.0-1ubuntu1~20.04.2) 9.4.0 Ubuntu 22.04 Kernel: Depends on container host Compiler: gcc (Ubuntu 11.4.0-1ubuntu1~22.04) 11.4.0 Ubuntu 24.04 Kernel: Depends on container host Compiler: gcc (Ubuntu 13.3.0-6ubuntu2~24.04) 13.3.0 FreeBSD 13.4 Kernel: 13.4-RELEASE-p1 Compiler: clang 18.1.6 Alpine Kernel: Depends on container host Compiler: gcc (Alpine 14.2.0) 14.2.0 FreeBSD 14.2 Kernel: 14.2-RELEASE Compiler: clang 18.1.6 Windows Server 2022 Kernel: 10.0.20348.2031 Compiler: clang 15.0.7, gcc 14.1.0 (MinGW), and MSVC VS 19.39.33521 To view detailed results, visit: https://lab.dpdk.org/results/dashboard/patchsets/32149/ UNH-IOL DPDK Community Lab To manage your email subscriptions, visit: https://lab.dpdk.org/results/dashboard/preferences/subscriptions/