From mboxrd@z Thu Jan 1 00:00:00 1970 Return-Path: Received: from mails.dpdk.org (mails.dpdk.org [217.70.189.124]) by inbox.dpdk.org (Postfix) with ESMTP id D53F6461BE for ; Fri, 7 Feb 2025 19:27:16 +0100 (CET) Received: from mails.dpdk.org (localhost [127.0.0.1]) by mails.dpdk.org (Postfix) with ESMTP id D13CC42EF1; Fri, 7 Feb 2025 19:27:16 +0100 (CET) Received: from mail-io1-f100.google.com (mail-io1-f100.google.com [209.85.166.100]) by mails.dpdk.org (Postfix) with ESMTP id 24A2A42EEF for ; Fri, 7 Feb 2025 19:27:16 +0100 (CET) Received: by mail-io1-f100.google.com with SMTP id ca18e2360f4ac-844ee166150so66490239f.2 for ; Fri, 07 Feb 2025 10:27:16 -0800 (PST) DKIM-Signature: v=1; a=rsa-sha256; c=relaxed/relaxed; d=iol.unh.edu; s=unh-iol; t=1738952835; x=1739557635; darn=dpdk.org; h=cc:to:from:subject:message-id:date:from:to:cc:subject:date :message-id:reply-to; bh=kQwsx7+FKkm8LTmaqFShD+BBygCVe0H1iyN8dDx+ioU=; b=IJ/wbl9mJ9qFCzE74E4jvSflWy8kl5yct4MTMvcOBZroExBtnAV2bzS7jv63n2vCzs NbeJHV01n7mDks6laUyXS959rbAcvV1yU2rZk0wUgDti4tWPUX0mEhhYHBHnPCc+W5Oa fEl50094uhWgilbRFBqwzGWLdRR7qWFFXMorM= X-Google-DKIM-Signature: v=1; a=rsa-sha256; c=relaxed/relaxed; d=1e100.net; s=20230601; t=1738952835; x=1739557635; h=cc:to:from:subject:message-id:date:x-gm-message-state:from:to:cc :subject:date:message-id:reply-to; bh=kQwsx7+FKkm8LTmaqFShD+BBygCVe0H1iyN8dDx+ioU=; b=W+WWT9pzlK9oJTaaJ4EbP5lZoqa96nSuGqxv4QziOz3lQcrC4sIEKPkthU1seWulcg epnbJbDnZ89tdB9pja4mfDOCoijXxTTGEpjSwd0TntlsrQSwkwLUT+Jsa6r+NJMVVFlJ xRtaQjtQriQHjXJTRV56tyHfsHtiinFJ6G/jgdNeFdAJ3xV+in30nWtWRd+jfb5r/Kzz Ie4DmlrCBBEIcGithgL92hnhoAuUr3N2gnhXvM9dUim8H22bwtMgG6Hd3ogkTSLp/ZHt JlY98CqtJfb7UBtJjIVlM1W79h6hsMLDS472kItt9YYjpDm+2JvFPE2Sv1wdjWTtDXOM Bs3A== X-Gm-Message-State: AOJu0Yyc7Y4ubceJCHT8CS4CDt/0UXQB3SUuY2doIdZ699LT65rjsAAq SJIHPGM0welg/pk9pE5RlTNAxB44Tc/3puH7ZxtMj8K+IH4eJi8o/SZsljHe2+0rtZUggkOMtY4 pwuWjOjl6IL7D3qgzsayPZGr7GCnAud9/ X-Gm-Gg: ASbGncsC4SjwczgB4xWd6qcdfkj57YdLniuNNP2wwcXaYdi/AN3kE5ljDK6v8Mccztt ehVCo0b/tgx+C1VvRMYuLv8GhdUDo6QM/D7m0w7lkajzoSLsTRqYplu+J8m/MsTs3kz/ZYHwBch WwgttbdHflKufbBmcLVjin6rKPDzqeadx7c5CJA0ITCfmKSF2T4IesC1akXkPmCzWz+LNdzIlxh MegDym6gv7Dez1rYIKdH7XVNjS31/IgquEuxJYASuKDQrAtOfv9vkprmIJoZQSeYytNiypVzHR6 fTgoqzG8RalE4fdnjQcLiVfedl7nxg== X-Google-Smtp-Source: AGHT+IE3I8rxV84tQFvbFwPOZXyYA1neqbOE2hRxKK79VR7UtdfeC6dyIT+K5W4WihRp2chqCYmLu1YKdh6n X-Received: by 2002:a05:6e02:198a:b0:3d0:4a82:3f42 with SMTP id e9e14a558f8ab-3d13df23682mr27314415ab.16.1738952835490; Fri, 07 Feb 2025 10:27:15 -0800 (PST) Received: from postal.iol.unh.edu (postal.iol.unh.edu. [132.177.123.84]) by smtp-relay.gmail.com with ESMTPS id 8926c6da1cb9f-4eccfaa222bsm261334173.45.2025.02.07.10.27.15 (version=TLS1_2 cipher=ECDHE-ECDSA-AES128-GCM-SHA256 bits=128/128); Fri, 07 Feb 2025 10:27:15 -0800 (PST) X-Relaying-Domain: iol.unh.edu Date: Fri, 07 Feb 2025 10:27:15 -0800 (PST) Message-ID: <67a65083.050a0220.29ebfb.df50SMTPIN_ADDED_MISSING@mx.google.com> Received: from [172.21.0.5] (unknown [172.18.0.240]) by postal.iol.unh.edu (Postfix) with ESMTP id 091436052471; Fri, 7 Feb 2025 13:27:15 -0500 (EST) Subject: |WARNING| [GIT MASTER] 39bcde2d05afc0f904f906182be1e659b60ceeb7 From: dpdklab@iol.unh.edu To: Test Report Cc: dpdk-test-reports@iol.unh.edu, Xueming Li , Christian Ehrhardt , Kevin Traynor , Luca Boccassi Content-Type: text/plain X-BeenThere: test-report@dpdk.org X-Mailman-Version: 2.1.29 Precedence: list List-Id: automatic DPDK test reports List-Unsubscribe: , List-Archive: List-Post: List-Help: List-Subscribe: , Errors-To: test-report-bounces@dpdk.org _Testing issues_ Branch: tags/v23.11 39bcde2d05afc0f904f906182be1e659b60ceeb7 --> testing issues Test environment and result as below: +---------------------+--------------------+------------------+-------------------+-------------------------+----------------------+ | Environment | dpdk_meson_compile | dpdk_compile_ovs | dpdk_compile_spdk | dpdk_llvm_clang_compile | dpdk_mingw64_compile | +=====================+====================+==================+===================+=========================+======================+ | CentOS Stream 9 | PASS | PASS | PASS | SKIPPED | SKIPPED | +---------------------+--------------------+------------------+-------------------+-------------------------+----------------------+ | Debian 12 | PASS | PASS | PASS | SKIPPED | SKIPPED | +---------------------+--------------------+------------------+-------------------+-------------------------+----------------------+ | Fedora 39 (Clang) | PASS | PASS | PASS | SKIPPED | SKIPPED | +---------------------+--------------------+------------------+-------------------+-------------------------+----------------------+ | Fedora 39 | PASS | PASS | PASS | SKIPPED | SKIPPED | +---------------------+--------------------+------------------+-------------------+-------------------------+----------------------+ | Fedora 40 | PASS | PASS | PASS | SKIPPED | SKIPPED | +---------------------+--------------------+------------------+-------------------+-------------------------+----------------------+ | RHEL8 | PASS | PASS | SKIPPED | SKIPPED | SKIPPED | +---------------------+--------------------+------------------+-------------------+-------------------------+----------------------+ | RHEL9 | PASS | PASS | SKIPPED | SKIPPED | SKIPPED | +---------------------+--------------------+------------------+-------------------+-------------------------+----------------------+ | Ubuntu 20.04 | PASS | SKIPPED | SKIPPED | SKIPPED | SKIPPED | +---------------------+--------------------+------------------+-------------------+-------------------------+----------------------+ | Ubuntu 22.04 | PASS | PASS | PASS | SKIPPED | SKIPPED | +---------------------+--------------------+------------------+-------------------+-------------------------+----------------------+ | Ubuntu 24.04 | PASS | PASS | PASS | SKIPPED | SKIPPED | +---------------------+--------------------+------------------+-------------------+-------------------------+----------------------+ | Alpine | PASS | PASS | SKIPPED | SKIPPED | SKIPPED | +---------------------+--------------------+------------------+-------------------+-------------------------+----------------------+ | FreeBSD 13.4 | PASS | SKIPPED | SKIPPED | SKIPPED | SKIPPED | +---------------------+--------------------+------------------+-------------------+-------------------------+----------------------+ | FreeBSD 14.2 | PASS | SKIPPED | SKIPPED | SKIPPED | SKIPPED | +---------------------+--------------------+------------------+-------------------+-------------------------+----------------------+ | Fedora 40 (Clang) | PASS | PASS | PASS | SKIPPED | SKIPPED | +---------------------+--------------------+------------------+-------------------+-------------------------+----------------------+ | openSUSE Leap 15 | PASS | WARN | SKIPPED | SKIPPED | SKIPPED | +---------------------+--------------------+------------------+-------------------+-------------------------+----------------------+ | Windows Server 2022 | SKIPPED | SKIPPED | SKIPPED | PASS | PASS | +---------------------+--------------------+------------------+-------------------+-------------------------+----------------------+ ==== 20 line log output for openSUSE Leap 15 (dpdk_compile_ovs): ==== --- Failed to get log output --- ==== End log output ==== CentOS Stream 9 Kernel: Depends on container host Compiler: gcc 11.5.0 20240719 (Red Hat 11.5.0-2) Debian 12 Kernel: Depends on container host Compiler: gcc (Debian 12.2.0-14) 12.2.0 Fedora 39 (Clang) Kernel: Depends on container host Compiler: clang 17.0.6 (Fedora 17.0.6-2.fc39) Fedora 39 Kernel: Depends on container host Compiler: gcc 13.3.1 20240522 (Red Hat 13.3.1-1) Fedora 40 Kernel: Depends on container host Compiler: gcc 14.2.1 20240912 (Red Hat 14.2.1-3) RHEL8 Kernel: Depends on container host Compiler: gcc 8.5.0 20210514 (Red Hat 8.5.0-22) RHEL9 Kernel: Depends on container host Compiler: gcc 11.5.0 20240719 (Red Hat 11.5.0-2) Ubuntu 20.04 Kernel: Depends on container host Compiler: gcc (Ubuntu 9.4.0-1ubuntu1~20.04.2) 9.4.0 Ubuntu 22.04 Kernel: Depends on container host Compiler: gcc (Ubuntu 11.4.0-1ubuntu1~22.04) 11.4.0 Ubuntu 24.04 Kernel: Depends on container host Compiler: gcc (Ubuntu 13.3.0-6ubuntu2~24.04) 13.3.0 Alpine Kernel: Depends on container host Compiler: gcc (Alpine 14.2.0) 14.2.0 FreeBSD 13.4 Kernel: 13.4-RELEASE-p1 Compiler: clang 18.1.6 FreeBSD 14.2 Kernel: 14.2-RELEASE Compiler: clang 18.1.6 Fedora 40 (Clang) Kernel: Depends on container host Compiler: clang 18.1.8 (Fedora 18.1.8-1.fc40) openSUSE Leap 15 Kernel: Depends on container host Compiler: gcc (SUSE Linux) 7.5.0 Windows Server 2022 Kernel: 10.0.20348.2031 Compiler: clang 15.0.7, gcc 14.1.0 (MinGW), and MSVC VS 19.39.33521 To view detailed results, visit: https://lab.dpdk.org/results/dashboard/tarballs/31938/ UNH-IOL DPDK Community Lab To manage your email subscriptions, visit: https://lab.dpdk.org/results/dashboard/preferences/subscriptions/