From mboxrd@z Thu Jan 1 00:00:00 1970 Return-Path: Received: from mails.dpdk.org (mails.dpdk.org [217.70.189.124]) by inbox.dpdk.org (Postfix) with ESMTP id 2D8FA461B2 for ; Fri, 7 Feb 2025 19:27:45 +0100 (CET) Received: from mails.dpdk.org (localhost [127.0.0.1]) by mails.dpdk.org (Postfix) with ESMTP id 26D5542EE1; Fri, 7 Feb 2025 19:27:45 +0100 (CET) Received: from mail-pl1-f227.google.com (mail-pl1-f227.google.com [209.85.214.227]) by mails.dpdk.org (Postfix) with ESMTP id AB01D42E90 for ; Fri, 7 Feb 2025 19:27:43 +0100 (CET) Received: by mail-pl1-f227.google.com with SMTP id d9443c01a7336-21f40f2bafdso28199385ad.3 for ; Fri, 07 Feb 2025 10:27:43 -0800 (PST) DKIM-Signature: v=1; a=rsa-sha256; c=relaxed/relaxed; d=iol.unh.edu; s=unh-iol; t=1738952863; x=1739557663; darn=dpdk.org; h=references:in-reply-to:cc:to:from:subject:message-id:date:from:to :cc:subject:date:message-id:reply-to; bh=kzOLdLolUgniPgOPPovaKlGvZEyDAoRmhMcLw+2+Wbk=; b=UAPhbgnh7+G2LADqos8mzWBS3KwPYfo4lJ++PD0mUJ12aSiT4d3fnwHdnw701bEqLt zZCyn/LxqL1CWGddQQiCpk0qQUtZIyryeh8J6vDuK62gM7QSopz2NuvtQuGoxHjmisiR b7WuCF9ddZPY8CpphuOoPEvhr1FlMmNmbLuFc= X-Google-DKIM-Signature: v=1; a=rsa-sha256; c=relaxed/relaxed; d=1e100.net; s=20230601; t=1738952863; x=1739557663; h=references:in-reply-to:cc:to:from:subject:message-id:date :x-gm-message-state:from:to:cc:subject:date:message-id:reply-to; bh=kzOLdLolUgniPgOPPovaKlGvZEyDAoRmhMcLw+2+Wbk=; b=VXV9+UdWb40fTCuf1zKjDRoMHY1O0/dMMiFLpqmAlSR4sJopkSDU9stW+OMz2YvOm0 a6QCxUTpd33cwGtlothv9TzR6yA4zMZ4HSl3Vfz80c7/I0edUXtyAOTdE+Glx15aUUp+ nhpm4yIgYQDnxfT2qnnUfIoZvD4x7ZUBb9EuRUmrQFJCthPEzCFz3iAVuU9ZXcsXF+Wb drE4iV4qFDzgVHT1LoW7k8v1C8MDaBE5M9so0SWOYod8rhiu4g4rDnKPywyh0k56XdxD d9p9mntzNgnA/dVyrIBY2tWpoa9A6XAvt5KQRZ8FpMlTTyIPGosEJ9wcXcLBS1iUdqe4 grGQ== X-Gm-Message-State: AOJu0YywjAsMTH7bDfn+zi98sHQVeK0CFmErWIQVkRfQzehQqvX4RAR5 Ma8f9oDHE5ebWtddJ1rZ42++Yd+hrH23UJCF+Yf3qv+fZBSr/e3phuvbg/tLc4lWZrCSSutKVyp Q9lx9HoQWERwb6jYCkNoJ89Kk5GJR1ILwDARNOALs X-Gm-Gg: ASbGncvoGSMBmbXCKg1lfoH4tF8Xq/etXmd08p02ri/B5OL7tP2y1rpncN6Jy03MDL9 pHBR4vwrY1h5MODvP9SiOOhsfpLLeCmzQCr4lnN2AWGIUt5TXTrf4K1WmYC9kYOnplLUecOIZni EfoC6lDR+Edy9UegFqpn2gFYkIlAdL/rwd+I5trK50cZnWo+q1Y22lYVNSPlXinFdDeSL6Z3ce9 Y5CSH8dDw5nA3hVem6lG1ZhL43hEklK7KOxp62wOHl1Z6mlV+9jzlgB3/g5wzrU+4mHEq64TIjX 95oB7vkJU34F54bbIMjPshFggOVy3w== X-Google-Smtp-Source: AGHT+IH0rCLF78NWl73B7MA9+MVX45HfAUvIlCWVV5mIIYPNqfqkLjWPDtjztNYrygkjMIcBCABWiv45uxMJ X-Received: by 2002:a17:902:da86:b0:21f:4144:a071 with SMTP id d9443c01a7336-21f4e759f4cmr70095515ad.40.1738952862195; Fri, 07 Feb 2025 10:27:42 -0800 (PST) Received: from postal.iol.unh.edu (postal.iol.unh.edu. [132.177.123.84]) by smtp-relay.gmail.com with ESMTPS id d9443c01a7336-21f3694df55sm2202145ad.12.2025.02.07.10.27.42 (version=TLS1_2 cipher=ECDHE-ECDSA-AES128-GCM-SHA256 bits=128/128); Fri, 07 Feb 2025 10:27:42 -0800 (PST) X-Relaying-Domain: iol.unh.edu Date: Fri, 07 Feb 2025 10:27:42 -0800 (PST) Message-ID: <67a6509e.170a0220.8af54.be86SMTPIN_ADDED_MISSING@mx.google.com> Received: from [172.21.0.13] (unknown [172.18.0.240]) by postal.iol.unh.edu (Postfix) with ESMTP id AA0806052472; Fri, 7 Feb 2025 13:27:41 -0500 (EST) Subject: |WARNING| pw149208 [PATCH] net/ena: fix missing default llq policy From: dpdklab@iol.unh.edu To: Test Report Cc: dpdk-test-reports@iol.unh.edu In-Reply-To: <20241212152455.510-1-shaibran@amazon.com> References: <20241212152455.510-1-shaibran@amazon.com> Content-Type: text/plain X-BeenThere: test-report@dpdk.org X-Mailman-Version: 2.1.29 Precedence: list List-Id: automatic DPDK test reports List-Unsubscribe: , List-Archive: List-Post: List-Help: List-Subscribe: , Errors-To: test-report-bounces@dpdk.org Test-Label: iol-compile-amd64-testing Test-Status: WARNING http://dpdk.org/patch/149208 _Testing issues_ Submitter: Brandes, Shai Date: Thursday, December 12 2024 15:24:55 DPDK git baseline: Repo:dpdk Branch: master CommitID:f1e0472368d4dbb1da33ae68b18ca21bc8a55259 149208 --> testing issues Test environment and result as below: +---------------------+--------------------+------------------+-------------------+-------------------------+----------------------+-------------------+ | Environment | dpdk_meson_compile | dpdk_compile_ovs | dpdk_compile_spdk | dpdk_llvm_clang_compile | dpdk_mingw64_compile | dpdk_msvc_compile | +=====================+====================+==================+===================+=========================+======================+===================+ | Fedora 39 | PASS | PASS | PASS | SKIPPED | SKIPPED | SKIPPED | +---------------------+--------------------+------------------+-------------------+-------------------------+----------------------+-------------------+ | CentOS Stream 9 | PASS | PASS | PASS | SKIPPED | SKIPPED | SKIPPED | +---------------------+--------------------+------------------+-------------------+-------------------------+----------------------+-------------------+ | Debian 12 | PASS | PASS | PASS | SKIPPED | SKIPPED | SKIPPED | +---------------------+--------------------+------------------+-------------------+-------------------------+----------------------+-------------------+ | Fedora 39 (Clang) | PASS | PASS | PASS | SKIPPED | SKIPPED | SKIPPED | +---------------------+--------------------+------------------+-------------------+-------------------------+----------------------+-------------------+ | Fedora 40 (Clang) | PASS | PASS | PASS | SKIPPED | SKIPPED | SKIPPED | +---------------------+--------------------+------------------+-------------------+-------------------------+----------------------+-------------------+ | RHEL8 | PASS | PASS | SKIPPED | SKIPPED | SKIPPED | SKIPPED | +---------------------+--------------------+------------------+-------------------+-------------------------+----------------------+-------------------+ | RHEL9 | PASS | PASS | SKIPPED | SKIPPED | SKIPPED | SKIPPED | +---------------------+--------------------+------------------+-------------------+-------------------------+----------------------+-------------------+ | Ubuntu 20.04 | PASS | SKIPPED | SKIPPED | SKIPPED | SKIPPED | SKIPPED | +---------------------+--------------------+------------------+-------------------+-------------------------+----------------------+-------------------+ | Ubuntu 24.04 | PASS | PASS | PASS | SKIPPED | SKIPPED | SKIPPED | +---------------------+--------------------+------------------+-------------------+-------------------------+----------------------+-------------------+ | Ubuntu 22.04 | PASS | PASS | PASS | SKIPPED | SKIPPED | SKIPPED | +---------------------+--------------------+------------------+-------------------+-------------------------+----------------------+-------------------+ | Alpine | PASS | PASS | SKIPPED | SKIPPED | SKIPPED | SKIPPED | +---------------------+--------------------+------------------+-------------------+-------------------------+----------------------+-------------------+ | FreeBSD 13.4 | PASS | SKIPPED | SKIPPED | SKIPPED | SKIPPED | SKIPPED | +---------------------+--------------------+------------------+-------------------+-------------------------+----------------------+-------------------+ | FreeBSD 14.2 | PASS | SKIPPED | SKIPPED | SKIPPED | SKIPPED | SKIPPED | +---------------------+--------------------+------------------+-------------------+-------------------------+----------------------+-------------------+ | openSUSE Leap 15 | PASS | WARN | SKIPPED | SKIPPED | SKIPPED | SKIPPED | +---------------------+--------------------+------------------+-------------------+-------------------------+----------------------+-------------------+ | Fedora 40 | PASS | PASS | PASS | SKIPPED | SKIPPED | SKIPPED | +---------------------+--------------------+------------------+-------------------+-------------------------+----------------------+-------------------+ | Windows Server 2022 | SKIPPED | SKIPPED | SKIPPED | PASS | PASS | PASS | +---------------------+--------------------+------------------+-------------------+-------------------------+----------------------+-------------------+ ==== 20 line log output for openSUSE Leap 15 (dpdk_compile_ovs): ==== --- Failed to get log output --- ==== End log output ==== Fedora 39 Kernel: Depends on container host Compiler: gcc 13.3.1 20240522 (Red Hat 13.3.1-1) CentOS Stream 9 Kernel: Depends on container host Compiler: gcc 11.5.0 20240719 (Red Hat 11.5.0-2) Debian 12 Kernel: Depends on container host Compiler: gcc (Debian 12.2.0-14) 12.2.0 Fedora 39 (Clang) Kernel: Depends on container host Compiler: clang 17.0.6 (Fedora 17.0.6-2.fc39) Fedora 40 (Clang) Kernel: Depends on container host Compiler: clang 18.1.8 (Fedora 18.1.8-1.fc40) RHEL8 Kernel: Depends on container host Compiler: gcc 8.5.0 20210514 (Red Hat 8.5.0-22) RHEL9 Kernel: Depends on container host Compiler: gcc 11.5.0 20240719 (Red Hat 11.5.0-2) Ubuntu 20.04 Kernel: Depends on container host Compiler: gcc (Ubuntu 9.4.0-1ubuntu1~20.04.2) 9.4.0 Ubuntu 24.04 Kernel: Depends on container host Compiler: gcc (Ubuntu 13.3.0-6ubuntu2~24.04) 13.3.0 Ubuntu 22.04 Kernel: Depends on container host Compiler: gcc (Ubuntu 11.4.0-1ubuntu1~22.04) 11.4.0 Alpine Kernel: Depends on container host Compiler: gcc (Alpine 14.2.0) 14.2.0 FreeBSD 13.4 Kernel: 13.4-RELEASE-p1 Compiler: clang 18.1.6 FreeBSD 14.2 Kernel: 14.2-RELEASE Compiler: clang 18.1.6 openSUSE Leap 15 Kernel: Depends on container host Compiler: gcc (SUSE Linux) 7.5.0 Fedora 40 Kernel: Depends on container host Compiler: gcc 14.2.1 20240912 (Red Hat 14.2.1-3) Windows Server 2022 Kernel: 10.0.20348.2031 Compiler: clang 15.0.7, gcc 14.1.0 (MinGW), and MSVC VS 19.39.33521 To view detailed results, visit: https://lab.dpdk.org/results/dashboard/patchsets/32126/ UNH-IOL DPDK Community Lab To manage your email subscriptions, visit: https://lab.dpdk.org/results/dashboard/preferences/subscriptions/