From mboxrd@z Thu Jan 1 00:00:00 1970 Return-Path: Received: from mails.dpdk.org (mails.dpdk.org [217.70.189.124]) by inbox.dpdk.org (Postfix) with ESMTP id 3A70E461B2 for ; Fri, 7 Feb 2025 19:27:48 +0100 (CET) Received: from mails.dpdk.org (localhost [127.0.0.1]) by mails.dpdk.org (Postfix) with ESMTP id 37F7242EEF; Fri, 7 Feb 2025 19:27:48 +0100 (CET) Received: from mail-pl1-f226.google.com (mail-pl1-f226.google.com [209.85.214.226]) by mails.dpdk.org (Postfix) with ESMTP id 11B3442E90 for ; Fri, 7 Feb 2025 19:27:47 +0100 (CET) Received: by mail-pl1-f226.google.com with SMTP id d9443c01a7336-2163dc5155fso50419065ad.0 for ; Fri, 07 Feb 2025 10:27:47 -0800 (PST) DKIM-Signature: v=1; a=rsa-sha256; c=relaxed/relaxed; d=iol.unh.edu; s=unh-iol; t=1738952866; x=1739557666; darn=dpdk.org; h=references:in-reply-to:cc:to:from:subject:message-id:date:from:to :cc:subject:date:message-id:reply-to; bh=jECxDOGDPSI8HAbYsvijaCkcpoeMYehUdlWIxD7DL7E=; b=T70aZmCZHGWcanURf/u2Rvsso5FDkfbkLB4tYItK2AjKH4xYWSAlHFQMkTPKtXQZov K9wPNw+tx41YG0+6QLq5xgKt2/CFp1pdUn8/kzcmSoxmrlXmWiQMnD2e/bl66W5koHSH iwvP88lnSKGsGyJPkQs5v7UJfwRZufVPh1O/4= X-Google-DKIM-Signature: v=1; a=rsa-sha256; c=relaxed/relaxed; d=1e100.net; s=20230601; t=1738952866; x=1739557666; h=references:in-reply-to:cc:to:from:subject:message-id:date :x-gm-message-state:from:to:cc:subject:date:message-id:reply-to; bh=jECxDOGDPSI8HAbYsvijaCkcpoeMYehUdlWIxD7DL7E=; b=abU9pgYNFhBmNAbfl4djc4rWQx6P2P46D8u738R4jDvkwBHY2LvNcVQo0mbeEmR2/E mXtgZVGo68OxokAHiaOWpsMOAZAF2CHLJFl4M+DTRNhTHyEChuuQ+Vsuh4K+oWazbUA/ B4miVb2llIEixJppa5l4KEk0pWP3zaJHrZtFxNYMeixkrPuNNMmFXZJZQ/52j28G3MQ9 B0Q/dIZmC9dbtEj02dS1WA3PB0Z+o2bJQyKuXnKTitbnWq56UiSeWizHInAQQNLAHcgs 98TZqB8oZ7jQGfTfzmX6YCi7gSZ9V1XLmYK5P3MDKvozKWs8qXaQYcl3GjSjeQ4fQCQ6 CBlw== X-Gm-Message-State: AOJu0YxAozCFitVtxn7sILA8mfXrz9R1bc9pficrofNeabNxAfa3Q6tu NieAOO4i61ZkwMFT6/slU/FSxzqRwHVDmsb734LgIND+V31wcRaDW2D+2srAZZHDuZcnAOYawKd pT3yRBQnrDRGL46wQyG5AYhuzfzHhc1yAk2bpjIYA X-Gm-Gg: ASbGncsil1TBcu8hSXwQNs7hThou4r/5dEqCgO+aD6zqbImqR8g1iZ0ge6D7MgQpkdj QKOx1yogV5Z3s3aVOvsRvSQnFUssvzUjQE8+gKamOA0rVAlg8d7Nl5iX2sgZ1kKrUEX/BqOz09u FuFCbE24M/IvdkffRJUMtazV9a1Hlb7sR+WqU+byQz7e8kHmijGmEPvHfGr7LWcaQTjBLVM9ShW Ua0vGXoNhQXoVS4Fu2eAJkLE4lzYtGXzdNHrLx/YpqSlmwBsS0FYKrvLgDCbcqJEEq0FN6CbZDb L89ijADOaSU77bpLUQP5h/6lQQ40Nw== X-Google-Smtp-Source: AGHT+IFp+Lts3gvzrwMq+q5lTlmRk++SkRQBGBbT79L3vh44X9oi3ceuc4rX8XjQ2PbZ7Pa4fPnJ/hvL+wSO X-Received: by 2002:a17:902:e143:b0:216:50fb:5dfc with SMTP id d9443c01a7336-21f4e1cc2c1mr46382565ad.9.1738952866348; Fri, 07 Feb 2025 10:27:46 -0800 (PST) Received: from postal.iol.unh.edu (postal.iol.unh.edu. [132.177.123.84]) by smtp-relay.gmail.com with ESMTPS id d9443c01a7336-21f368906bbsm2036925ad.121.2025.02.07.10.27.46 (version=TLS1_2 cipher=ECDHE-ECDSA-AES128-GCM-SHA256 bits=128/128); Fri, 07 Feb 2025 10:27:46 -0800 (PST) X-Relaying-Domain: iol.unh.edu Date: Fri, 07 Feb 2025 10:27:46 -0800 (PST) Message-ID: <67a650a2.170a0220.2a39ef.afc8SMTPIN_ADDED_MISSING@mx.google.com> Received: from [172.21.0.14] (unknown [172.18.0.240]) by postal.iol.unh.edu (Postfix) with ESMTP id 7E9BA6052472; Fri, 7 Feb 2025 13:27:45 -0500 (EST) Subject: |WARNING| pw149244-149245 [PATCH] [2/2] dts: clear out Python syntax From: dpdklab@iol.unh.edu To: Test Report Cc: dpdk-test-reports@iol.unh.edu In-Reply-To: <20241214104257.67419-3-otilibil@eurecom.fr> References: <20241214104257.67419-3-otilibil@eurecom.fr> Content-Type: text/plain X-BeenThere: test-report@dpdk.org X-Mailman-Version: 2.1.29 Precedence: list List-Id: automatic DPDK test reports List-Unsubscribe: , List-Archive: List-Post: List-Help: List-Subscribe: , Errors-To: test-report-bounces@dpdk.org Test-Label: iol-compile-amd64-testing Test-Status: WARNING http://dpdk.org/patch/149245 _Testing issues_ Submitter: Ariel Otilibili-Anieli Date: Saturday, December 14 2024 10:36:36 DPDK git baseline: Repo:dpdk Branch: master CommitID:7df61db6c387703a36306c1aea92225921e2eeb2 149244-149245 --> testing issues Test environment and result as below: +---------------------+--------------------+------------------+-------------------+-------------------------+----------------------+-------------------+ | Environment | dpdk_meson_compile | dpdk_compile_ovs | dpdk_compile_spdk | dpdk_llvm_clang_compile | dpdk_mingw64_compile | dpdk_msvc_compile | +=====================+====================+==================+===================+=========================+======================+===================+ | Debian 12 | PASS | PASS | PASS | SKIPPED | SKIPPED | SKIPPED | +---------------------+--------------------+------------------+-------------------+-------------------------+----------------------+-------------------+ | Fedora 39 (Clang) | PASS | PASS | PASS | SKIPPED | SKIPPED | SKIPPED | +---------------------+--------------------+------------------+-------------------+-------------------------+----------------------+-------------------+ | Fedora 39 | PASS | PASS | PASS | SKIPPED | SKIPPED | SKIPPED | +---------------------+--------------------+------------------+-------------------+-------------------------+----------------------+-------------------+ | Fedora 40 (Clang) | PASS | PASS | PASS | SKIPPED | SKIPPED | SKIPPED | +---------------------+--------------------+------------------+-------------------+-------------------------+----------------------+-------------------+ | Fedora 40 | PASS | PASS | PASS | SKIPPED | SKIPPED | SKIPPED | +---------------------+--------------------+------------------+-------------------+-------------------------+----------------------+-------------------+ | openSUSE Leap 15 | PASS | WARN | SKIPPED | SKIPPED | SKIPPED | SKIPPED | +---------------------+--------------------+------------------+-------------------+-------------------------+----------------------+-------------------+ | RHEL8 | PASS | PASS | SKIPPED | SKIPPED | SKIPPED | SKIPPED | +---------------------+--------------------+------------------+-------------------+-------------------------+----------------------+-------------------+ | RHEL9 | PASS | PASS | SKIPPED | SKIPPED | SKIPPED | SKIPPED | +---------------------+--------------------+------------------+-------------------+-------------------------+----------------------+-------------------+ | Ubuntu 20.04 | PASS | SKIPPED | SKIPPED | SKIPPED | SKIPPED | SKIPPED | +---------------------+--------------------+------------------+-------------------+-------------------------+----------------------+-------------------+ | Ubuntu 22.04 | PASS | PASS | PASS | SKIPPED | SKIPPED | SKIPPED | +---------------------+--------------------+------------------+-------------------+-------------------------+----------------------+-------------------+ | Ubuntu 24.04 | PASS | PASS | PASS | SKIPPED | SKIPPED | SKIPPED | +---------------------+--------------------+------------------+-------------------+-------------------------+----------------------+-------------------+ | Alpine | PASS | PASS | SKIPPED | SKIPPED | SKIPPED | SKIPPED | +---------------------+--------------------+------------------+-------------------+-------------------------+----------------------+-------------------+ | FreeBSD 13.4 | PASS | SKIPPED | SKIPPED | SKIPPED | SKIPPED | SKIPPED | +---------------------+--------------------+------------------+-------------------+-------------------------+----------------------+-------------------+ | CentOS Stream 9 | PASS | PASS | PASS | SKIPPED | SKIPPED | SKIPPED | +---------------------+--------------------+------------------+-------------------+-------------------------+----------------------+-------------------+ | FreeBSD 14.2 | PASS | SKIPPED | SKIPPED | SKIPPED | SKIPPED | SKIPPED | +---------------------+--------------------+------------------+-------------------+-------------------------+----------------------+-------------------+ | Windows Server 2022 | SKIPPED | SKIPPED | SKIPPED | PASS | PASS | PASS | +---------------------+--------------------+------------------+-------------------+-------------------------+----------------------+-------------------+ ==== 20 line log output for openSUSE Leap 15 (dpdk_compile_ovs): ==== --- Failed to get log output --- ==== End log output ==== Debian 12 Kernel: Depends on container host Compiler: gcc (Debian 12.2.0-14) 12.2.0 Fedora 39 (Clang) Kernel: Depends on container host Compiler: clang 17.0.6 (Fedora 17.0.6-2.fc39) Fedora 39 Kernel: Depends on container host Compiler: gcc 13.3.1 20240522 (Red Hat 13.3.1-1) Fedora 40 (Clang) Kernel: Depends on container host Compiler: clang 18.1.8 (Fedora 18.1.8-1.fc40) Fedora 40 Kernel: Depends on container host Compiler: gcc 14.2.1 20240912 (Red Hat 14.2.1-3) openSUSE Leap 15 Kernel: Depends on container host Compiler: gcc (SUSE Linux) 7.5.0 RHEL8 Kernel: Depends on container host Compiler: gcc 8.5.0 20210514 (Red Hat 8.5.0-22) RHEL9 Kernel: Depends on container host Compiler: gcc 11.5.0 20240719 (Red Hat 11.5.0-2) Ubuntu 20.04 Kernel: Depends on container host Compiler: gcc (Ubuntu 9.4.0-1ubuntu1~20.04.2) 9.4.0 Ubuntu 22.04 Kernel: Depends on container host Compiler: gcc (Ubuntu 11.4.0-1ubuntu1~22.04) 11.4.0 Ubuntu 24.04 Kernel: Depends on container host Compiler: gcc (Ubuntu 13.3.0-6ubuntu2~24.04) 13.3.0 Alpine Kernel: Depends on container host Compiler: gcc (Alpine 14.2.0) 14.2.0 FreeBSD 13.4 Kernel: 13.4-RELEASE-p1 Compiler: clang 18.1.6 CentOS Stream 9 Kernel: Depends on container host Compiler: gcc 11.5.0 20240719 (Red Hat 11.5.0-2) FreeBSD 14.2 Kernel: 14.2-RELEASE Compiler: clang 18.1.6 Windows Server 2022 Kernel: 10.0.20348.2031 Compiler: clang 15.0.7, gcc 14.1.0 (MinGW), and MSVC VS 19.39.33521 To view detailed results, visit: https://lab.dpdk.org/results/dashboard/patchsets/32145/ UNH-IOL DPDK Community Lab To manage your email subscriptions, visit: https://lab.dpdk.org/results/dashboard/preferences/subscriptions/