From mboxrd@z Thu Jan 1 00:00:00 1970 Return-Path: Received: from mails.dpdk.org (mails.dpdk.org [217.70.189.124]) by inbox.dpdk.org (Postfix) with ESMTP id 479A2461B2 for ; Fri, 7 Feb 2025 19:27:50 +0100 (CET) Received: from mails.dpdk.org (localhost [127.0.0.1]) by mails.dpdk.org (Postfix) with ESMTP id 447BC42EEE; Fri, 7 Feb 2025 19:27:50 +0100 (CET) Received: from mail-pl1-f227.google.com (mail-pl1-f227.google.com [209.85.214.227]) by mails.dpdk.org (Postfix) with ESMTP id 2275142E90 for ; Fri, 7 Feb 2025 19:27:48 +0100 (CET) Received: by mail-pl1-f227.google.com with SMTP id d9443c01a7336-21f2cfd821eso44660325ad.3 for ; Fri, 07 Feb 2025 10:27:48 -0800 (PST) DKIM-Signature: v=1; a=rsa-sha256; c=relaxed/relaxed; d=iol.unh.edu; s=unh-iol; t=1738952867; x=1739557667; darn=dpdk.org; h=references:in-reply-to:cc:to:from:subject:message-id:date:from:to :cc:subject:date:message-id:reply-to; bh=5SKvqznhWnV9vBFCiMLdRVSwduRfiyBvCW6gb5l0rfM=; b=eZdrdZ0YsKtnFfNSKGmdtLeqB4ky4yR6KMN+hsbKZtoD4xX2VS+vrCM7bNSau2AbNy dQNLshfETeKMMZ+QXrcs2objUZftrZIRdF26MoDMAhn/DBEOJJr0mg42kzADt9eAcAVO 1yNwAzdSvSW9I/4VoYP5jyAxegeI7yToIpmnY= X-Google-DKIM-Signature: v=1; a=rsa-sha256; c=relaxed/relaxed; d=1e100.net; s=20230601; t=1738952867; x=1739557667; h=references:in-reply-to:cc:to:from:subject:message-id:date :x-gm-message-state:from:to:cc:subject:date:message-id:reply-to; bh=5SKvqznhWnV9vBFCiMLdRVSwduRfiyBvCW6gb5l0rfM=; b=CQ6txjMS5DVg6UIjaQVOwr09BaJWA4mI01bvbsX3yBfuGX8Eaf0LIiunFthWvVgEtx +m6ZDtlvQffX8+iU9G5d/T0IaDa49ab92XJeGNOFQm6+fFsuTy0nmthjRjlK8Tg5O8Gv WXZ/FjAwwRKBm1dhFWEpfGPtuVWAFxOhsz331lyIRwL3D8gtSR/NufKbGqls2rDf4rQ9 h0TTV8Ek9kELijqzl/RaU/FFC/+Hb4P+qH2/zVop9WoWuGdvsWU4VLcrW87p4NxtmMwR RwpakkJcLpIm+jI6Bl4xqUCNEZ/RUMBa8Gke9ctMAVSd15Qm1LBKJJ7n173D23w1lYG4 wz4A== X-Gm-Message-State: AOJu0YzVVK++iqeEmU//BV84EQogcYroYd4zWcNpShxdVT7e2wCHA9l8 vlUrLkW/Z+qtquehyD1lrKUyqT/yh8+QniUjHNnPXmpp7w7kc9NkCRq88BJdg8dQHs5hEp4PpLq ZsjdAMC/+IrKH2FE7PRFk3rrDY1kDTolYBF3Mh375 X-Gm-Gg: ASbGnctxqK4mXVnUOLkl9DS5IvtI6js2RY2/KFv7uWYkLBX6Od6ONvmse9btjp3EIrO lH6O6YVsjEjHDCchtdQsRHFuAbawpeYnLZCtYlQ82h/jbdnT7qcyWAyWgiaKAyX5J739Msj5KlW gt3VVs9WlE7BO/ML8FDp+4qDu+6Ulzdg0tiwXYh6oEDqmRBh+SzACDlHnoncI0Me3j2ZE8zahr2 swz9V2D4JEcAuT3HiYb4GK3/MKjadkYS+RWkido3UMx7BVSIbfmy5RsuJjtFJR/doviafFAq2Ld Hn0yfb2txbfhNrdigg68GGr5NKpfwg== X-Google-Smtp-Source: AGHT+IEHosFRbtbIAohOOHhMgGPutcpOPUhFOnDT+Lhu5p1PXsjDoq0lEPLxaUjBckOZNkNBJ8ebBD+T7iyu X-Received: by 2002:a17:902:ce08:b0:218:a43c:571e with SMTP id d9443c01a7336-21f4e7145dbmr71951685ad.28.1738952867392; Fri, 07 Feb 2025 10:27:47 -0800 (PST) Received: from postal.iol.unh.edu (postal.iol.unh.edu. [132.177.123.84]) by smtp-relay.gmail.com with ESMTPS id d9443c01a7336-21f36877ed4sm2067415ad.113.2025.02.07.10.27.47 (version=TLS1_2 cipher=ECDHE-ECDSA-AES128-GCM-SHA256 bits=128/128); Fri, 07 Feb 2025 10:27:47 -0800 (PST) X-Relaying-Domain: iol.unh.edu Date: Fri, 07 Feb 2025 10:27:47 -0800 (PST) Message-ID: <67a650a3.170a0220.16c257.ab2bSMTPIN_ADDED_MISSING@mx.google.com> Received: from [172.21.0.10] (unknown [172.18.0.240]) by postal.iol.unh.edu (Postfix) with ESMTP id 82CF46052472; Fri, 7 Feb 2025 13:27:46 -0500 (EST) Subject: |WARNING| pw149201-149207 [PATCH] [v2,7/7] dts: update linters in do From: dpdklab@iol.unh.edu To: Test Report Cc: dpdk-test-reports@iol.unh.edu In-Reply-To: <20241212140013.17548-8-luca.vizzarro@arm.com> References: <20241212140013.17548-8-luca.vizzarro@arm.com> Content-Type: text/plain X-BeenThere: test-report@dpdk.org X-Mailman-Version: 2.1.29 Precedence: list List-Id: automatic DPDK test reports List-Unsubscribe: , List-Archive: List-Post: List-Help: List-Subscribe: , Errors-To: test-report-bounces@dpdk.org Test-Label: iol-compile-amd64-testing Test-Status: WARNING http://dpdk.org/patch/149207 _Testing issues_ Submitter: Luca Vizzarro Date: Thursday, December 12 2024 14:00:13 DPDK git baseline: Repo:dpdk Branch: master CommitID:7df61db6c387703a36306c1aea92225921e2eeb2 149201-149207 --> testing issues Test environment and result as below: +---------------------+--------------------+------------------+-------------------+-------------------------+----------------------+-------------------+ | Environment | dpdk_meson_compile | dpdk_compile_ovs | dpdk_compile_spdk | dpdk_llvm_clang_compile | dpdk_mingw64_compile | dpdk_msvc_compile | +=====================+====================+==================+===================+=========================+======================+===================+ | CentOS Stream 9 | PASS | PASS | PASS | SKIPPED | SKIPPED | SKIPPED | +---------------------+--------------------+------------------+-------------------+-------------------------+----------------------+-------------------+ | Debian 12 | PASS | PASS | PASS | SKIPPED | SKIPPED | SKIPPED | +---------------------+--------------------+------------------+-------------------+-------------------------+----------------------+-------------------+ | Fedora 40 | PASS | PASS | PASS | SKIPPED | SKIPPED | SKIPPED | +---------------------+--------------------+------------------+-------------------+-------------------------+----------------------+-------------------+ | Fedora 40 (Clang) | PASS | PASS | PASS | SKIPPED | SKIPPED | SKIPPED | +---------------------+--------------------+------------------+-------------------+-------------------------+----------------------+-------------------+ | RHEL9 | PASS | PASS | SKIPPED | SKIPPED | SKIPPED | SKIPPED | +---------------------+--------------------+------------------+-------------------+-------------------------+----------------------+-------------------+ | openSUSE Leap 15 | PASS | WARN | SKIPPED | SKIPPED | SKIPPED | SKIPPED | +---------------------+--------------------+------------------+-------------------+-------------------------+----------------------+-------------------+ | RHEL8 | PASS | PASS | SKIPPED | SKIPPED | SKIPPED | SKIPPED | +---------------------+--------------------+------------------+-------------------+-------------------------+----------------------+-------------------+ | Ubuntu 22.04 | PASS | PASS | PASS | SKIPPED | SKIPPED | SKIPPED | +---------------------+--------------------+------------------+-------------------+-------------------------+----------------------+-------------------+ | Ubuntu 20.04 | PASS | SKIPPED | SKIPPED | SKIPPED | SKIPPED | SKIPPED | +---------------------+--------------------+------------------+-------------------+-------------------------+----------------------+-------------------+ | Ubuntu 24.04 | PASS | PASS | PASS | SKIPPED | SKIPPED | SKIPPED | +---------------------+--------------------+------------------+-------------------+-------------------------+----------------------+-------------------+ | Alpine | PASS | PASS | SKIPPED | SKIPPED | SKIPPED | SKIPPED | +---------------------+--------------------+------------------+-------------------+-------------------------+----------------------+-------------------+ | FreeBSD 13.4 | PASS | SKIPPED | SKIPPED | SKIPPED | SKIPPED | SKIPPED | +---------------------+--------------------+------------------+-------------------+-------------------------+----------------------+-------------------+ | FreeBSD 14.2 | PASS | SKIPPED | SKIPPED | SKIPPED | SKIPPED | SKIPPED | +---------------------+--------------------+------------------+-------------------+-------------------------+----------------------+-------------------+ | Windows Server 2022 | SKIPPED | SKIPPED | SKIPPED | PASS | PASS | PASS | +---------------------+--------------------+------------------+-------------------+-------------------------+----------------------+-------------------+ ==== 20 line log output for openSUSE Leap 15 (dpdk_compile_ovs): ==== --- Failed to get log output --- ==== End log output ==== CentOS Stream 9 Kernel: Depends on container host Compiler: gcc 11.5.0 20240719 (Red Hat 11.5.0-2) Debian 12 Kernel: Depends on container host Compiler: gcc (Debian 12.2.0-14) 12.2.0 Fedora 40 Kernel: Depends on container host Compiler: gcc 14.2.1 20240912 (Red Hat 14.2.1-3) Fedora 40 (Clang) Kernel: Depends on container host Compiler: clang 18.1.8 (Fedora 18.1.8-1.fc40) RHEL9 Kernel: Depends on container host Compiler: gcc 11.5.0 20240719 (Red Hat 11.5.0-2) openSUSE Leap 15 Kernel: Depends on container host Compiler: gcc (SUSE Linux) 7.5.0 RHEL8 Kernel: Depends on container host Compiler: gcc 8.5.0 20210514 (Red Hat 8.5.0-22) Ubuntu 22.04 Kernel: Depends on container host Compiler: gcc (Ubuntu 11.4.0-1ubuntu1~22.04) 11.4.0 Ubuntu 20.04 Kernel: Depends on container host Compiler: gcc (Ubuntu 9.4.0-1ubuntu1~20.04.2) 9.4.0 Ubuntu 24.04 Kernel: Depends on container host Compiler: gcc (Ubuntu 13.3.0-6ubuntu2~24.04) 13.3.0 Alpine Kernel: Depends on container host Compiler: gcc (Alpine 14.2.0) 14.2.0 FreeBSD 13.4 Kernel: 13.4-RELEASE-p1 Compiler: clang 18.1.6 FreeBSD 14.2 Kernel: 14.2-RELEASE Compiler: clang 18.1.6 Windows Server 2022 Kernel: 10.0.20348.2031 Compiler: clang 15.0.7, gcc 14.1.0 (MinGW), and MSVC VS 19.39.33521 To view detailed results, visit: https://lab.dpdk.org/results/dashboard/patchsets/32125/ UNH-IOL DPDK Community Lab To manage your email subscriptions, visit: https://lab.dpdk.org/results/dashboard/preferences/subscriptions/