From mboxrd@z Thu Jan 1 00:00:00 1970 Return-Path: Received: from mails.dpdk.org (mails.dpdk.org [217.70.189.124]) by inbox.dpdk.org (Postfix) with ESMTP id 5FD98461B2 for ; Fri, 7 Feb 2025 19:28:12 +0100 (CET) Received: from mails.dpdk.org (localhost [127.0.0.1]) by mails.dpdk.org (Postfix) with ESMTP id 5CA6642EE1; Fri, 7 Feb 2025 19:28:12 +0100 (CET) Received: from mail-io1-f99.google.com (mail-io1-f99.google.com [209.85.166.99]) by mails.dpdk.org (Postfix) with ESMTP id 28DE642E90 for ; Fri, 7 Feb 2025 19:28:11 +0100 (CET) Received: by mail-io1-f99.google.com with SMTP id ca18e2360f4ac-844bff5ba1dso156484539f.1 for ; Fri, 07 Feb 2025 10:28:11 -0800 (PST) DKIM-Signature: v=1; a=rsa-sha256; c=relaxed/relaxed; d=iol.unh.edu; s=unh-iol; t=1738952890; x=1739557690; darn=dpdk.org; h=references:in-reply-to:cc:to:from:subject:message-id:date:from:to :cc:subject:date:message-id:reply-to; bh=A3UzwGCqfNHbLNhniwn+CDRcYiLERdEIP/0hV2cz5fA=; b=jImpfk0X2j6j4oDnbLfYxylDnDeRIATeJ58TS9pJ4kF5GR/gblyJiihwgc1RJ4oSqR kmD3SgNwcVgSoAt5qVkrs0aPmuJ+fs/eB+aW/tMiKP2lh4fxCIDEsOy7w9HND81z6H1x jsSNScd6uzPq11CPDeZc2C66WYLRP9QacdowE= X-Google-DKIM-Signature: v=1; a=rsa-sha256; c=relaxed/relaxed; d=1e100.net; s=20230601; t=1738952890; x=1739557690; h=references:in-reply-to:cc:to:from:subject:message-id:date :x-gm-message-state:from:to:cc:subject:date:message-id:reply-to; bh=A3UzwGCqfNHbLNhniwn+CDRcYiLERdEIP/0hV2cz5fA=; b=JpmQpfeBBVE+uMagB2lIYc8tICzILhndDZglmdzGaA+Tal4x+fU6LZ2xjxjfnAdvz1 smzkfajTl0Xt1fEu8lCRyq+K9OIJb/hH9UAVAr5bVWBH7LUsNnFpJRfsQ3YOFMeiWb9e tC1VWuGTXYoXeUmINN7VjvdBk9EmK7NeopoaOHx4gHoa0RH4w+Kx/zrYLdkMWdCSBgMJ dmGW8bTqs4rELedmrfyz48UbHuQVnH0/Wnyb6vjUNNLiv3d6BmC4CpnGTZdDSv+xsN4j joCfBFV2dnmSlRuoEv7T+f7wF/5YJSruhs2GhhABOjP9y6axum+AzpMK4thAU9OREp8f WacA== X-Gm-Message-State: AOJu0YxLolYJbqP1JsJXteb8khVqM61K2OSghTEIYklAnH51kyu5P3oz ty7KS+D/kTCOuwtWoEEvb/3ftI3pjNec3WkpbfNH5wWo4ltfbrVBQ3J/SYSbPBtV5DYJUcH4/ef WUXkRM9vp2b0op92ybRxWg3r/9uhDBPcFQ+Ted3Wc X-Gm-Gg: ASbGncthFA77JXRlnYBWLXx2fz/xIiZUlJt/x5LMpBH57tSkQ84Zn90lOYzU0oUS/MT XpeLcx7iuFykSxorGDnBjZ5HAGZLsKk9MMYygqlHNrVo1fW9MvS4WA6+M2smp9sciAcK8ggICuO o26110odzI9MmasLtZS2NdUqdwPOb/s3P1MyhKCj1oBk185oSEjdkAhR5PSzkRdYOG9Gj5E+Oqd NVstEMUFyBQZ4qwB/4E1NA4TdWeZqIMns50LwUU/uSlyGcvU4zAhXnA+SoT2p+s066tC7xQV9vN nYwbWYwMW5oTnV8Fiw+qxe4AxnuEUg== X-Google-Smtp-Source: AGHT+IHlT4TJEMwmDCAz3bV3MFWugKN0l+1T+KfNPjnS/GXoCa4Ew9PcsShAhlcMX5rCTnvQ3wJMNLlshUHu X-Received: by 2002:a05:6e02:1a84:b0:3d0:4a82:3f43 with SMTP id e9e14a558f8ab-3d13dcfd4cemr36361165ab.5.1738952888937; Fri, 07 Feb 2025 10:28:08 -0800 (PST) Received: from postal.iol.unh.edu (postal.iol.unh.edu. [132.177.123.84]) by smtp-relay.gmail.com with ESMTPS id e9e14a558f8ab-3d05e8fe5efsm2647015ab.21.2025.02.07.10.28.08 (version=TLS1_2 cipher=ECDHE-ECDSA-AES128-GCM-SHA256 bits=128/128); Fri, 07 Feb 2025 10:28:08 -0800 (PST) X-Relaying-Domain: iol.unh.edu Date: Fri, 07 Feb 2025 10:28:08 -0800 (PST) Message-ID: <67a650b8.050a0220.21870e.da2eSMTPIN_ADDED_MISSING@mx.google.com> Received: from [172.21.0.12] (unknown [172.18.0.240]) by postal.iol.unh.edu (Postfix) with ESMTP id 69A266052471; Fri, 7 Feb 2025 13:27:38 -0500 (EST) Subject: |WARNING| pw149246-149250 [PATCH] [v2,5/5] net/virtio: remove unneed From: dpdklab@iol.unh.edu To: Test Report Cc: dpdk-test-reports@iol.unh.edu In-Reply-To: <20241214180843.6662-6-stephen@networkplumber.org> References: <20241214180843.6662-6-stephen@networkplumber.org> Content-Type: text/plain X-BeenThere: test-report@dpdk.org X-Mailman-Version: 2.1.29 Precedence: list List-Id: automatic DPDK test reports List-Unsubscribe: , List-Archive: List-Post: List-Help: List-Subscribe: , Errors-To: test-report-bounces@dpdk.org Test-Label: iol-compile-amd64-testing Test-Status: WARNING http://dpdk.org/patch/149250 _Testing issues_ Submitter: Stephen Hemminger Date: Saturday, December 14 2024 18:07:36 DPDK git baseline: Repo:dpdk Branch: master CommitID:f1e0472368d4dbb1da33ae68b18ca21bc8a55259 149246-149250 --> testing issues Test environment and result as below: +---------------------+--------------------+------------------+-------------------+-------------------------+----------------------+ | Environment | dpdk_meson_compile | dpdk_compile_ovs | dpdk_compile_spdk | dpdk_llvm_clang_compile | dpdk_mingw64_compile | +=====================+====================+==================+===================+=========================+======================+ | CentOS Stream 9 | PASS | PASS | PASS | SKIPPED | SKIPPED | +---------------------+--------------------+------------------+-------------------+-------------------------+----------------------+ | Fedora 39 (Clang) | PASS | PASS | PASS | SKIPPED | SKIPPED | +---------------------+--------------------+------------------+-------------------+-------------------------+----------------------+ | Debian 12 | PASS | PASS | PASS | SKIPPED | SKIPPED | +---------------------+--------------------+------------------+-------------------+-------------------------+----------------------+ | Fedora 39 | PASS | PASS | PASS | SKIPPED | SKIPPED | +---------------------+--------------------+------------------+-------------------+-------------------------+----------------------+ | Fedora 40 (Clang) | PASS | PASS | PASS | SKIPPED | SKIPPED | +---------------------+--------------------+------------------+-------------------+-------------------------+----------------------+ | Fedora 40 | PASS | PASS | PASS | SKIPPED | SKIPPED | +---------------------+--------------------+------------------+-------------------+-------------------------+----------------------+ | openSUSE Leap 15 | PASS | WARN | SKIPPED | SKIPPED | SKIPPED | +---------------------+--------------------+------------------+-------------------+-------------------------+----------------------+ | RHEL8 | PASS | PASS | SKIPPED | SKIPPED | SKIPPED | +---------------------+--------------------+------------------+-------------------+-------------------------+----------------------+ | Ubuntu 20.04 | PASS | SKIPPED | SKIPPED | SKIPPED | SKIPPED | +---------------------+--------------------+------------------+-------------------+-------------------------+----------------------+ | RHEL9 | PASS | PASS | SKIPPED | SKIPPED | SKIPPED | +---------------------+--------------------+------------------+-------------------+-------------------------+----------------------+ | Ubuntu 24.04 | PASS | PASS | PASS | SKIPPED | SKIPPED | +---------------------+--------------------+------------------+-------------------+-------------------------+----------------------+ | Ubuntu 22.04 | PASS | PASS | PASS | SKIPPED | SKIPPED | +---------------------+--------------------+------------------+-------------------+-------------------------+----------------------+ | Alpine | PASS | PASS | SKIPPED | SKIPPED | SKIPPED | +---------------------+--------------------+------------------+-------------------+-------------------------+----------------------+ | FreeBSD 13.4 | PASS | SKIPPED | SKIPPED | SKIPPED | SKIPPED | +---------------------+--------------------+------------------+-------------------+-------------------------+----------------------+ | FreeBSD 14.2 | PASS | SKIPPED | SKIPPED | SKIPPED | SKIPPED | +---------------------+--------------------+------------------+-------------------+-------------------------+----------------------+ | Windows Server 2022 | SKIPPED | SKIPPED | SKIPPED | PASS | PASS | +---------------------+--------------------+------------------+-------------------+-------------------------+----------------------+ ==== 20 line log output for openSUSE Leap 15 (dpdk_compile_ovs): ==== --- Failed to get log output --- ==== End log output ==== CentOS Stream 9 Kernel: Depends on container host Compiler: gcc 11.5.0 20240719 (Red Hat 11.5.0-2) Fedora 39 (Clang) Kernel: Depends on container host Compiler: clang 17.0.6 (Fedora 17.0.6-2.fc39) Debian 12 Kernel: Depends on container host Compiler: gcc (Debian 12.2.0-14) 12.2.0 Fedora 39 Kernel: Depends on container host Compiler: gcc 13.3.1 20240522 (Red Hat 13.3.1-1) Fedora 40 (Clang) Kernel: Depends on container host Compiler: clang 18.1.8 (Fedora 18.1.8-1.fc40) Fedora 40 Kernel: Depends on container host Compiler: gcc 14.2.1 20240912 (Red Hat 14.2.1-3) openSUSE Leap 15 Kernel: Depends on container host Compiler: gcc (SUSE Linux) 7.5.0 RHEL8 Kernel: Depends on container host Compiler: gcc 8.5.0 20210514 (Red Hat 8.5.0-22) Ubuntu 20.04 Kernel: Depends on container host Compiler: gcc (Ubuntu 9.4.0-1ubuntu1~20.04.2) 9.4.0 RHEL9 Kernel: Depends on container host Compiler: gcc 11.5.0 20240719 (Red Hat 11.5.0-2) Ubuntu 24.04 Kernel: Depends on container host Compiler: gcc (Ubuntu 13.3.0-6ubuntu2~24.04) 13.3.0 Ubuntu 22.04 Kernel: Depends on container host Compiler: gcc (Ubuntu 11.4.0-1ubuntu1~22.04) 11.4.0 Alpine Kernel: Depends on container host Compiler: gcc (Alpine 14.2.0) 14.2.0 FreeBSD 13.4 Kernel: 13.4-RELEASE-p1 Compiler: clang 18.1.6 FreeBSD 14.2 Kernel: 14.2-RELEASE Compiler: clang 18.1.6 Windows Server 2022 Kernel: 10.0.20348.2031 Compiler: clang 15.0.7, gcc 14.1.0 (MinGW), and MSVC VS 19.39.33521 To view detailed results, visit: https://lab.dpdk.org/results/dashboard/patchsets/32146/ UNH-IOL DPDK Community Lab To manage your email subscriptions, visit: https://lab.dpdk.org/results/dashboard/preferences/subscriptions/