From mboxrd@z Thu Jan 1 00:00:00 1970 Return-Path: Received: from mails.dpdk.org (mails.dpdk.org [217.70.189.124]) by inbox.dpdk.org (Postfix) with ESMTP id 783EC461B2 for ; Fri, 7 Feb 2025 19:28:22 +0100 (CET) Received: from mails.dpdk.org (localhost [127.0.0.1]) by mails.dpdk.org (Postfix) with ESMTP id 72C1842EE1; Fri, 7 Feb 2025 19:28:22 +0100 (CET) Received: from mail-qv1-f98.google.com (mail-qv1-f98.google.com [209.85.219.98]) by mails.dpdk.org (Postfix) with ESMTP id 42D6C42E90 for ; Fri, 7 Feb 2025 19:28:21 +0100 (CET) Received: by mail-qv1-f98.google.com with SMTP id 6a1803df08f44-6e1a41935c3so31555496d6.3 for ; Fri, 07 Feb 2025 10:28:21 -0800 (PST) DKIM-Signature: v=1; a=rsa-sha256; c=relaxed/relaxed; d=iol.unh.edu; s=unh-iol; t=1738952900; x=1739557700; darn=dpdk.org; h=references:in-reply-to:cc:to:from:subject:message-id:date:from:to :cc:subject:date:message-id:reply-to; bh=SQrBVY7OCK+cjTnqaOXAfxMg5kQmhqd2Fp4MKY4SHzE=; b=RoU21N6VC9jMcSFD9OnXL4Zpcf5ZY9uJCQBF5DqvZVCLc26Gbx5m7UpB5hX83LtgeF 69jd/xrvelWpkZSzgDnknnNO9FufpcGJ144g5YhnhlsNPs4N+yN2GqzxoM1bfAQOADYS BsQ842WtjBBgfeTOXFs+B992NSD6Nnhq2Di8Y= X-Google-DKIM-Signature: v=1; a=rsa-sha256; c=relaxed/relaxed; d=1e100.net; s=20230601; t=1738952900; x=1739557700; h=references:in-reply-to:cc:to:from:subject:message-id:date :x-gm-message-state:from:to:cc:subject:date:message-id:reply-to; bh=SQrBVY7OCK+cjTnqaOXAfxMg5kQmhqd2Fp4MKY4SHzE=; b=Z6FxkUIYo+XjXKet21EwTLr+B21Rdt0JTlujTON/9+LeouZ2WOzhkD4EGpI5QNCgqV iq+moNsLw4Yip4CNYEughgHKmPx5hEGvCEwiV+9VSRODnnvnbS2vV46fEe1ujPt6vhgm HQdsubiOS8DVlyiJ8yQLIrdV9lVuzzg1atl34oTxZzewsg0NZKHhzqV0kruhO62C7yxI L1aZNzdzvfw4hWehLpGmB9hhMPRtdOLa2UHSCF1eXRBDlpw4CQc3RpW5MV8RyCMga7vm 3J47TsVI24ckrhGkktp62U4/Uq7E64GgpfSghRYCvSq04v9C0jQur3v0gmDIAWtUZ9Sd /Hgg== X-Gm-Message-State: AOJu0YxjHPVCZYLpUVG4JkN7Tx1xUB71Ueqfmd4y24qOXYiJBA8wE2DX OrlKOecsL/EkpBEe7AUdki0mEo0D1X/hrdF6SbfFZmOgh/dep57kDspIZlN38Ayx8g4f965S1Vm voGzbL3r/oapcrOV0LRU+Lto3VHDldlca9nEQA3To X-Gm-Gg: ASbGnctl/0mp/X5sKLFtj/j+FrkmrjY/EU214FUIs+C4xvzVNjGbse3NFSuDUospInp 36N2p9TjpqtvqEVrkNpVoGyWUzr4qEVyFe0tw4koBRqAnGqVF5ZwTaitTplP4JK93+FPg9M0EGJ 0wOipuGBoZd/nmyYXi7ybIiQTiXZPHpnFSskIIAKmv+Hbss4qAbEjLLwrIypL5KWA41vYl1RAzQ QTBZ6U6RVCxwcOrK/gNrh8aj+cuyGngNSskI2VW/L8iTfQvI10HsXwNMXTrMN1ZfQ/qWU4tvUX/ TXRS5kyi03dQ3S1ZH5uMDj3JasXgAQ== X-Google-Smtp-Source: AGHT+IFkf1+qCl1cXQNqI3IdRSvizmjElpT273aw8suKXw+iTaSHxWUzJc5ZYV3z4EUXlqseMKO8Ez0gFsB7 X-Received: by 2002:ad4:5d68:0:b0:6dd:c594:27a2 with SMTP id 6a1803df08f44-6e4456a0b9emr79692726d6.27.1738952900682; Fri, 07 Feb 2025 10:28:20 -0800 (PST) Received: from postal.iol.unh.edu (postal.iol.unh.edu. [132.177.123.84]) by smtp-relay.gmail.com with ESMTPS id 6a1803df08f44-6e44327f4b9sm1553906d6.30.2025.02.07.10.28.20 (version=TLS1_2 cipher=ECDHE-ECDSA-AES128-GCM-SHA256 bits=128/128); Fri, 07 Feb 2025 10:28:20 -0800 (PST) X-Relaying-Domain: iol.unh.edu Date: Fri, 07 Feb 2025 10:28:20 -0800 (PST) Message-ID: <67a650c4.050a0220.32f74.792fSMTPIN_ADDED_MISSING@mx.google.com> Received: from [172.21.0.7] (unknown [172.18.0.240]) by postal.iol.unh.edu (Postfix) with ESMTP id 299046052472; Fri, 7 Feb 2025 13:27:50 -0500 (EST) Subject: |WARNING| pw149187-149194 [PATCH] [v2,14/14] drivers/vdpa: use porta From: dpdklab@iol.unh.edu To: Test Report Cc: dpdk-test-reports@iol.unh.edu In-Reply-To: <1733954844-24397-15-git-send-email-andremue@linux.microsoft.com> References: <1733954844-24397-15-git-send-email-andremue@linux.microsoft.com> Content-Type: text/plain X-BeenThere: test-report@dpdk.org X-Mailman-Version: 2.1.29 Precedence: list List-Id: automatic DPDK test reports List-Unsubscribe: , List-Archive: List-Post: List-Help: List-Subscribe: , Errors-To: test-report-bounces@dpdk.org Test-Label: iol-compile-amd64-testing Test-Status: WARNING http://dpdk.org/patch/149194 _Testing issues_ Submitter: Andre Muezerie Date: Wednesday, December 11 2024 22:07:24 DPDK git baseline: Repo:dpdk Branch: master CommitID:7df61db6c387703a36306c1aea92225921e2eeb2 149187-149194 --> testing issues Test environment and result as below: +---------------------+--------------------+------------------+-------------------+-------------------------+----------------------+ | Environment | dpdk_meson_compile | dpdk_compile_ovs | dpdk_compile_spdk | dpdk_llvm_clang_compile | dpdk_mingw64_compile | +=====================+====================+==================+===================+=========================+======================+ | CentOS Stream 9 | PASS | PASS | PASS | SKIPPED | SKIPPED | +---------------------+--------------------+------------------+-------------------+-------------------------+----------------------+ | Debian 12 | PASS | PASS | PASS | SKIPPED | SKIPPED | +---------------------+--------------------+------------------+-------------------+-------------------------+----------------------+ | Fedora 39 (Clang) | PASS | PASS | PASS | SKIPPED | SKIPPED | +---------------------+--------------------+------------------+-------------------+-------------------------+----------------------+ | Fedora 39 | PASS | PASS | PASS | SKIPPED | SKIPPED | +---------------------+--------------------+------------------+-------------------+-------------------------+----------------------+ | Fedora 40 (Clang) | PASS | PASS | PASS | SKIPPED | SKIPPED | +---------------------+--------------------+------------------+-------------------+-------------------------+----------------------+ | Fedora 40 | PASS | PASS | PASS | SKIPPED | SKIPPED | +---------------------+--------------------+------------------+-------------------+-------------------------+----------------------+ | RHEL8 | PASS | PASS | SKIPPED | SKIPPED | SKIPPED | +---------------------+--------------------+------------------+-------------------+-------------------------+----------------------+ | Ubuntu 20.04 | PASS | SKIPPED | SKIPPED | SKIPPED | SKIPPED | +---------------------+--------------------+------------------+-------------------+-------------------------+----------------------+ | openSUSE Leap 15 | PASS | WARN | SKIPPED | SKIPPED | SKIPPED | +---------------------+--------------------+------------------+-------------------+-------------------------+----------------------+ | Ubuntu 24.04 | PASS | PASS | PASS | SKIPPED | SKIPPED | +---------------------+--------------------+------------------+-------------------+-------------------------+----------------------+ | Ubuntu 22.04 | PASS | PASS | PASS | SKIPPED | SKIPPED | +---------------------+--------------------+------------------+-------------------+-------------------------+----------------------+ | Alpine | PASS | PASS | SKIPPED | SKIPPED | SKIPPED | +---------------------+--------------------+------------------+-------------------+-------------------------+----------------------+ | FreeBSD 13.4 | PASS | SKIPPED | SKIPPED | SKIPPED | SKIPPED | +---------------------+--------------------+------------------+-------------------+-------------------------+----------------------+ | FreeBSD 14.2 | PASS | SKIPPED | SKIPPED | SKIPPED | SKIPPED | +---------------------+--------------------+------------------+-------------------+-------------------------+----------------------+ | RHEL9 | PASS | PASS | SKIPPED | SKIPPED | SKIPPED | +---------------------+--------------------+------------------+-------------------+-------------------------+----------------------+ | Windows Server 2022 | SKIPPED | SKIPPED | SKIPPED | PASS | PASS | +---------------------+--------------------+------------------+-------------------+-------------------------+----------------------+ ==== 20 line log output for openSUSE Leap 15 (dpdk_compile_ovs): ==== --- Failed to get log output --- ==== End log output ==== CentOS Stream 9 Kernel: Depends on container host Compiler: gcc 11.5.0 20240719 (Red Hat 11.5.0-2) Debian 12 Kernel: Depends on container host Compiler: gcc (Debian 12.2.0-14) 12.2.0 Fedora 39 (Clang) Kernel: Depends on container host Compiler: clang 17.0.6 (Fedora 17.0.6-2.fc39) Fedora 39 Kernel: Depends on container host Compiler: gcc 13.3.1 20240522 (Red Hat 13.3.1-1) Fedora 40 (Clang) Kernel: Depends on container host Compiler: clang 18.1.8 (Fedora 18.1.8-1.fc40) Fedora 40 Kernel: Depends on container host Compiler: gcc 14.2.1 20240912 (Red Hat 14.2.1-3) RHEL8 Kernel: Depends on container host Compiler: gcc 8.5.0 20210514 (Red Hat 8.5.0-22) Ubuntu 20.04 Kernel: Depends on container host Compiler: gcc (Ubuntu 9.4.0-1ubuntu1~20.04.2) 9.4.0 openSUSE Leap 15 Kernel: Depends on container host Compiler: gcc (SUSE Linux) 7.5.0 Ubuntu 24.04 Kernel: Depends on container host Compiler: gcc (Ubuntu 13.3.0-6ubuntu2~24.04) 13.3.0 Ubuntu 22.04 Kernel: Depends on container host Compiler: gcc (Ubuntu 11.4.0-1ubuntu1~22.04) 11.4.0 Alpine Kernel: Depends on container host Compiler: gcc (Alpine 14.2.0) 14.2.0 FreeBSD 13.4 Kernel: 13.4-RELEASE-p1 Compiler: clang 18.1.6 FreeBSD 14.2 Kernel: 14.2-RELEASE Compiler: clang 18.1.6 RHEL9 Kernel: Depends on container host Compiler: gcc 11.5.0 20240719 (Red Hat 11.5.0-2) Windows Server 2022 Kernel: 10.0.20348.2031 Compiler: clang 15.0.7, gcc 14.1.0 (MinGW), and MSVC VS 19.39.33521 To view detailed results, visit: https://lab.dpdk.org/results/dashboard/patchsets/32122/ UNH-IOL DPDK Community Lab To manage your email subscriptions, visit: https://lab.dpdk.org/results/dashboard/preferences/subscriptions/