From mboxrd@z Thu Jan 1 00:00:00 1970 Return-Path: Received: from mails.dpdk.org (mails.dpdk.org [217.70.189.124]) by inbox.dpdk.org (Postfix) with ESMTP id 88AEB461B2 for ; Fri, 7 Feb 2025 19:28:24 +0100 (CET) Received: from mails.dpdk.org (localhost [127.0.0.1]) by mails.dpdk.org (Postfix) with ESMTP id 82DF342EE1; Fri, 7 Feb 2025 19:28:24 +0100 (CET) Received: from mail-yw1-f228.google.com (mail-yw1-f228.google.com [209.85.128.228]) by mails.dpdk.org (Postfix) with ESMTP id 187E642E90 for ; Fri, 7 Feb 2025 19:28:23 +0100 (CET) Received: by mail-yw1-f228.google.com with SMTP id 00721157ae682-6f88509dad2so22016247b3.3 for ; Fri, 07 Feb 2025 10:28:23 -0800 (PST) DKIM-Signature: v=1; a=rsa-sha256; c=relaxed/relaxed; d=iol.unh.edu; s=unh-iol; t=1738952902; x=1739557702; darn=dpdk.org; h=references:in-reply-to:cc:to:from:subject:message-id:date:from:to :cc:subject:date:message-id:reply-to; bh=H88vj7zazgh1MnZxOdLOG5iHCI6jC16OZD+IKWN9+jU=; b=FPfwyBYMlwULz7E3fGRjSJUVJGnf6+wnQcmX7s6zWKP4LwN2ZdF/3I0bceGxby2eus xKLfw+gIS8DHgyBdqYNwQI3t32Px39pOsQVo5DOir9Ie3/mixt4P7Md/f3lmfrleur3l NBOQfAqeeirr4c5CWfMVOgP8at4Yz4UQSUKDw= X-Google-DKIM-Signature: v=1; a=rsa-sha256; c=relaxed/relaxed; d=1e100.net; s=20230601; t=1738952902; x=1739557702; h=references:in-reply-to:cc:to:from:subject:message-id:date :x-gm-message-state:from:to:cc:subject:date:message-id:reply-to; bh=H88vj7zazgh1MnZxOdLOG5iHCI6jC16OZD+IKWN9+jU=; b=YU0WHXjIU05kAznfCTgOjfMit8vWwaFaHGdPgSBDdY0Yjw3vWlP6z/ga0oqxwxPmpT Ja3V8RosUgSkaAMj5iwcWYY8qkSjysmEw0w1ZMeR16AWv6rluM0+gplx0RE8e0IvRrec jEKGoKBpEqJ/b2IO57NP5+mTQpfdnSpCbu7lFVffZR9lOGq8N3fqP2RF3slGVlbAa6eS cejq9FkE8InhgY2CqMXnb2J7C0YPVXsOVRXA2osOnseG4e4OixZPnLvRyJK4G7ZZNcK5 W5eXBo7+qd8KI/eFZfsEjM7bqLEsuP95yIvFxAHIRxiICU9SH3fk8gNEfAYjowkeebAR EU2g== X-Gm-Message-State: AOJu0YwMWISGya6AfXdp2wgj3KtlzurioSzeAvLxaV9Zl0xgwzdV7DCA wtLCDRIXrYZNcLOn5tq6c+BkiyR0pXxTeo1d1PChBHJiSa7O1Cc5/ZFrncsb6ynSfjqPVCZA4VN k/C522ykKlizLBr/LihsFPwn43wIN8CsWNFaI6MsS X-Gm-Gg: ASbGnctrUOFw2clVcQbvr3G4GNIroHrlzbk+txOIgtnpGOlwwvln/Rawx1unjcmrKZf ZNJuirtEA/UAjPlqblpHXNpK84SqcmiQBXtoOW4d8OqrQDvQur542J7qjdO/z33RKVSfi3jhxGT cjX8H06YJGWXnuBhWyinFiyb9+kiXlv3XuKfUblKGe4JNwNVXeTzVdJl5q4d29sB2cYLrkWNI85 aG5ZWQUD83iHXrtGbb+ad9DrcpFjF1UDpiVIF3yXBPgskBfEeuH5VIs/IwUMrPGln6JQ/D/0Xnv SOau2Ct2nZRT8x2P5DeP/7t3+Ik7zw== X-Google-Smtp-Source: AGHT+IGm24R2j53libKIpcgXjnwnnoK57t0gP8Yy2gRJCfId1xNZGsDNAXVCuUxQeVvXZw64h7d2BshXLlVw X-Received: by 2002:a05:690c:6f8b:b0:6f9:a33a:4bf9 with SMTP id 00721157ae682-6f9b280d085mr39438517b3.8.1738952902386; Fri, 07 Feb 2025 10:28:22 -0800 (PST) Received: from postal.iol.unh.edu (postal.iol.unh.edu. [132.177.123.84]) by smtp-relay.gmail.com with ESMTPS id 00721157ae682-6f99fe72996sm510787b3.41.2025.02.07.10.28.22 (version=TLS1_2 cipher=ECDHE-ECDSA-AES128-GCM-SHA256 bits=128/128); Fri, 07 Feb 2025 10:28:22 -0800 (PST) X-Relaying-Domain: iol.unh.edu Date: Fri, 07 Feb 2025 10:28:22 -0800 (PST) Message-ID: <67a650c6.050a0220.6f4df.271dSMTPIN_ADDED_MISSING@mx.google.com> Received: from [172.21.0.5] (unknown [172.18.0.240]) by postal.iol.unh.edu (Postfix) with ESMTP id 0B5E76052477; Fri, 7 Feb 2025 13:27:52 -0500 (EST) Subject: |WARNING| pw149212-149215 [PATCH] [v1,4/4] net/ixgbe: prevent crashe From: dpdklab@iol.unh.edu To: Test Report Cc: dpdk-test-reports@iol.unh.edu In-Reply-To: <74c3e65d59e92ca4573917ed2d775c432fd0e7e8.1734020337.git.anatoly.burakov@intel.com> References: <74c3e65d59e92ca4573917ed2d775c432fd0e7e8.1734020337.git.anatoly.burakov@intel.com> Content-Type: text/plain X-BeenThere: test-report@dpdk.org X-Mailman-Version: 2.1.29 Precedence: list List-Id: automatic DPDK test reports List-Unsubscribe: , List-Archive: List-Post: List-Help: List-Subscribe: , Errors-To: test-report-bounces@dpdk.org Test-Label: iol-compile-amd64-testing Test-Status: WARNING http://dpdk.org/patch/149215 _Testing issues_ Submitter: Burakov, Anatoly Date: Thursday, December 12 2024 16:19:06 DPDK git baseline: Repo:dpdk Branch: master CommitID:ce85dd8562ad9673eb4fe46b4a8bd3a508e8b32f 149212-149215 --> testing issues Test environment and result as below: +---------------------+--------------------+------------------+-------------------+-------------------------+----------------------+-------------------+ | Environment | dpdk_meson_compile | dpdk_compile_ovs | dpdk_compile_spdk | dpdk_llvm_clang_compile | dpdk_mingw64_compile | dpdk_msvc_compile | +=====================+====================+==================+===================+=========================+======================+===================+ | CentOS Stream 9 | PASS | PASS | PASS | SKIPPED | SKIPPED | SKIPPED | +---------------------+--------------------+------------------+-------------------+-------------------------+----------------------+-------------------+ | Debian 12 | PASS | PASS | PASS | SKIPPED | SKIPPED | SKIPPED | +---------------------+--------------------+------------------+-------------------+-------------------------+----------------------+-------------------+ | Fedora 39 (Clang) | PASS | PASS | PASS | SKIPPED | SKIPPED | SKIPPED | +---------------------+--------------------+------------------+-------------------+-------------------------+----------------------+-------------------+ | Fedora 39 | PASS | PASS | PASS | SKIPPED | SKIPPED | SKIPPED | +---------------------+--------------------+------------------+-------------------+-------------------------+----------------------+-------------------+ | Fedora 40 (Clang) | PASS | PASS | PASS | SKIPPED | SKIPPED | SKIPPED | +---------------------+--------------------+------------------+-------------------+-------------------------+----------------------+-------------------+ | Fedora 40 | PASS | PASS | PASS | SKIPPED | SKIPPED | SKIPPED | +---------------------+--------------------+------------------+-------------------+-------------------------+----------------------+-------------------+ | openSUSE Leap 15 | PASS | WARN | SKIPPED | SKIPPED | SKIPPED | SKIPPED | +---------------------+--------------------+------------------+-------------------+-------------------------+----------------------+-------------------+ | RHEL9 | PASS | PASS | SKIPPED | SKIPPED | SKIPPED | SKIPPED | +---------------------+--------------------+------------------+-------------------+-------------------------+----------------------+-------------------+ | RHEL8 | PASS | PASS | SKIPPED | SKIPPED | SKIPPED | SKIPPED | +---------------------+--------------------+------------------+-------------------+-------------------------+----------------------+-------------------+ | Ubuntu 20.04 | PASS | SKIPPED | SKIPPED | SKIPPED | SKIPPED | SKIPPED | +---------------------+--------------------+------------------+-------------------+-------------------------+----------------------+-------------------+ | Ubuntu 22.04 | PASS | PASS | PASS | SKIPPED | SKIPPED | SKIPPED | +---------------------+--------------------+------------------+-------------------+-------------------------+----------------------+-------------------+ | Ubuntu 24.04 | PASS | PASS | PASS | SKIPPED | SKIPPED | SKIPPED | +---------------------+--------------------+------------------+-------------------+-------------------------+----------------------+-------------------+ | Alpine | PASS | PASS | SKIPPED | SKIPPED | SKIPPED | SKIPPED | +---------------------+--------------------+------------------+-------------------+-------------------------+----------------------+-------------------+ | FreeBSD 13.4 | PASS | SKIPPED | SKIPPED | SKIPPED | SKIPPED | SKIPPED | +---------------------+--------------------+------------------+-------------------+-------------------------+----------------------+-------------------+ | FreeBSD 14.2 | PASS | SKIPPED | SKIPPED | SKIPPED | SKIPPED | SKIPPED | +---------------------+--------------------+------------------+-------------------+-------------------------+----------------------+-------------------+ | Windows Server 2022 | SKIPPED | SKIPPED | SKIPPED | PASS | PASS | PASS | +---------------------+--------------------+------------------+-------------------+-------------------------+----------------------+-------------------+ ==== 20 line log output for openSUSE Leap 15 (dpdk_compile_ovs): ==== --- Failed to get log output --- ==== End log output ==== CentOS Stream 9 Kernel: Depends on container host Compiler: gcc 11.5.0 20240719 (Red Hat 11.5.0-2) Debian 12 Kernel: Depends on container host Compiler: gcc (Debian 12.2.0-14) 12.2.0 Fedora 39 (Clang) Kernel: Depends on container host Compiler: clang 17.0.6 (Fedora 17.0.6-2.fc39) Fedora 39 Kernel: Depends on container host Compiler: gcc 13.3.1 20240522 (Red Hat 13.3.1-1) Fedora 40 (Clang) Kernel: Depends on container host Compiler: clang 18.1.8 (Fedora 18.1.8-1.fc40) Fedora 40 Kernel: Depends on container host Compiler: gcc 14.2.1 20240912 (Red Hat 14.2.1-3) openSUSE Leap 15 Kernel: Depends on container host Compiler: gcc (SUSE Linux) 7.5.0 RHEL9 Kernel: Depends on container host Compiler: gcc 11.5.0 20240719 (Red Hat 11.5.0-2) RHEL8 Kernel: Depends on container host Compiler: gcc 8.5.0 20210514 (Red Hat 8.5.0-22) Ubuntu 20.04 Kernel: Depends on container host Compiler: gcc (Ubuntu 9.4.0-1ubuntu1~20.04.2) 9.4.0 Ubuntu 22.04 Kernel: Depends on container host Compiler: gcc (Ubuntu 11.4.0-1ubuntu1~22.04) 11.4.0 Ubuntu 24.04 Kernel: Depends on container host Compiler: gcc (Ubuntu 13.3.0-6ubuntu2~24.04) 13.3.0 Alpine Kernel: Depends on container host Compiler: gcc (Alpine 14.2.0) 14.2.0 FreeBSD 13.4 Kernel: 13.4-RELEASE-p1 Compiler: clang 18.1.6 FreeBSD 14.2 Kernel: 14.2-RELEASE Compiler: clang 18.1.6 Windows Server 2022 Kernel: 10.0.20348.2031 Compiler: clang 15.0.7, gcc 14.1.0 (MinGW), and MSVC VS 19.39.33521 To view detailed results, visit: https://lab.dpdk.org/results/dashboard/patchsets/32128/ UNH-IOL DPDK Community Lab To manage your email subscriptions, visit: https://lab.dpdk.org/results/dashboard/preferences/subscriptions/