From mboxrd@z Thu Jan 1 00:00:00 1970 Return-Path: Received: from mails.dpdk.org (mails.dpdk.org [217.70.189.124]) by inbox.dpdk.org (Postfix) with ESMTP id A79BE461B2 for ; Fri, 7 Feb 2025 19:28:34 +0100 (CET) Received: from mails.dpdk.org (localhost [127.0.0.1]) by mails.dpdk.org (Postfix) with ESMTP id A329342EF2; Fri, 7 Feb 2025 19:28:34 +0100 (CET) Received: from mail-oo1-f100.google.com (mail-oo1-f100.google.com [209.85.161.100]) by mails.dpdk.org (Postfix) with ESMTP id 71E7E42EE1 for ; Fri, 7 Feb 2025 19:28:33 +0100 (CET) Received: by mail-oo1-f100.google.com with SMTP id 006d021491bc7-5fc447b03f2so577144eaf.0 for ; Fri, 07 Feb 2025 10:28:33 -0800 (PST) DKIM-Signature: v=1; a=rsa-sha256; c=relaxed/relaxed; d=iol.unh.edu; s=unh-iol; t=1738952912; x=1739557712; darn=dpdk.org; h=references:in-reply-to:cc:to:from:subject:message-id:date:from:to :cc:subject:date:message-id:reply-to; bh=tukjIvXJ5ti0eJVo1h/glWRRTuyK6Oge4ZtgjSmICh8=; b=NEWYaBUcLZZc/oaCfoHc/PXMYTXivPrI2mDEuMJleDGq7MyS+P3ScTJK/wp0eQImJ5 1+K6gz8J61euPgbV6T/l9TlTv4EodWrDEgsC7GtHWQPTOGM99kxEfYaB9Xlgg+ka+rA/ zHC3vI5byIEqHDFQ9pGn14lH8RXzLsZ70UZ0w= X-Google-DKIM-Signature: v=1; a=rsa-sha256; c=relaxed/relaxed; d=1e100.net; s=20230601; t=1738952912; x=1739557712; h=references:in-reply-to:cc:to:from:subject:message-id:date :x-gm-message-state:from:to:cc:subject:date:message-id:reply-to; bh=tukjIvXJ5ti0eJVo1h/glWRRTuyK6Oge4ZtgjSmICh8=; b=eVsgJyaxNiDpQ4NU+0dkuwdQUN6l+Mq+gs4FMT0KxBvBO7hw3J7u8xTfpwTEJWq5Wc gsgWJNOmHQ/hZn5nAyDX9oVRknmzpD27XtzwWVyzNVAc7+lt79IGtja3tCuozij3+d2J JJs1W7BquDPxoDauXHXEhZfKOCbNBqxt2gLfqntw9AJ3BiKUUgnrRzSNAQjwTollpxHO sJbV0ynNCyvoXR85OQpxXl3tjY2yjtZyRiHvHVXTKWKVRQEmiG/HxLtvCMZGKMRIoTIw 2816RkYj3xsdVcnc3dUKY4MMvsDkhXR9m9mAcWU3uD8gO45hUGhQoARPXete9sTyNpjD MUZw== X-Gm-Message-State: AOJu0Yy3WPJHjPAhutykP5eWg4m24rZ35iorVS7D9ES8JTDv/jV72dcD XMt1pRKv6eUweG2P1pNoGYjDGE+WAMpH+Z9QoqcqYG181Gon08Y/D02JC9j3HbLztkaa+zaPYCB 6sKJcrF0s+kXceNKdKMYoYGIxqqn6fec93hlQJImj X-Gm-Gg: ASbGnctFYR/uXHXa0sTboO3liBgySUg7XuA+5wD+Otrclw9mOQWU0M9Fq5W9CHsJONb L2FW+7DWtO1HjrRoc8r6qKErB2RD7XYEqRZVhBit8pkNk4R3aBBxWh7R59pa22RmNaWKxq9v3XU 71G8lCqqBQJb0xdtg9dto7bO/+oDHm8Vs1AvNpyCv+LQF8kaihJ1V9cXVL99uHYLjlqEQ+MSisb vvjUUUS8PyEwrTbKXMZJvne4c0JbOO7PW9iXGoJoR7MstGJsqYM5umNxJ837BPtnM4BA8VMtqmq 6Wbz4eUZgW2LMtkESPq7VScE1VVDZg== X-Google-Smtp-Source: AGHT+IHQkFN1CG+DBRlgr/6srNGiBEFeSwSEzASjAfnSFt5z3RjcCwUWk5BYuc0w41h/Ei1LtrFYB/3h9Jku X-Received: by 2002:a05:6820:1845:b0:5fa:9407:a41b with SMTP id 006d021491bc7-5fc5e45c32cmr2544638eaf.0.1738952912647; Fri, 07 Feb 2025 10:28:32 -0800 (PST) Received: from postal.iol.unh.edu (postal.iol.unh.edu. [132.177.123.84]) by smtp-relay.gmail.com with ESMTPS id 006d021491bc7-5fc544a9b93sm125762eaf.5.2025.02.07.10.28.32 (version=TLS1_2 cipher=ECDHE-ECDSA-AES128-GCM-SHA256 bits=128/128); Fri, 07 Feb 2025 10:28:32 -0800 (PST) X-Relaying-Domain: iol.unh.edu Date: Fri, 07 Feb 2025 10:28:32 -0800 (PST) Message-ID: <67a650d0.050a0220.358bc6.6dd7SMTPIN_ADDED_MISSING@mx.google.com> Received: from [172.21.0.6] (unknown [172.18.0.240]) by postal.iol.unh.edu (Postfix) with ESMTP id 2599F6052471; Fri, 7 Feb 2025 13:28:32 -0500 (EST) Subject: |WARNING| pw149223-149228 [PATCH] [v2,6/6] buildtools: externally ch From: dpdklab@iol.unh.edu To: Test Report Cc: dpdk-test-reports@iol.unh.edu In-Reply-To: <20241213105010.1527683-7-david.marchand@redhat.com> References: <20241213105010.1527683-7-david.marchand@redhat.com> Content-Type: text/plain X-BeenThere: test-report@dpdk.org X-Mailman-Version: 2.1.29 Precedence: list List-Id: automatic DPDK test reports List-Unsubscribe: , List-Archive: List-Post: List-Help: List-Subscribe: , Errors-To: test-report-bounces@dpdk.org Test-Label: iol-compile-amd64-testing Test-Status: WARNING http://dpdk.org/patch/149228 _Testing issues_ Submitter: David Marchand Date: Friday, December 13 2024 10:50:10 DPDK git baseline: Repo:dpdk Branch: master CommitID:7df61db6c387703a36306c1aea92225921e2eeb2 149223-149228 --> testing issues Test environment and result as below: +---------------------+--------------------+------------------+-------------------+-------------------------+----------------------+-------------------+ | Environment | dpdk_meson_compile | dpdk_compile_ovs | dpdk_compile_spdk | dpdk_llvm_clang_compile | dpdk_mingw64_compile | dpdk_msvc_compile | +=====================+====================+==================+===================+=========================+======================+===================+ | CentOS Stream 9 | PASS | PASS | PASS | SKIPPED | SKIPPED | SKIPPED | +---------------------+--------------------+------------------+-------------------+-------------------------+----------------------+-------------------+ | Fedora 40 (Clang) | PASS | PASS | PASS | SKIPPED | SKIPPED | SKIPPED | +---------------------+--------------------+------------------+-------------------+-------------------------+----------------------+-------------------+ | Fedora 39 (Clang) | PASS | PASS | PASS | SKIPPED | SKIPPED | SKIPPED | +---------------------+--------------------+------------------+-------------------+-------------------------+----------------------+-------------------+ | Fedora 39 | PASS | PASS | PASS | SKIPPED | SKIPPED | SKIPPED | +---------------------+--------------------+------------------+-------------------+-------------------------+----------------------+-------------------+ | RHEL8 | PASS | PASS | SKIPPED | SKIPPED | SKIPPED | SKIPPED | +---------------------+--------------------+------------------+-------------------+-------------------------+----------------------+-------------------+ | RHEL9 | PASS | PASS | SKIPPED | SKIPPED | SKIPPED | SKIPPED | +---------------------+--------------------+------------------+-------------------+-------------------------+----------------------+-------------------+ | Fedora 40 | PASS | PASS | PASS | SKIPPED | SKIPPED | SKIPPED | +---------------------+--------------------+------------------+-------------------+-------------------------+----------------------+-------------------+ | openSUSE Leap 15 | PASS | WARN | SKIPPED | SKIPPED | SKIPPED | SKIPPED | +---------------------+--------------------+------------------+-------------------+-------------------------+----------------------+-------------------+ | Ubuntu 20.04 | PASS | SKIPPED | SKIPPED | SKIPPED | SKIPPED | SKIPPED | +---------------------+--------------------+------------------+-------------------+-------------------------+----------------------+-------------------+ | Ubuntu 24.04 | PASS | PASS | PASS | SKIPPED | SKIPPED | SKIPPED | +---------------------+--------------------+------------------+-------------------+-------------------------+----------------------+-------------------+ | Ubuntu 22.04 | PASS | PASS | PASS | SKIPPED | SKIPPED | SKIPPED | +---------------------+--------------------+------------------+-------------------+-------------------------+----------------------+-------------------+ | Alpine | PASS | PASS | SKIPPED | SKIPPED | SKIPPED | SKIPPED | +---------------------+--------------------+------------------+-------------------+-------------------------+----------------------+-------------------+ | FreeBSD 13.4 | PASS | SKIPPED | SKIPPED | SKIPPED | SKIPPED | SKIPPED | +---------------------+--------------------+------------------+-------------------+-------------------------+----------------------+-------------------+ | FreeBSD 14.2 | PASS | SKIPPED | SKIPPED | SKIPPED | SKIPPED | SKIPPED | +---------------------+--------------------+------------------+-------------------+-------------------------+----------------------+-------------------+ | Windows Server 2022 | SKIPPED | SKIPPED | SKIPPED | PASS | PASS | PASS | +---------------------+--------------------+------------------+-------------------+-------------------------+----------------------+-------------------+ ==== 20 line log output for openSUSE Leap 15 (dpdk_compile_ovs): ==== --- Failed to get log output --- ==== End log output ==== CentOS Stream 9 Kernel: Depends on container host Compiler: gcc 11.5.0 20240719 (Red Hat 11.5.0-2) Fedora 40 (Clang) Kernel: Depends on container host Compiler: clang 18.1.8 (Fedora 18.1.8-1.fc40) Fedora 39 (Clang) Kernel: Depends on container host Compiler: clang 17.0.6 (Fedora 17.0.6-2.fc39) Fedora 39 Kernel: Depends on container host Compiler: gcc 13.3.1 20240522 (Red Hat 13.3.1-1) RHEL8 Kernel: Depends on container host Compiler: gcc 8.5.0 20210514 (Red Hat 8.5.0-22) RHEL9 Kernel: Depends on container host Compiler: gcc 11.5.0 20240719 (Red Hat 11.5.0-2) Fedora 40 Kernel: Depends on container host Compiler: gcc 14.2.1 20240912 (Red Hat 14.2.1-3) openSUSE Leap 15 Kernel: Depends on container host Compiler: gcc (SUSE Linux) 7.5.0 Ubuntu 20.04 Kernel: Depends on container host Compiler: gcc (Ubuntu 9.4.0-1ubuntu1~20.04.2) 9.4.0 Ubuntu 24.04 Kernel: Depends on container host Compiler: gcc (Ubuntu 13.3.0-6ubuntu2~24.04) 13.3.0 Ubuntu 22.04 Kernel: Depends on container host Compiler: gcc (Ubuntu 11.4.0-1ubuntu1~22.04) 11.4.0 Alpine Kernel: Depends on container host Compiler: gcc (Alpine 14.2.0) 14.2.0 FreeBSD 13.4 Kernel: 13.4-RELEASE-p1 Compiler: clang 18.1.6 FreeBSD 14.2 Kernel: 14.2-RELEASE Compiler: clang 18.1.6 Windows Server 2022 Kernel: 10.0.20348.2031 Compiler: clang 15.0.7, gcc 14.1.0 (MinGW), and MSVC VS 19.39.33521 To view detailed results, visit: https://lab.dpdk.org/results/dashboard/patchsets/32135/ UNH-IOL DPDK Community Lab To manage your email subscriptions, visit: https://lab.dpdk.org/results/dashboard/preferences/subscriptions/