From mboxrd@z Thu Jan 1 00:00:00 1970 Return-Path: Received: from mails.dpdk.org (mails.dpdk.org [217.70.189.124]) by inbox.dpdk.org (Postfix) with ESMTP id D385F461BE for ; Fri, 7 Feb 2025 19:28:43 +0100 (CET) Received: from mails.dpdk.org (localhost [127.0.0.1]) by mails.dpdk.org (Postfix) with ESMTP id D15C142EF1; Fri, 7 Feb 2025 19:28:43 +0100 (CET) Received: from mail-il1-f227.google.com (mail-il1-f227.google.com [209.85.166.227]) by mails.dpdk.org (Postfix) with ESMTP id B7C7642EE1 for ; Fri, 7 Feb 2025 19:28:42 +0100 (CET) Received: by mail-il1-f227.google.com with SMTP id e9e14a558f8ab-3ce915a8a25so7561015ab.1 for ; Fri, 07 Feb 2025 10:28:42 -0800 (PST) DKIM-Signature: v=1; a=rsa-sha256; c=relaxed/relaxed; d=iol.unh.edu; s=unh-iol; t=1738952922; x=1739557722; darn=dpdk.org; h=cc:to:from:subject:message-id:date:from:to:cc:subject:date :message-id:reply-to; bh=06GHoJZ0tegKwqWrJ/shWo8Mm1TbK09ZfKf7B60uAsM=; b=CEa14+2ex5g4D5Tahr0NGCAWtnE6lbxizW4CA2b+ZkY95jfsLaYJcTcWPcBWHxl1il Q2WIHOCFSrswCc+WLke8KQB1mHkJsZormZkTrVKFh3lauIj8aV+oiG7K/TrkxxGucyrQ pfGKojDHFtHC9H94rDrOHqYhr4ElFYT8V1KiA= X-Google-DKIM-Signature: v=1; a=rsa-sha256; c=relaxed/relaxed; d=1e100.net; s=20230601; t=1738952922; x=1739557722; h=cc:to:from:subject:message-id:date:x-gm-message-state:from:to:cc :subject:date:message-id:reply-to; bh=06GHoJZ0tegKwqWrJ/shWo8Mm1TbK09ZfKf7B60uAsM=; b=t3zB+TanaVyh70hCmYbQDvmUshoEbx/IVjyJZQuwAUInn0oQ8jutWLRQjl49Kn+IN8 rf4d9Y79r0xARO5d3ZbWgbAcmqBtOVlcSs6T0haO5ALWZbGIrkK8wGIfBPvKywQoVy+0 f22EELQmeZ5HEQPw3RJlcuK6+GMCR7XLLh33Ii2Nm0m/KO2aKU7iVoYziGRFnrw0hGfB 7gX55ygJjB3qOaMtB1Dp3oQuYild+E6UfrNbRoiko2bGY+JbyiM1RK3peO11G6FidmOY iRWOnyg7RqUfQQukuNoJcMVLT6m9LPH6yBFEkCUSAgXR8eY2wIYPEwP3Wv+jZYZDtwLV cT2w== X-Gm-Message-State: AOJu0YxJaSAInbDEWY9ZzIFIeYRtDyLZgOo7x5lsUJiD746u3do/qJUB yfzy13HKkNFgplZm3HRfvcfe/JkVpTZT9TAGndDXDBGFxiIJDT3LtODKsze2gsvVIPB+2Lnz0VT PhEbujK/kQGZ1z8BHtDudmvayQvmqRJlNmMgqdY/A X-Gm-Gg: ASbGncvfcPZnI3lOJPD2ndIpkZpm2nL8lEiLTDd9o/zlGQuYTQEXUSxIQDyTTDvVrdY pli/4uD0mivJXjvu/pVS9t1Si2vND/v2WhnIr/ykA/pWtQRsTxF9yknwlBzBi2XIASU96uOxZ4c IEHpLi6sePQxnIRYB649Mquq7ma916n84PgoaXTLTChwAG37bdoHziAdjzy+gI1Op/4eoxwHtOz 2XWXfKI6N/y7nKe4g20I5kN7GrsgDU9mujooThF6xMe0lkQ6s2a4ZoDfVwfpT6c3QJYtroo4Qn5 qARydRi+Y5Pxe6bLicVYVVA1dzZ1AA== X-Google-Smtp-Source: AGHT+IE9Dj2suCDAhLo6WBRkTMpwteQ3LaR8PqagweYw0QA07ltZirdeDlY8S+fIDiBn6zXS8OdTEOMR2pmu X-Received: by 2002:a05:6e02:20e2:b0:3cf:b365:dcf0 with SMTP id e9e14a558f8ab-3d13df549f7mr32422125ab.19.1738952921906; Fri, 07 Feb 2025 10:28:41 -0800 (PST) Received: from postal.iol.unh.edu (postal.iol.unh.edu. [132.177.123.84]) by smtp-relay.gmail.com with ESMTPS id 8926c6da1cb9f-4eccfaa248bsm246816173.53.2025.02.07.10.28.41 (version=TLS1_2 cipher=ECDHE-ECDSA-AES128-GCM-SHA256 bits=128/128); Fri, 07 Feb 2025 10:28:41 -0800 (PST) X-Relaying-Domain: iol.unh.edu Date: Fri, 07 Feb 2025 10:28:41 -0800 (PST) Message-ID: <67a650d9.050a0220.2b04f.d253SMTPIN_ADDED_MISSING@mx.google.com> Received: from [172.21.0.7] (unknown [172.18.0.240]) by postal.iol.unh.edu (Postfix) with ESMTP id 70D326052472; Fri, 7 Feb 2025 13:28:41 -0500 (EST) Subject: |WARNING| [GIT MASTER] f1e0472368d4dbb1da33ae68b18ca21bc8a55259 From: dpdklab@iol.unh.edu To: Test Report Cc: dpdk-test-reports@iol.unh.edu, Stephen Hemminger Content-Type: text/plain X-BeenThere: test-report@dpdk.org X-Mailman-Version: 2.1.29 Precedence: list List-Id: automatic DPDK test reports List-Unsubscribe: , List-Archive: List-Post: List-Help: List-Subscribe: , Errors-To: test-report-bounces@dpdk.org _Testing issues_ Branch: dpdk-next-net f1e0472368d4dbb1da33ae68b18ca21bc8a55259 --> testing issues Test environment and result as below: +---------------------+--------------------+------------------+-------------------+-------------------------+----------------------+-------------------+ | Environment | dpdk_meson_compile | dpdk_compile_ovs | dpdk_compile_spdk | dpdk_llvm_clang_compile | dpdk_mingw64_compile | dpdk_msvc_compile | +=====================+====================+==================+===================+=========================+======================+===================+ | Debian 12 | PASS | PASS | PASS | SKIPPED | SKIPPED | SKIPPED | +---------------------+--------------------+------------------+-------------------+-------------------------+----------------------+-------------------+ | CentOS Stream 9 | PASS | PASS | PASS | SKIPPED | SKIPPED | SKIPPED | +---------------------+--------------------+------------------+-------------------+-------------------------+----------------------+-------------------+ | Fedora 39 (Clang) | PASS | PASS | PASS | SKIPPED | SKIPPED | SKIPPED | +---------------------+--------------------+------------------+-------------------+-------------------------+----------------------+-------------------+ | Fedora 40 (Clang) | PASS | PASS | PASS | SKIPPED | SKIPPED | SKIPPED | +---------------------+--------------------+------------------+-------------------+-------------------------+----------------------+-------------------+ | openSUSE Leap 15 | PASS | WARN | SKIPPED | SKIPPED | SKIPPED | SKIPPED | +---------------------+--------------------+------------------+-------------------+-------------------------+----------------------+-------------------+ | Ubuntu 20.04 | PASS | SKIPPED | SKIPPED | SKIPPED | SKIPPED | SKIPPED | +---------------------+--------------------+------------------+-------------------+-------------------------+----------------------+-------------------+ | RHEL8 | PASS | PASS | SKIPPED | SKIPPED | SKIPPED | SKIPPED | +---------------------+--------------------+------------------+-------------------+-------------------------+----------------------+-------------------+ | Ubuntu 22.04 | PASS | PASS | PASS | SKIPPED | SKIPPED | SKIPPED | +---------------------+--------------------+------------------+-------------------+-------------------------+----------------------+-------------------+ | Ubuntu 24.04 | PASS | PASS | PASS | SKIPPED | SKIPPED | SKIPPED | +---------------------+--------------------+------------------+-------------------+-------------------------+----------------------+-------------------+ | Alpine | PASS | PASS | SKIPPED | SKIPPED | SKIPPED | SKIPPED | +---------------------+--------------------+------------------+-------------------+-------------------------+----------------------+-------------------+ | FreeBSD 14.2 | PASS | SKIPPED | SKIPPED | SKIPPED | SKIPPED | SKIPPED | +---------------------+--------------------+------------------+-------------------+-------------------------+----------------------+-------------------+ | Fedora 40 | PASS | PASS | PASS | SKIPPED | SKIPPED | SKIPPED | +---------------------+--------------------+------------------+-------------------+-------------------------+----------------------+-------------------+ | FreeBSD 13.4 | PASS | SKIPPED | SKIPPED | SKIPPED | SKIPPED | SKIPPED | +---------------------+--------------------+------------------+-------------------+-------------------------+----------------------+-------------------+ | RHEL9 | PASS | PASS | SKIPPED | SKIPPED | SKIPPED | SKIPPED | +---------------------+--------------------+------------------+-------------------+-------------------------+----------------------+-------------------+ | Windows Server 2022 | SKIPPED | SKIPPED | SKIPPED | PASS | PASS | PASS | +---------------------+--------------------+------------------+-------------------+-------------------------+----------------------+-------------------+ ==== 20 line log output for openSUSE Leap 15 (dpdk_compile_ovs): ==== --- Failed to get log output --- ==== End log output ==== Debian 12 Kernel: Depends on container host Compiler: gcc (Debian 12.2.0-14) 12.2.0 CentOS Stream 9 Kernel: Depends on container host Compiler: gcc 11.5.0 20240719 (Red Hat 11.5.0-2) Fedora 39 (Clang) Kernel: Depends on container host Compiler: clang 17.0.6 (Fedora 17.0.6-2.fc39) Fedora 40 (Clang) Kernel: Depends on container host Compiler: clang 18.1.8 (Fedora 18.1.8-1.fc40) openSUSE Leap 15 Kernel: Depends on container host Compiler: gcc (SUSE Linux) 7.5.0 Ubuntu 20.04 Kernel: Depends on container host Compiler: gcc (Ubuntu 9.4.0-1ubuntu1~20.04.2) 9.4.0 RHEL8 Kernel: Depends on container host Compiler: gcc 8.5.0 20210514 (Red Hat 8.5.0-22) Ubuntu 22.04 Kernel: Depends on container host Compiler: gcc (Ubuntu 11.4.0-1ubuntu1~22.04) 11.4.0 Ubuntu 24.04 Kernel: Depends on container host Compiler: gcc (Ubuntu 13.3.0-6ubuntu2~24.04) 13.3.0 Alpine Kernel: Depends on container host Compiler: gcc (Alpine 14.2.0) 14.2.0 FreeBSD 14.2 Kernel: 14.2-RELEASE Compiler: clang 18.1.6 Fedora 40 Kernel: Depends on container host Compiler: gcc 14.2.1 20240912 (Red Hat 14.2.1-3) FreeBSD 13.4 Kernel: 13.4-RELEASE-p1 Compiler: clang 18.1.6 RHEL9 Kernel: Depends on container host Compiler: gcc 11.5.0 20240719 (Red Hat 11.5.0-2) Windows Server 2022 Kernel: 10.0.20348.2031 Compiler: clang 15.0.7, gcc 14.1.0 (MinGW), and MSVC VS 19.39.33521 To view detailed results, visit: https://lab.dpdk.org/results/dashboard/tarballs/31925/ UNH-IOL DPDK Community Lab To manage your email subscriptions, visit: https://lab.dpdk.org/results/dashboard/preferences/subscriptions/