From mboxrd@z Thu Jan 1 00:00:00 1970 Return-Path: Received: from mails.dpdk.org (mails.dpdk.org [217.70.189.124]) by inbox.dpdk.org (Postfix) with ESMTP id CB8D3461BE for ; Fri, 7 Feb 2025 19:28:43 +0100 (CET) Received: from mails.dpdk.org (localhost [127.0.0.1]) by mails.dpdk.org (Postfix) with ESMTP id C90D042EE1; Fri, 7 Feb 2025 19:28:43 +0100 (CET) Received: from mail-oo1-f98.google.com (mail-oo1-f98.google.com [209.85.161.98]) by mails.dpdk.org (Postfix) with ESMTP id 8468342E90 for ; Fri, 7 Feb 2025 19:28:42 +0100 (CET) Received: by mail-oo1-f98.google.com with SMTP id 006d021491bc7-5f4c111991bso1264761eaf.0 for ; Fri, 07 Feb 2025 10:28:42 -0800 (PST) DKIM-Signature: v=1; a=rsa-sha256; c=relaxed/relaxed; d=iol.unh.edu; s=unh-iol; t=1738952922; x=1739557722; darn=dpdk.org; h=references:in-reply-to:cc:to:from:subject:message-id:date:from:to :cc:subject:date:message-id:reply-to; bh=WnqheJQoNVASHzT9QLaJP+F+m/zPsQE4LMQTbtlgboQ=; b=JaGCZ2PUwgPmKmAzRJDZh80BHaw770yoRWsZQzMX2I7I91+6Ypb/xaFyxz2n+rYnvm Ojx8uK91Q4akB+UnxMkjD8WmN4Cr3Ih417SWn7d2jYMcIWbokGLHtWEnsKaBEwYML8LP 2dVchXNsHmld53x1BpdpcfjkGotYt56p+c2NA= X-Google-DKIM-Signature: v=1; a=rsa-sha256; c=relaxed/relaxed; d=1e100.net; s=20230601; t=1738952922; x=1739557722; h=references:in-reply-to:cc:to:from:subject:message-id:date :x-gm-message-state:from:to:cc:subject:date:message-id:reply-to; bh=WnqheJQoNVASHzT9QLaJP+F+m/zPsQE4LMQTbtlgboQ=; b=b0B/BrY4jX+5GNRzL5B/tKMrTnB+hSnR9iT2ikanGGeHP0uiGyKfbOEcERbheq6bni oKKlo0Kl8qpRSZJnviNwA2U6v71XECuxNdImyfD17mXV+Kp6RYSIT4JElVRs2T4aVJvf HeMYETSBHMFEePBxkjrzlIseJWSVU/C+d/jSidbHNvSnBo3PvmnTwJgVlCuG1ZOi9wPm gaUcu1Ub04b0sgeuVE8gCrAPjKDjzvQ5x6YhGFOxQZgfNbwKndkD8FJ+MPG1WR0JoH/j H7A2/h8ZQnjmZOYBN83ZAeoEu1/Rti8qBKtsFG1lOGgwKrD2q+T/5Ef1cLyF70+sCZHC zIcw== X-Gm-Message-State: AOJu0Yz5UJvLRRrBNnC7li0T2pyjT0HUBnllmQlq7nJ+dOjFkm2R4c1k adUh0Se6mByc2El0a7OaymlJ6lh+r4H5C1gKTSNugMEq/kIBwXneGqiIj0nDzYmwPARB13NxQBA cfYHcmFQtiVPO14Bo9sfToxLCPZeryPEF6FXH1uQb X-Gm-Gg: ASbGncs4qYI8RgLypO/G40v79mluGxzpu/k5I8+OYQmacKn9mqkAqtdS1a2nlDRT+qV nk7+VIuxWAkrHYjrbj7SG7LO32DKYdO4qwMZHsWC2ucbx3nf/9LXvilBWPJynfkWx0TunQz3lVZ V/eB2R+o3Xkb2ErHvcUKsdeKWJYZnvOrL/qMybuTxZWor9op3rUmj6CJMdM2ZVjwn3ffKpBcGxk +yTnGJyYwlVQskyweQaIbR4Jji4UcTn0WTKzPE+1+PG2GZeCiKd5PWPeEAQ/WRZfSk0huyp4fNm W1ZvYalJXofii6yAqbvmLPcK2y+rqQ== X-Google-Smtp-Source: AGHT+IGN0ER52+FclfbdDHx+sk9uTZNK4j6+x4t3E92eqpNRVHMBkLG7l8XrAJvh/Nb6eJvr3Mazo7HYOGSs X-Received: by 2002:a05:6820:504:b0:5fa:3ba7:d27 with SMTP id 006d021491bc7-5fc5f56ab92mr2970474eaf.4.1738952921909; Fri, 07 Feb 2025 10:28:41 -0800 (PST) Received: from postal.iol.unh.edu (postal.iol.unh.edu. [132.177.123.84]) by smtp-relay.gmail.com with ESMTPS id 006d021491bc7-5fc544e2429sm131616eaf.11.2025.02.07.10.28.41 (version=TLS1_2 cipher=ECDHE-ECDSA-AES128-GCM-SHA256 bits=128/128); Fri, 07 Feb 2025 10:28:41 -0800 (PST) X-Relaying-Domain: iol.unh.edu Date: Fri, 07 Feb 2025 10:28:41 -0800 (PST) Message-ID: <67a650d9.4a0a0220.19b577.725cSMTPIN_ADDED_MISSING@mx.google.com> Received: from [172.21.0.10] (unknown [172.18.0.240]) by postal.iol.unh.edu (Postfix) with ESMTP id 65EE76052471; Fri, 7 Feb 2025 13:28:41 -0500 (EST) Subject: |WARNING| pw149233 [PATCH] net/iavf: remove reset of Tx prepare func From: dpdklab@iol.unh.edu To: Test Report Cc: dpdk-test-reports@iol.unh.edu In-Reply-To: <20241213143319.686365-1-bruce.richardson@intel.com> References: <20241213143319.686365-1-bruce.richardson@intel.com> Content-Type: text/plain X-BeenThere: test-report@dpdk.org X-Mailman-Version: 2.1.29 Precedence: list List-Id: automatic DPDK test reports List-Unsubscribe: , List-Archive: List-Post: List-Help: List-Subscribe: , Errors-To: test-report-bounces@dpdk.org Test-Label: iol-compile-amd64-testing Test-Status: WARNING http://dpdk.org/patch/149233 _Testing issues_ Submitter: Bruce Richardson Date: Friday, December 13 2024 14:33:19 DPDK git baseline: Repo:dpdk Branch: master CommitID:ce85dd8562ad9673eb4fe46b4a8bd3a508e8b32f 149233 --> testing issues Test environment and result as below: +---------------------+--------------------+------------------+-------------------+-------------------------+----------------------+ | Environment | dpdk_meson_compile | dpdk_compile_ovs | dpdk_compile_spdk | dpdk_llvm_clang_compile | dpdk_mingw64_compile | +=====================+====================+==================+===================+=========================+======================+ | CentOS Stream 9 | PASS | PASS | PASS | SKIPPED | SKIPPED | +---------------------+--------------------+------------------+-------------------+-------------------------+----------------------+ | Debian 12 | PASS | PASS | PASS | SKIPPED | SKIPPED | +---------------------+--------------------+------------------+-------------------+-------------------------+----------------------+ | Fedora 39 (Clang) | PASS | PASS | PASS | SKIPPED | SKIPPED | +---------------------+--------------------+------------------+-------------------+-------------------------+----------------------+ | Fedora 39 | PASS | PASS | PASS | SKIPPED | SKIPPED | +---------------------+--------------------+------------------+-------------------+-------------------------+----------------------+ | Ubuntu 20.04 | PASS | SKIPPED | SKIPPED | SKIPPED | SKIPPED | +---------------------+--------------------+------------------+-------------------+-------------------------+----------------------+ | Fedora 40 (Clang) | PASS | PASS | PASS | SKIPPED | SKIPPED | +---------------------+--------------------+------------------+-------------------+-------------------------+----------------------+ | RHEL8 | PASS | PASS | SKIPPED | SKIPPED | SKIPPED | +---------------------+--------------------+------------------+-------------------+-------------------------+----------------------+ | openSUSE Leap 15 | PASS | WARN | SKIPPED | SKIPPED | SKIPPED | +---------------------+--------------------+------------------+-------------------+-------------------------+----------------------+ | Fedora 40 | PASS | PASS | PASS | SKIPPED | SKIPPED | +---------------------+--------------------+------------------+-------------------+-------------------------+----------------------+ | RHEL9 | PASS | PASS | SKIPPED | SKIPPED | SKIPPED | +---------------------+--------------------+------------------+-------------------+-------------------------+----------------------+ | Ubuntu 22.04 | PASS | PASS | PASS | SKIPPED | SKIPPED | +---------------------+--------------------+------------------+-------------------+-------------------------+----------------------+ | Ubuntu 24.04 | PASS | PASS | PASS | SKIPPED | SKIPPED | +---------------------+--------------------+------------------+-------------------+-------------------------+----------------------+ | Alpine | PASS | PASS | SKIPPED | SKIPPED | SKIPPED | +---------------------+--------------------+------------------+-------------------+-------------------------+----------------------+ | FreeBSD 13.4 | PASS | SKIPPED | SKIPPED | SKIPPED | SKIPPED | +---------------------+--------------------+------------------+-------------------+-------------------------+----------------------+ | FreeBSD 14.2 | PASS | SKIPPED | SKIPPED | SKIPPED | SKIPPED | +---------------------+--------------------+------------------+-------------------+-------------------------+----------------------+ | Windows Server 2022 | SKIPPED | SKIPPED | SKIPPED | PASS | PASS | +---------------------+--------------------+------------------+-------------------+-------------------------+----------------------+ ==== 20 line log output for openSUSE Leap 15 (dpdk_compile_ovs): ==== --- Failed to get log output --- ==== End log output ==== CentOS Stream 9 Kernel: Depends on container host Compiler: gcc 11.5.0 20240719 (Red Hat 11.5.0-2) Debian 12 Kernel: Depends on container host Compiler: gcc (Debian 12.2.0-14) 12.2.0 Fedora 39 (Clang) Kernel: Depends on container host Compiler: clang 17.0.6 (Fedora 17.0.6-2.fc39) Fedora 39 Kernel: Depends on container host Compiler: gcc 13.3.1 20240522 (Red Hat 13.3.1-1) Ubuntu 20.04 Kernel: Depends on container host Compiler: gcc (Ubuntu 9.4.0-1ubuntu1~20.04.2) 9.4.0 Fedora 40 (Clang) Kernel: Depends on container host Compiler: clang 18.1.8 (Fedora 18.1.8-1.fc40) RHEL8 Kernel: Depends on container host Compiler: gcc 8.5.0 20210514 (Red Hat 8.5.0-22) openSUSE Leap 15 Kernel: Depends on container host Compiler: gcc (SUSE Linux) 7.5.0 Fedora 40 Kernel: Depends on container host Compiler: gcc 14.2.1 20240912 (Red Hat 14.2.1-3) RHEL9 Kernel: Depends on container host Compiler: gcc 11.5.0 20240719 (Red Hat 11.5.0-2) Ubuntu 22.04 Kernel: Depends on container host Compiler: gcc (Ubuntu 11.4.0-1ubuntu1~22.04) 11.4.0 Ubuntu 24.04 Kernel: Depends on container host Compiler: gcc (Ubuntu 13.3.0-6ubuntu2~24.04) 13.3.0 Alpine Kernel: Depends on container host Compiler: gcc (Alpine 14.2.0) 14.2.0 FreeBSD 13.4 Kernel: 13.4-RELEASE-p1 Compiler: clang 18.1.6 FreeBSD 14.2 Kernel: 14.2-RELEASE Compiler: clang 18.1.6 Windows Server 2022 Kernel: 10.0.20348.2031 Compiler: clang 15.0.7, gcc 14.1.0 (MinGW), and MSVC VS 19.39.33521 To view detailed results, visit: https://lab.dpdk.org/results/dashboard/patchsets/32139/ UNH-IOL DPDK Community Lab To manage your email subscriptions, visit: https://lab.dpdk.org/results/dashboard/preferences/subscriptions/