From mboxrd@z Thu Jan 1 00:00:00 1970 Return-Path: Received: from mails.dpdk.org (mails.dpdk.org [217.70.189.124]) by inbox.dpdk.org (Postfix) with ESMTP id EBE33461BE for ; Fri, 7 Feb 2025 19:28:53 +0100 (CET) Received: from mails.dpdk.org (localhost [127.0.0.1]) by mails.dpdk.org (Postfix) with ESMTP id E8A2342EE1; Fri, 7 Feb 2025 19:28:53 +0100 (CET) Received: from mail-io1-f97.google.com (mail-io1-f97.google.com [209.85.166.97]) by mails.dpdk.org (Postfix) with ESMTP id 6CC4542E90 for ; Fri, 7 Feb 2025 19:28:52 +0100 (CET) Received: by mail-io1-f97.google.com with SMTP id ca18e2360f4ac-844e61f3902so173173839f.0 for ; Fri, 07 Feb 2025 10:28:52 -0800 (PST) DKIM-Signature: v=1; a=rsa-sha256; c=relaxed/relaxed; d=iol.unh.edu; s=unh-iol; t=1738952932; x=1739557732; darn=dpdk.org; h=cc:to:from:subject:message-id:date:from:to:cc:subject:date :message-id:reply-to; bh=TGXD/+JC3xKWxFdg22EoGQER1lmcIq3QinC2ig4b0zY=; b=cEWKKDmfZynMzuumtvVsAfegXW9GS2DC1hsTdBYPlcm1P0f/3ewmedMcUlPQsHA9ot 3av9mvzdZcL/f+QT7gX3RLFSGD2Ja8dptyuNgCWoR7FDkGwnmZvDczuWaXWjM/6Jo/A3 DfOcWtv4ldEZceFLHo74nQn8oNVnHjqQpG+gk= X-Google-DKIM-Signature: v=1; a=rsa-sha256; c=relaxed/relaxed; d=1e100.net; s=20230601; t=1738952932; x=1739557732; h=cc:to:from:subject:message-id:date:x-gm-message-state:from:to:cc :subject:date:message-id:reply-to; bh=TGXD/+JC3xKWxFdg22EoGQER1lmcIq3QinC2ig4b0zY=; b=UEb/hIHW2srAGiGx4bdTi+KSUUl+HtAU25B2qawzx96lDB3OQd1eshbHd5mQfaE5M9 ilUb5f+vxXRDU7Ky9ZU0GiaUoJLTEo3PWiUeYQH2h1DC1aNIRyI/vli/4Q9QGEf8xhGe Tz1zzin8hh+42gN5XQIknpBYw33BRdhDuheDz65dr9g4k62Fryh0zCydyogV7X3G4XcK 6NGgSigWIn3mdFJmHA6RnqxPNMY8XQw1ZmysTaEao5Pwz2YjSoQy2IwHFw3mk4oRgkC0 05PNbvrrPvwCJqK+rrTQ8CL7qmu9lIz2vmcpkjqIIWLrgNtgP2YvdtHot/zFBrRPwMmG nHYQ== X-Gm-Message-State: AOJu0YxDPXjFCAye+21Y+ybfIOL7h9U+DBP2T9T5tUSmS2mFvfFf/nS7 LoQoMraIyYIwLFRVfwPP7xTret6aUSo8tTYxVqw6G5MPAEHhvLbYitWsRtvfonf+vSlq40GzSj0 EbQWcaKO1pNdXVJ7Oup8/k9zTknmA29K8yQIcaR3b X-Gm-Gg: ASbGncux+IvjIfbFfg7kz7B71LRUQ6MeKJeJy9A5d8VYvqWKjQ3NLYv/CtYOjPXoJPj Jw1m8EJgPBtlpcT/h8+J7ILBbVPvGn2NzArMSkeVIzCh35NtMQWkydvzfQWepIAM19h17oe/WQI DBhJ6zk8k6A6S+/bEfYk/upnb1xG8xZFEHd9Ki0mi/q3czmCBIQkqJqRd+ovQwNBYchGk320akC OLbWedvHAbgTPDwEbiEx7sDWOl080BkpcsMNg9/RQ7tgMkYaQK+lVJqBom1jqLzX9jk8pkjsPCa u21coIPKcCdVn1v/voMqz/RBS4vj0w== X-Google-Smtp-Source: AGHT+IE3rduG2LbHIFBzBCvQjj5bpnDiBv0UrgxyZNsfxgUmMc4CrpdLXgg3jWI9gyMY411k/BQPNyrCPJ4j X-Received: by 2002:a05:6602:7289:b0:84a:5133:9cdd with SMTP id ca18e2360f4ac-854fd8f81e4mr485238139f.11.1738952931799; Fri, 07 Feb 2025 10:28:51 -0800 (PST) Received: from postal.iol.unh.edu (postal.iol.unh.edu. [132.177.123.84]) by smtp-relay.gmail.com with ESMTPS id ca18e2360f4ac-854f6760775sm23938639f.29.2025.02.07.10.28.51 (version=TLS1_2 cipher=ECDHE-ECDSA-AES128-GCM-SHA256 bits=128/128); Fri, 07 Feb 2025 10:28:51 -0800 (PST) X-Relaying-Domain: iol.unh.edu Date: Fri, 07 Feb 2025 10:28:51 -0800 (PST) Message-ID: <67a650e3.050a0220.b4044.c3a3SMTPIN_ADDED_MISSING@mx.google.com> Received: from [172.21.0.12] (unknown [172.18.0.240]) by postal.iol.unh.edu (Postfix) with ESMTP id 4EC246052471; Fri, 7 Feb 2025 13:28:51 -0500 (EST) Subject: |WARNING| [GIT MASTER] 7df61db6c387703a36306c1aea92225921e2eeb2 From: dpdklab@iol.unh.edu To: Test Report Cc: dpdk-test-reports@iol.unh.edu Content-Type: text/plain X-BeenThere: test-report@dpdk.org X-Mailman-Version: 2.1.29 Precedence: list List-Id: automatic DPDK test reports List-Unsubscribe: , List-Archive: List-Post: List-Help: List-Subscribe: , Errors-To: test-report-bounces@dpdk.org _Testing issues_ Branch: dpdk 7df61db6c387703a36306c1aea92225921e2eeb2 --> testing issues Test environment and result as below: +---------------------+--------------------+------------------+-------------------+-------------------------+----------------------+-------------------+ | Environment | dpdk_meson_compile | dpdk_compile_ovs | dpdk_compile_spdk | dpdk_llvm_clang_compile | dpdk_mingw64_compile | dpdk_msvc_compile | +=====================+====================+==================+===================+=========================+======================+===================+ | CentOS Stream 9 | PASS | PASS | PASS | SKIPPED | SKIPPED | SKIPPED | +---------------------+--------------------+------------------+-------------------+-------------------------+----------------------+-------------------+ | Debian 12 | PASS | PASS | PASS | SKIPPED | SKIPPED | SKIPPED | +---------------------+--------------------+------------------+-------------------+-------------------------+----------------------+-------------------+ | Fedora 39 | PASS | PASS | PASS | SKIPPED | SKIPPED | SKIPPED | +---------------------+--------------------+------------------+-------------------+-------------------------+----------------------+-------------------+ | Fedora 39 (Clang) | PASS | PASS | PASS | SKIPPED | SKIPPED | SKIPPED | +---------------------+--------------------+------------------+-------------------+-------------------------+----------------------+-------------------+ | Fedora 40 (Clang) | PASS | PASS | PASS | SKIPPED | SKIPPED | SKIPPED | +---------------------+--------------------+------------------+-------------------+-------------------------+----------------------+-------------------+ | Fedora 40 | PASS | PASS | PASS | SKIPPED | SKIPPED | SKIPPED | +---------------------+--------------------+------------------+-------------------+-------------------------+----------------------+-------------------+ | openSUSE Leap 15 | PASS | WARN | SKIPPED | SKIPPED | SKIPPED | SKIPPED | +---------------------+--------------------+------------------+-------------------+-------------------------+----------------------+-------------------+ | RHEL8 | PASS | PASS | SKIPPED | SKIPPED | SKIPPED | SKIPPED | +---------------------+--------------------+------------------+-------------------+-------------------------+----------------------+-------------------+ | RHEL9 | PASS | PASS | SKIPPED | SKIPPED | SKIPPED | SKIPPED | +---------------------+--------------------+------------------+-------------------+-------------------------+----------------------+-------------------+ | Ubuntu 20.04 | PASS | SKIPPED | SKIPPED | SKIPPED | SKIPPED | SKIPPED | +---------------------+--------------------+------------------+-------------------+-------------------------+----------------------+-------------------+ | Ubuntu 22.04 | PASS | PASS | PASS | SKIPPED | SKIPPED | SKIPPED | +---------------------+--------------------+------------------+-------------------+-------------------------+----------------------+-------------------+ | Ubuntu 24.04 | PASS | PASS | PASS | SKIPPED | SKIPPED | SKIPPED | +---------------------+--------------------+------------------+-------------------+-------------------------+----------------------+-------------------+ | Alpine | PASS | PASS | SKIPPED | SKIPPED | SKIPPED | SKIPPED | +---------------------+--------------------+------------------+-------------------+-------------------------+----------------------+-------------------+ | Arch Linux | PASS | PASS | SKIPPED | SKIPPED | SKIPPED | SKIPPED | +---------------------+--------------------+------------------+-------------------+-------------------------+----------------------+-------------------+ | FreeBSD 13.4 | PASS | SKIPPED | SKIPPED | SKIPPED | SKIPPED | SKIPPED | +---------------------+--------------------+------------------+-------------------+-------------------------+----------------------+-------------------+ | FreeBSD 14.2 | PASS | SKIPPED | SKIPPED | SKIPPED | SKIPPED | SKIPPED | +---------------------+--------------------+------------------+-------------------+-------------------------+----------------------+-------------------+ | Windows Server 2022 | SKIPPED | SKIPPED | SKIPPED | PASS | PASS | PASS | +---------------------+--------------------+------------------+-------------------+-------------------------+----------------------+-------------------+ ==== 20 line log output for openSUSE Leap 15 (dpdk_compile_ovs): ==== --- Failed to get log output --- ==== End log output ==== CentOS Stream 9 Kernel: Depends on container host Compiler: gcc 11.5.0 20240719 (Red Hat 11.5.0-2) Debian 12 Kernel: Depends on container host Compiler: gcc (Debian 12.2.0-14) 12.2.0 Fedora 39 Kernel: Depends on container host Compiler: gcc 13.3.1 20240522 (Red Hat 13.3.1-1) Fedora 39 (Clang) Kernel: Depends on container host Compiler: clang 17.0.6 (Fedora 17.0.6-2.fc39) Fedora 40 (Clang) Kernel: Depends on container host Compiler: clang 18.1.8 (Fedora 18.1.8-1.fc40) Fedora 40 Kernel: Depends on container host Compiler: gcc 14.2.1 20240912 (Red Hat 14.2.1-3) openSUSE Leap 15 Kernel: Depends on container host Compiler: gcc (SUSE Linux) 7.5.0 RHEL8 Kernel: Depends on container host Compiler: gcc 8.5.0 20210514 (Red Hat 8.5.0-22) RHEL9 Kernel: Depends on container host Compiler: gcc 11.5.0 20240719 (Red Hat 11.5.0-2) Ubuntu 20.04 Kernel: Depends on container host Compiler: gcc (Ubuntu 9.4.0-1ubuntu1~20.04.2) 9.4.0 Ubuntu 22.04 Kernel: Depends on container host Compiler: gcc (Ubuntu 11.4.0-1ubuntu1~22.04) 11.4.0 Ubuntu 24.04 Kernel: Depends on container host Compiler: gcc (Ubuntu 13.3.0-6ubuntu2~24.04) 13.3.0 Alpine Kernel: Depends on container host Compiler: gcc (Alpine 14.2.0) 14.2.0 Arch Linux Kernel: Depends on container host Compiler: gcc 14.2.1 20240910 FreeBSD 13.4 Kernel: 13.4-RELEASE-p1 Compiler: clang 18.1.6 FreeBSD 14.2 Kernel: 14.2-RELEASE Compiler: clang 18.1.6 Windows Server 2022 Kernel: 10.0.20348.2031 Compiler: clang 15.0.7, gcc 14.1.0 (MinGW), and MSVC VS 19.39.33521 To view detailed results, visit: https://lab.dpdk.org/results/dashboard/tarballs/31924/ UNH-IOL DPDK Community Lab To manage your email subscriptions, visit: https://lab.dpdk.org/results/dashboard/preferences/subscriptions/