From mboxrd@z Thu Jan 1 00:00:00 1970 Return-Path: Received: from mails.dpdk.org (mails.dpdk.org [217.70.189.124]) by inbox.dpdk.org (Postfix) with ESMTP id 0FD9B461BE for ; Fri, 7 Feb 2025 19:29:24 +0100 (CET) Received: from mails.dpdk.org (localhost [127.0.0.1]) by mails.dpdk.org (Postfix) with ESMTP id 0BE5942ED5; Fri, 7 Feb 2025 19:29:24 +0100 (CET) Received: from mail-il1-f228.google.com (mail-il1-f228.google.com [209.85.166.228]) by mails.dpdk.org (Postfix) with ESMTP id 9FBB142E90 for ; Fri, 7 Feb 2025 19:29:22 +0100 (CET) Received: by mail-il1-f228.google.com with SMTP id e9e14a558f8ab-3d144f1f68bso2186235ab.3 for ; Fri, 07 Feb 2025 10:29:22 -0800 (PST) DKIM-Signature: v=1; a=rsa-sha256; c=relaxed/relaxed; d=iol.unh.edu; s=unh-iol; t=1738952962; x=1739557762; darn=dpdk.org; h=references:in-reply-to:cc:to:from:subject:message-id:date:from:to :cc:subject:date:message-id:reply-to; bh=mQBJwgpEYyb7W7/tpOmAHhx1nRs8DW2qSVCOSv+Zt88=; b=bIcpC8kdf2BSn1P3nUnnNXTTSLsrWe5pRi0/WS0QhwLeHqqoRsbHeuaPv9iSsRfOWm PpCA4i2QecLZWm8un7d2kXZs5DxHW6a6nrk21gh8Xg1e/fJF13cugb0XzmGJUvUdzMRM 9hT40vVrJ1PY7tH8OEjDiL/nu2+jlV8S/im6M= X-Google-DKIM-Signature: v=1; a=rsa-sha256; c=relaxed/relaxed; d=1e100.net; s=20230601; t=1738952962; x=1739557762; h=references:in-reply-to:cc:to:from:subject:message-id:date :x-gm-message-state:from:to:cc:subject:date:message-id:reply-to; bh=mQBJwgpEYyb7W7/tpOmAHhx1nRs8DW2qSVCOSv+Zt88=; b=w9ZuhL9ZUjEFBLi6ZN9Jmu+ifOMOVOTCkYzxTYXoeEFNhqCYXfpRivcfwJz11qohRZ 1vXeMc/WPXA9+WyvzB8s3QzFlsk4AIRKJvcIx9c6BLjaX5kLDS2yJctb7FQ9VCjLXG9R KVIwUUHDauLiW2meFCkmlRloG6JyWiRnjEuuhtYTuFbXQcCBvce6Yx43Mf5IWpe4PHCG JuHB0Yvk9nv4yYNgYVLdtZZlEIQPMYdRNgNgCo7X3smlrW4qV60OZ8o9C+ZmH9lfWlUD KwghZccCMyfyxQsJ5KXtSjJ0AaSzc128BYR600TOPfIptYQ2ze9QROVm/BZeLR6RFtPP Vx6w== X-Gm-Message-State: AOJu0YwNDSUmpus0SpT7nNHn5DYRuNtbDBuvTqzP8HxvQLN5tzjgI8az 7C0sWS7bEp2BMCEZK4z3dF4JhIE9ql3k5soYJCrjunMkU600vcuU61cOH+8g/kdd9E6r6UhRTyg N/7SJU4WDCcM2TiCJETye4vkPpqQqQU64jlXgfTVj X-Gm-Gg: ASbGnctNCbEYupQQq3aCsw8lO1YAGFEZIfAvszVtYXOAqweYYKoCc0osIcM0tm26X7E AgO7vxG17rRWn4PeZ1zuaNqy1r76I/DT/gOyTDTY29li/68rXL2FeZIOYC8hzWxhwAj7dSQ2nus 7lI2nXObXyspggu62kKszZUuNuxQ8fuD3eqyHIGNmAuSIO8IArz41ekayR0ifTltZSbbYbxTE2P RR9QCVAzIOoJyT+d1zFkUhR6B2N1oDZoxpoHIKz0KoROCpTe1/Gt3QpQjXutacojWq36xHcl4l2 BQGZ8PItCu8zsbldkl0XeBDCYO1tnA== X-Google-Smtp-Source: AGHT+IEwHwpvvCV62XuNh8HIdAgrI3UPrMauYLtSfmK2S/ua2+hwrktnJhHvtMevPhqAr5AMynV8qlFi+PMv X-Received: by 2002:a05:6e02:4510:b0:3d0:3fa2:ccfd with SMTP id e9e14a558f8ab-3d13dcde8c6mr35372485ab.5.1738952962065; Fri, 07 Feb 2025 10:29:22 -0800 (PST) Received: from postal.iol.unh.edu (postal.iol.unh.edu. [132.177.123.84]) by smtp-relay.gmail.com with ESMTPS id 8926c6da1cb9f-4eccf854a7esm256041173.0.2025.02.07.10.29.21 (version=TLS1_2 cipher=ECDHE-ECDSA-AES128-GCM-SHA256 bits=128/128); Fri, 07 Feb 2025 10:29:22 -0800 (PST) X-Relaying-Domain: iol.unh.edu Date: Fri, 07 Feb 2025 10:29:22 -0800 (PST) Message-ID: <67a65102.050a0220.d1adc.d8a1SMTPIN_ADDED_MISSING@mx.google.com> Received: from [172.21.0.6] (unknown [172.18.0.240]) by postal.iol.unh.edu (Postfix) with ESMTP id 938516052472; Fri, 7 Feb 2025 13:29:21 -0500 (EST) Subject: |WARNING| pw149233 [PATCH] net/iavf: remove reset of Tx prepare func From: dpdklab@iol.unh.edu To: Test Report Cc: dpdk-test-reports@iol.unh.edu In-Reply-To: <20241213143319.686365-1-bruce.richardson@intel.com> References: <20241213143319.686365-1-bruce.richardson@intel.com> Content-Type: text/plain X-BeenThere: test-report@dpdk.org X-Mailman-Version: 2.1.29 Precedence: list List-Id: automatic DPDK test reports List-Unsubscribe: , List-Archive: List-Post: List-Help: List-Subscribe: , Errors-To: test-report-bounces@dpdk.org Test-Label: iol-compile-amd64-testing Test-Status: WARNING http://dpdk.org/patch/149233 _Testing issues_ Submitter: Bruce Richardson Date: Friday, December 13 2024 14:33:19 DPDK git baseline: Repo:dpdk Branch: master CommitID:ce85dd8562ad9673eb4fe46b4a8bd3a508e8b32f 149233 --> testing issues Test environment and result as below: +---------------------+--------------------+------------------+-------------------+-------------------------+----------------------+-------------------+ | Environment | dpdk_meson_compile | dpdk_compile_ovs | dpdk_compile_spdk | dpdk_llvm_clang_compile | dpdk_mingw64_compile | dpdk_msvc_compile | +=====================+====================+==================+===================+=========================+======================+===================+ | Fedora 39 (Clang) | PASS | PASS | PASS | SKIPPED | SKIPPED | SKIPPED | +---------------------+--------------------+------------------+-------------------+-------------------------+----------------------+-------------------+ | Debian 12 | PASS | PASS | PASS | SKIPPED | SKIPPED | SKIPPED | +---------------------+--------------------+------------------+-------------------+-------------------------+----------------------+-------------------+ | CentOS Stream 9 | PASS | PASS | PASS | SKIPPED | SKIPPED | SKIPPED | +---------------------+--------------------+------------------+-------------------+-------------------------+----------------------+-------------------+ | Fedora 40 | PASS | PASS | PASS | SKIPPED | SKIPPED | SKIPPED | +---------------------+--------------------+------------------+-------------------+-------------------------+----------------------+-------------------+ | Fedora 40 (Clang) | PASS | PASS | PASS | SKIPPED | SKIPPED | SKIPPED | +---------------------+--------------------+------------------+-------------------+-------------------------+----------------------+-------------------+ | Fedora 39 | PASS | PASS | PASS | SKIPPED | SKIPPED | SKIPPED | +---------------------+--------------------+------------------+-------------------+-------------------------+----------------------+-------------------+ | openSUSE Leap 15 | PASS | WARN | SKIPPED | SKIPPED | SKIPPED | SKIPPED | +---------------------+--------------------+------------------+-------------------+-------------------------+----------------------+-------------------+ | RHEL8 | PASS | PASS | SKIPPED | SKIPPED | SKIPPED | SKIPPED | +---------------------+--------------------+------------------+-------------------+-------------------------+----------------------+-------------------+ | RHEL9 | PASS | PASS | SKIPPED | SKIPPED | SKIPPED | SKIPPED | +---------------------+--------------------+------------------+-------------------+-------------------------+----------------------+-------------------+ | Ubuntu 22.04 | PASS | PASS | PASS | SKIPPED | SKIPPED | SKIPPED | +---------------------+--------------------+------------------+-------------------+-------------------------+----------------------+-------------------+ | Ubuntu 20.04 | PASS | SKIPPED | SKIPPED | SKIPPED | SKIPPED | SKIPPED | +---------------------+--------------------+------------------+-------------------+-------------------------+----------------------+-------------------+ | Ubuntu 24.04 | PASS | PASS | PASS | SKIPPED | SKIPPED | SKIPPED | +---------------------+--------------------+------------------+-------------------+-------------------------+----------------------+-------------------+ | FreeBSD 13.4 | PASS | SKIPPED | SKIPPED | SKIPPED | SKIPPED | SKIPPED | +---------------------+--------------------+------------------+-------------------+-------------------------+----------------------+-------------------+ | Alpine | PASS | PASS | SKIPPED | SKIPPED | SKIPPED | SKIPPED | +---------------------+--------------------+------------------+-------------------+-------------------------+----------------------+-------------------+ | FreeBSD 14.2 | PASS | SKIPPED | SKIPPED | SKIPPED | SKIPPED | SKIPPED | +---------------------+--------------------+------------------+-------------------+-------------------------+----------------------+-------------------+ | Windows Server 2022 | SKIPPED | SKIPPED | SKIPPED | PASS | PASS | PASS | +---------------------+--------------------+------------------+-------------------+-------------------------+----------------------+-------------------+ ==== 20 line log output for openSUSE Leap 15 (dpdk_compile_ovs): ==== --- Failed to get log output --- ==== End log output ==== Fedora 39 (Clang) Kernel: Depends on container host Compiler: clang 17.0.6 (Fedora 17.0.6-2.fc39) Debian 12 Kernel: Depends on container host Compiler: gcc (Debian 12.2.0-14) 12.2.0 CentOS Stream 9 Kernel: Depends on container host Compiler: gcc 11.5.0 20240719 (Red Hat 11.5.0-2) Fedora 40 Kernel: Depends on container host Compiler: gcc 14.2.1 20240912 (Red Hat 14.2.1-3) Fedora 40 (Clang) Kernel: Depends on container host Compiler: clang 18.1.8 (Fedora 18.1.8-1.fc40) Fedora 39 Kernel: Depends on container host Compiler: gcc 13.3.1 20240522 (Red Hat 13.3.1-1) openSUSE Leap 15 Kernel: Depends on container host Compiler: gcc (SUSE Linux) 7.5.0 RHEL8 Kernel: Depends on container host Compiler: gcc 8.5.0 20210514 (Red Hat 8.5.0-22) RHEL9 Kernel: Depends on container host Compiler: gcc 11.5.0 20240719 (Red Hat 11.5.0-2) Ubuntu 22.04 Kernel: Depends on container host Compiler: gcc (Ubuntu 11.4.0-1ubuntu1~22.04) 11.4.0 Ubuntu 20.04 Kernel: Depends on container host Compiler: gcc (Ubuntu 9.4.0-1ubuntu1~20.04.2) 9.4.0 Ubuntu 24.04 Kernel: Depends on container host Compiler: gcc (Ubuntu 13.3.0-6ubuntu2~24.04) 13.3.0 FreeBSD 13.4 Kernel: 13.4-RELEASE-p1 Compiler: clang 18.1.6 Alpine Kernel: Depends on container host Compiler: gcc (Alpine 14.2.0) 14.2.0 FreeBSD 14.2 Kernel: 14.2-RELEASE Compiler: clang 18.1.6 Windows Server 2022 Kernel: 10.0.20348.2031 Compiler: clang 15.0.7, gcc 14.1.0 (MinGW), and MSVC VS 19.39.33521 To view detailed results, visit: https://lab.dpdk.org/results/dashboard/patchsets/32139/ UNH-IOL DPDK Community Lab To manage your email subscriptions, visit: https://lab.dpdk.org/results/dashboard/preferences/subscriptions/