From mboxrd@z Thu Jan 1 00:00:00 1970 Return-Path: Received: from mails.dpdk.org (mails.dpdk.org [217.70.189.124]) by inbox.dpdk.org (Postfix) with ESMTP id 8884C461BE for ; Fri, 7 Feb 2025 19:29:56 +0100 (CET) Received: from mails.dpdk.org (localhost [127.0.0.1]) by mails.dpdk.org (Postfix) with ESMTP id 748F642ED5; Fri, 7 Feb 2025 19:29:56 +0100 (CET) Received: from mail-pl1-f226.google.com (mail-pl1-f226.google.com [209.85.214.226]) by mails.dpdk.org (Postfix) with ESMTP id 6725F42E90 for ; Fri, 7 Feb 2025 19:29:54 +0100 (CET) Received: by mail-pl1-f226.google.com with SMTP id d9443c01a7336-21f49bd087cso26278635ad.0 for ; Fri, 07 Feb 2025 10:29:54 -0800 (PST) DKIM-Signature: v=1; a=rsa-sha256; c=relaxed/relaxed; d=iol.unh.edu; s=unh-iol; t=1738952993; x=1739557793; darn=dpdk.org; h=cc:to:from:subject:message-id:date:from:to:cc:subject:date :message-id:reply-to; bh=DOkqfUiprgY4ymTjW99La0AY10wKMM5uiRgZ4U4M3k8=; b=cNa5+aeGj311+N7X2u4qQHovdEwGsZ0JSWjHiX0H64T/XPsLonewDKhKHm4zqSDKOk nCCoh/IyO+pSTBfh0gM6UPW0los+L3RLKPMun8thV8V2X85AkbZeskWEiUFU3Crl/r0+ vJSs+OJPMs95iT13Lbb/NXsXTSExV4qJjjD0g= X-Google-DKIM-Signature: v=1; a=rsa-sha256; c=relaxed/relaxed; d=1e100.net; s=20230601; t=1738952993; x=1739557793; h=cc:to:from:subject:message-id:date:x-gm-message-state:from:to:cc :subject:date:message-id:reply-to; bh=DOkqfUiprgY4ymTjW99La0AY10wKMM5uiRgZ4U4M3k8=; b=IJepw6uIXL5quV71eTWJBx9+xlu8M1PpO3B5HsYVTXTX2+mG0C+cZua7bn5sRZus9s Ee2aQGHfj1TsBOjzOTmFdTlVZA3DpASvoKvjW189RIqA21FSQqI2ZTXZLyZvMTebj8LL A8IfBoJ/PQQeQfxShaLgdqeYBhpnUOsPJc7fo0E5O81w1g8jkNkVo7hckdlrfyIQA2Op TCrRpfbA6jE2FW2bz3dwt5EEjItxnVaMFdIjZsPNu9wCfGE3im1LWnT6RsnTk7VVDG0v 3Al+tcmzyHeWqKPqWkth+lllJ51WW3otDsPl1Vow/qFQOpFtV5F9pgeu8opgB2zipWNV PFEQ== X-Gm-Message-State: AOJu0Yxy2aCH/GmJJ+GnmVrBqFOLDzLlfp7X3/I2YC4ePlRgqQAthO3N LIWacwLE3TROqWGBbzshm9I0Qu/Va62gXDE+SDqUUZGUyAiUz9swmlsyF83iP4pp+lXW+uO47iE nKybHdsU/ct1X16eMfjW7rf2OkaSu1wjj X-Gm-Gg: ASbGncs/22/yHqCnsfRXmtK8R5cwKCAbzOdLrDxzkQZ//LhCq7Y5HtyVD/S2Ij+Y4gf q0h7yPmZePlGD5o31H+Bh2+NySLVdXiibAZ/4jzzYukgEUABLsIq7SExouOmAAzeWaBECT7TfDS 4yjaJBtX8Kj0arB2hPFPh44Bt6+4zglAI9N2uh0g1faoM6ZL9X9WM7wnABgYp5I34+FOwzeJVKQ kUojPRuwHjGEoJ44KmxAjVtZCJSYVdTqDUsyYbgY3csWHBqLPr+vml+Y7a2PdouucbllU8th7r4 9qdmnQnvGxDX4WSzFCMV7QH1s0AwPw== X-Google-Smtp-Source: AGHT+IEtQimRLbLDI8HzIZZTtBzNvUtd9OgHWen7wGsMvo8tmdoog9Ww5oxE8sTtRQVSoJ+hpkhX98xhsngF X-Received: by 2002:a05:6a20:9e46:b0:1ed:a80e:932 with SMTP id adf61e73a8af0-1ee03b06308mr9722618637.34.1738952993464; Fri, 07 Feb 2025 10:29:53 -0800 (PST) Received: from postal.iol.unh.edu (postal.iol.unh.edu. [132.177.123.84]) by smtp-relay.gmail.com with ESMTPS id d2e1a72fcca58-73048aac176sm183307b3a.2.2025.02.07.10.29.53 (version=TLS1_2 cipher=ECDHE-ECDSA-AES128-GCM-SHA256 bits=128/128); Fri, 07 Feb 2025 10:29:53 -0800 (PST) X-Relaying-Domain: iol.unh.edu Date: Fri, 07 Feb 2025 10:29:53 -0800 (PST) Message-ID: <67a65121.050a0220.1b7bf.9a1fSMTPIN_ADDED_MISSING@mx.google.com> Received: from [172.21.0.7] (unknown [172.18.0.240]) by postal.iol.unh.edu (Postfix) with ESMTP id 970D96052472; Fri, 7 Feb 2025 13:29:22 -0500 (EST) Subject: |WARNING| [GIT MASTER] 67b9d0a29a1269b482ff7fd1eb48ee88ae9e5892 From: dpdklab@iol.unh.edu To: Test Report Cc: dpdk-test-reports@iol.unh.edu, Xueming Li , Christian Ehrhardt , Kevin Traynor , Luca Boccassi Content-Type: text/plain X-BeenThere: test-report@dpdk.org X-Mailman-Version: 2.1.29 Precedence: list List-Id: automatic DPDK test reports List-Unsubscribe: , List-Archive: List-Post: List-Help: List-Subscribe: , Errors-To: test-report-bounces@dpdk.org _Testing issues_ Branch: tags/v23.11 67b9d0a29a1269b482ff7fd1eb48ee88ae9e5892 --> testing issues Test environment and result as below: +---------------------+--------------------+------------------+-------------------+-------------------------+----------------------+-------------------+ | Environment | dpdk_meson_compile | dpdk_compile_ovs | dpdk_compile_spdk | dpdk_llvm_clang_compile | dpdk_mingw64_compile | dpdk_msvc_compile | +=====================+====================+==================+===================+=========================+======================+===================+ | CentOS Stream 9 | PASS | PASS | PASS | SKIPPED | SKIPPED | SKIPPED | +---------------------+--------------------+------------------+-------------------+-------------------------+----------------------+-------------------+ | Fedora 39 (Clang) | PASS | PASS | PASS | SKIPPED | SKIPPED | SKIPPED | +---------------------+--------------------+------------------+-------------------+-------------------------+----------------------+-------------------+ | Debian 12 | PASS | PASS | PASS | SKIPPED | SKIPPED | SKIPPED | +---------------------+--------------------+------------------+-------------------+-------------------------+----------------------+-------------------+ | Fedora 39 | PASS | PASS | PASS | SKIPPED | SKIPPED | SKIPPED | +---------------------+--------------------+------------------+-------------------+-------------------------+----------------------+-------------------+ | Fedora 40 (Clang) | PASS | PASS | PASS | SKIPPED | SKIPPED | SKIPPED | +---------------------+--------------------+------------------+-------------------+-------------------------+----------------------+-------------------+ | Fedora 40 | PASS | PASS | PASS | SKIPPED | SKIPPED | SKIPPED | +---------------------+--------------------+------------------+-------------------+-------------------------+----------------------+-------------------+ | RHEL8 | PASS | PASS | SKIPPED | SKIPPED | SKIPPED | SKIPPED | +---------------------+--------------------+------------------+-------------------+-------------------------+----------------------+-------------------+ | openSUSE Leap 15 | PASS | WARN | SKIPPED | SKIPPED | SKIPPED | SKIPPED | +---------------------+--------------------+------------------+-------------------+-------------------------+----------------------+-------------------+ | RHEL9 | PASS | PASS | SKIPPED | SKIPPED | SKIPPED | SKIPPED | +---------------------+--------------------+------------------+-------------------+-------------------------+----------------------+-------------------+ | Ubuntu 20.04 | PASS | SKIPPED | SKIPPED | SKIPPED | SKIPPED | SKIPPED | +---------------------+--------------------+------------------+-------------------+-------------------------+----------------------+-------------------+ | Ubuntu 22.04 | PASS | PASS | PASS | SKIPPED | SKIPPED | SKIPPED | +---------------------+--------------------+------------------+-------------------+-------------------------+----------------------+-------------------+ | Ubuntu 24.04 | PASS | PASS | PASS | SKIPPED | SKIPPED | SKIPPED | +---------------------+--------------------+------------------+-------------------+-------------------------+----------------------+-------------------+ | Alpine | PASS | PASS | SKIPPED | SKIPPED | SKIPPED | SKIPPED | +---------------------+--------------------+------------------+-------------------+-------------------------+----------------------+-------------------+ | FreeBSD 13.4 | PASS | SKIPPED | SKIPPED | SKIPPED | SKIPPED | SKIPPED | +---------------------+--------------------+------------------+-------------------+-------------------------+----------------------+-------------------+ | FreeBSD 14.2 | PASS | SKIPPED | SKIPPED | SKIPPED | SKIPPED | SKIPPED | +---------------------+--------------------+------------------+-------------------+-------------------------+----------------------+-------------------+ | Windows Server 2022 | SKIPPED | SKIPPED | SKIPPED | PASS | PASS | PASS | +---------------------+--------------------+------------------+-------------------+-------------------------+----------------------+-------------------+ ==== 20 line log output for openSUSE Leap 15 (dpdk_compile_ovs): ==== --- Failed to get log output --- ==== End log output ==== CentOS Stream 9 Kernel: Depends on container host Compiler: gcc 11.5.0 20240719 (Red Hat 11.5.0-2) Fedora 39 (Clang) Kernel: Depends on container host Compiler: clang 17.0.6 (Fedora 17.0.6-2.fc39) Debian 12 Kernel: Depends on container host Compiler: gcc (Debian 12.2.0-14) 12.2.0 Fedora 39 Kernel: Depends on container host Compiler: gcc 13.3.1 20240522 (Red Hat 13.3.1-1) Fedora 40 (Clang) Kernel: Depends on container host Compiler: clang 18.1.8 (Fedora 18.1.8-1.fc40) Fedora 40 Kernel: Depends on container host Compiler: gcc 14.2.1 20240912 (Red Hat 14.2.1-3) RHEL8 Kernel: Depends on container host Compiler: gcc 8.5.0 20210514 (Red Hat 8.5.0-22) openSUSE Leap 15 Kernel: Depends on container host Compiler: gcc (SUSE Linux) 7.5.0 RHEL9 Kernel: Depends on container host Compiler: gcc 11.5.0 20240719 (Red Hat 11.5.0-2) Ubuntu 20.04 Kernel: Depends on container host Compiler: gcc (Ubuntu 9.4.0-1ubuntu1~20.04.2) 9.4.0 Ubuntu 22.04 Kernel: Depends on container host Compiler: gcc (Ubuntu 11.4.0-1ubuntu1~22.04) 11.4.0 Ubuntu 24.04 Kernel: Depends on container host Compiler: gcc (Ubuntu 13.3.0-6ubuntu2~24.04) 13.3.0 Alpine Kernel: Depends on container host Compiler: gcc (Alpine 14.2.0) 14.2.0 FreeBSD 13.4 Kernel: 13.4-RELEASE-p1 Compiler: clang 18.1.6 FreeBSD 14.2 Kernel: 14.2-RELEASE Compiler: clang 18.1.6 Windows Server 2022 Kernel: 10.0.20348.2031 Compiler: clang 15.0.7, gcc 14.1.0 (MinGW), and MSVC VS 19.39.33521 To view detailed results, visit: https://lab.dpdk.org/results/dashboard/tarballs/31920/ UNH-IOL DPDK Community Lab To manage your email subscriptions, visit: https://lab.dpdk.org/results/dashboard/preferences/subscriptions/