From mboxrd@z Thu Jan 1 00:00:00 1970 Return-Path: Received: from mails.dpdk.org (mails.dpdk.org [217.70.189.124]) by inbox.dpdk.org (Postfix) with ESMTP id D0F57461BE for ; Fri, 7 Feb 2025 19:30:08 +0100 (CET) Received: from mails.dpdk.org (localhost [127.0.0.1]) by mails.dpdk.org (Postfix) with ESMTP id CA79442ED5; Fri, 7 Feb 2025 19:30:08 +0100 (CET) Received: from mail-pl1-f227.google.com (mail-pl1-f227.google.com [209.85.214.227]) by mails.dpdk.org (Postfix) with ESMTP id A095842E90 for ; Fri, 7 Feb 2025 19:30:07 +0100 (CET) Received: by mail-pl1-f227.google.com with SMTP id d9443c01a7336-21f48ebaadfso33598745ad.2 for ; Fri, 07 Feb 2025 10:30:07 -0800 (PST) DKIM-Signature: v=1; a=rsa-sha256; c=relaxed/relaxed; d=iol.unh.edu; s=unh-iol; t=1738953007; x=1739557807; darn=dpdk.org; h=references:in-reply-to:cc:to:from:subject:message-id:date:from:to :cc:subject:date:message-id:reply-to; bh=4VNHFUsMEefyK+8KnnOYq872EhCRPFC1g0Fe0S+wZ5A=; b=jFLT1D5RyguP5PlIqecm7GtcTVbbFqKEdzRnsI+JXPnpzhU/o854Flv/Rgyq+mNl6g RV168e36hNXNTCH7wQVWh1wmOYQ0z8VvUmpdxQaO5wGDaJUqRdV0f7Od1+jQ6BBLHDk5 uGiCN/B/Vn320+pgoD/0FAhQnf6OM15oiLCA4= X-Google-DKIM-Signature: v=1; a=rsa-sha256; c=relaxed/relaxed; d=1e100.net; s=20230601; t=1738953007; x=1739557807; h=references:in-reply-to:cc:to:from:subject:message-id:date :x-gm-message-state:from:to:cc:subject:date:message-id:reply-to; bh=4VNHFUsMEefyK+8KnnOYq872EhCRPFC1g0Fe0S+wZ5A=; b=kcLnXwIuacQh0KU0y/9DG/ma0oWo0NajfJxBROFi7gfbFH6AGc8ZPfIzWv2gIiE32N jleukq2Flpb6ZhH9djmMc6UXnz2ctQWfrzsVYMcB6GUApodO7liUa2zeVm01LFVr0Eo2 yDTqp50dtfsq2KoG48pUFKUp5MT4FokogFBJMUNJ7LZPsff1wmIpp+s87X+AHw96nPz2 2Ge8Wnad/24bYsuFtL0Yy0epDj+lnLEsj/Vq4PrGhvt8HwRImvzLFaRsxEKs1JdFJVMn j0XF1HCjH3Mg+sMhQ73HhVPBh+EVFkoZKgQ70l4B6xZwuhgibZXXijgieUrHf1IYdwjb KLnA== X-Gm-Message-State: AOJu0Yweqpb8oktkzY3+OObILxyDWj0VhKI4eCbKx53/e/dfpUwToV9j su9qV/fi+t2aRq9oV8iXhSU1NSsbTAWtMHO3sF/2hhLzGxAvBpBMed22D15AC1ah19s7kSMfai5 dbT8wO00A5p7aFm3IubYyNpsTFCVfYQ8y4AA8nwOi X-Gm-Gg: ASbGnct60ikOdaP8l7MrKxJsBYHi6xBYx6NmEjZxNHUe5b4onANfpktany93WcUATOW Q8bPHvRyzNLtxDkhpiLx81ZF+Q/aS/zzRdTsOFMO4xre4px3nsH1O3SB2cGeo+t7mVV95+3wg2D CMiDhhmH3Zm8RxHYyJhb1uAEU4B66rwXoYXUtvtjgHDA6zu5xkikKdHwiNmJOt/Nb2nOE1JvW6G GZDXFuAqo2EjPyJslbB3qcckmYB2Ph6iPuafPW0LKIvsKGU59KqEwDPu/KUG0QZOHH4Ni6l3m4Y 3tmvt4qy+WMNpY1Qjfg1xJHHrEaIWg== X-Google-Smtp-Source: AGHT+IGGk/J04lGgljCMw9L5EMnapcPfHjOSbXcdjkSC2oNlMV33bnEZMCD9HmEvLBjgDiTjetD0DenC6pVG X-Received: by 2002:a17:903:1a2d:b0:21f:2a2:3c80 with SMTP id d9443c01a7336-21f4e1cb924mr59054675ad.8.1738953006858; Fri, 07 Feb 2025 10:30:06 -0800 (PST) Received: from postal.iol.unh.edu (postal.iol.unh.edu. [132.177.123.84]) by smtp-relay.gmail.com with ESMTPS id 41be03b00d2f7-ad51ef536dbsm218861a12.25.2025.02.07.10.30.06 (version=TLS1_2 cipher=ECDHE-ECDSA-AES128-GCM-SHA256 bits=128/128); Fri, 07 Feb 2025 10:30:06 -0800 (PST) X-Relaying-Domain: iol.unh.edu Date: Fri, 07 Feb 2025 10:30:06 -0800 (PST) Message-ID: <67a6512e.630a0220.44334.c533SMTPIN_ADDED_MISSING@mx.google.com> Received: from [172.21.0.9] (unknown [172.18.0.240]) by postal.iol.unh.edu (Postfix) with ESMTP id 1E05C6052472; Fri, 7 Feb 2025 13:30:06 -0500 (EST) Subject: |WARNING| pw149235 [PATCH] [v2] app/test: fix stack overflow in lpm6 From: dpdklab@iol.unh.edu To: Test Report Cc: dpdk-test-reports@iol.unh.edu In-Reply-To: <1734109702-3647-1-git-send-email-andremue@linux.microsoft.com> References: <1734109702-3647-1-git-send-email-andremue@linux.microsoft.com> Content-Type: text/plain X-BeenThere: test-report@dpdk.org X-Mailman-Version: 2.1.29 Precedence: list List-Id: automatic DPDK test reports List-Unsubscribe: , List-Archive: List-Post: List-Help: List-Subscribe: , Errors-To: test-report-bounces@dpdk.org Test-Label: iol-compile-amd64-testing Test-Status: WARNING http://dpdk.org/patch/149235 _Testing issues_ Submitter: Andre Muezerie Date: Friday, December 13 2024 17:08:22 DPDK git baseline: Repo:dpdk Branch: master CommitID:7df61db6c387703a36306c1aea92225921e2eeb2 149235 --> testing issues Test environment and result as below: +---------------------+--------------------+------------------+-------------------+-------------------------+----------------------+-------------------+ | Environment | dpdk_meson_compile | dpdk_compile_ovs | dpdk_compile_spdk | dpdk_llvm_clang_compile | dpdk_mingw64_compile | dpdk_msvc_compile | +=====================+====================+==================+===================+=========================+======================+===================+ | CentOS Stream 9 | PASS | PASS | PASS | SKIPPED | SKIPPED | SKIPPED | +---------------------+--------------------+------------------+-------------------+-------------------------+----------------------+-------------------+ | Debian 12 | PASS | PASS | PASS | SKIPPED | SKIPPED | SKIPPED | +---------------------+--------------------+------------------+-------------------+-------------------------+----------------------+-------------------+ | Fedora 39 (Clang) | PASS | PASS | PASS | SKIPPED | SKIPPED | SKIPPED | +---------------------+--------------------+------------------+-------------------+-------------------------+----------------------+-------------------+ | Fedora 39 | PASS | PASS | PASS | SKIPPED | SKIPPED | SKIPPED | +---------------------+--------------------+------------------+-------------------+-------------------------+----------------------+-------------------+ | Fedora 40 | PASS | PASS | PASS | SKIPPED | SKIPPED | SKIPPED | +---------------------+--------------------+------------------+-------------------+-------------------------+----------------------+-------------------+ | Fedora 40 (Clang) | PASS | PASS | PASS | SKIPPED | SKIPPED | SKIPPED | +---------------------+--------------------+------------------+-------------------+-------------------------+----------------------+-------------------+ | RHEL8 | PASS | PASS | SKIPPED | SKIPPED | SKIPPED | SKIPPED | +---------------------+--------------------+------------------+-------------------+-------------------------+----------------------+-------------------+ | Ubuntu 20.04 | PASS | SKIPPED | SKIPPED | SKIPPED | SKIPPED | SKIPPED | +---------------------+--------------------+------------------+-------------------+-------------------------+----------------------+-------------------+ | Ubuntu 22.04 | PASS | PASS | PASS | SKIPPED | SKIPPED | SKIPPED | +---------------------+--------------------+------------------+-------------------+-------------------------+----------------------+-------------------+ | Ubuntu 24.04 | PASS | PASS | PASS | SKIPPED | SKIPPED | SKIPPED | +---------------------+--------------------+------------------+-------------------+-------------------------+----------------------+-------------------+ | Alpine | PASS | PASS | SKIPPED | SKIPPED | SKIPPED | SKIPPED | +---------------------+--------------------+------------------+-------------------+-------------------------+----------------------+-------------------+ | FreeBSD 13.4 | PASS | SKIPPED | SKIPPED | SKIPPED | SKIPPED | SKIPPED | +---------------------+--------------------+------------------+-------------------+-------------------------+----------------------+-------------------+ | FreeBSD 14.2 | PASS | SKIPPED | SKIPPED | SKIPPED | SKIPPED | SKIPPED | +---------------------+--------------------+------------------+-------------------+-------------------------+----------------------+-------------------+ | openSUSE Leap 15 | PASS | WARN | SKIPPED | SKIPPED | SKIPPED | SKIPPED | +---------------------+--------------------+------------------+-------------------+-------------------------+----------------------+-------------------+ | RHEL9 | PASS | PASS | SKIPPED | SKIPPED | SKIPPED | SKIPPED | +---------------------+--------------------+------------------+-------------------+-------------------------+----------------------+-------------------+ | Windows Server 2022 | SKIPPED | SKIPPED | SKIPPED | PASS | PASS | PASS | +---------------------+--------------------+------------------+-------------------+-------------------------+----------------------+-------------------+ ==== 20 line log output for openSUSE Leap 15 (dpdk_compile_ovs): ==== --- Failed to get log output --- ==== End log output ==== CentOS Stream 9 Kernel: Depends on container host Compiler: gcc 11.5.0 20240719 (Red Hat 11.5.0-2) Debian 12 Kernel: Depends on container host Compiler: gcc (Debian 12.2.0-14) 12.2.0 Fedora 39 (Clang) Kernel: Depends on container host Compiler: clang 17.0.6 (Fedora 17.0.6-2.fc39) Fedora 39 Kernel: Depends on container host Compiler: gcc 13.3.1 20240522 (Red Hat 13.3.1-1) Fedora 40 Kernel: Depends on container host Compiler: gcc 14.2.1 20240912 (Red Hat 14.2.1-3) Fedora 40 (Clang) Kernel: Depends on container host Compiler: clang 18.1.8 (Fedora 18.1.8-1.fc40) RHEL8 Kernel: Depends on container host Compiler: gcc 8.5.0 20210514 (Red Hat 8.5.0-22) Ubuntu 20.04 Kernel: Depends on container host Compiler: gcc (Ubuntu 9.4.0-1ubuntu1~20.04.2) 9.4.0 Ubuntu 22.04 Kernel: Depends on container host Compiler: gcc (Ubuntu 11.4.0-1ubuntu1~22.04) 11.4.0 Ubuntu 24.04 Kernel: Depends on container host Compiler: gcc (Ubuntu 13.3.0-6ubuntu2~24.04) 13.3.0 Alpine Kernel: Depends on container host Compiler: gcc (Alpine 14.2.0) 14.2.0 FreeBSD 13.4 Kernel: 13.4-RELEASE-p1 Compiler: clang 18.1.6 FreeBSD 14.2 Kernel: 14.2-RELEASE Compiler: clang 18.1.6 openSUSE Leap 15 Kernel: Depends on container host Compiler: gcc (SUSE Linux) 7.5.0 RHEL9 Kernel: Depends on container host Compiler: gcc 11.5.0 20240719 (Red Hat 11.5.0-2) Windows Server 2022 Kernel: 10.0.20348.2031 Compiler: clang 15.0.7, gcc 14.1.0 (MinGW), and MSVC VS 19.39.33521 To view detailed results, visit: https://lab.dpdk.org/results/dashboard/patchsets/32141/ UNH-IOL DPDK Community Lab To manage your email subscriptions, visit: https://lab.dpdk.org/results/dashboard/preferences/subscriptions/