From mboxrd@z Thu Jan 1 00:00:00 1970 Return-Path: Received: from mails.dpdk.org (mails.dpdk.org [217.70.189.124]) by inbox.dpdk.org (Postfix) with ESMTP id E0364461BE for ; Fri, 7 Feb 2025 19:30:08 +0100 (CET) Received: from mails.dpdk.org (localhost [127.0.0.1]) by mails.dpdk.org (Postfix) with ESMTP id DD95542EF0; Fri, 7 Feb 2025 19:30:08 +0100 (CET) Received: from mail-il1-f228.google.com (mail-il1-f228.google.com [209.85.166.228]) by mails.dpdk.org (Postfix) with ESMTP id E22EB42E90 for ; Fri, 7 Feb 2025 19:30:07 +0100 (CET) Received: by mail-il1-f228.google.com with SMTP id e9e14a558f8ab-3ce85545983so7020075ab.0 for ; Fri, 07 Feb 2025 10:30:07 -0800 (PST) DKIM-Signature: v=1; a=rsa-sha256; c=relaxed/relaxed; d=iol.unh.edu; s=unh-iol; t=1738953007; x=1739557807; darn=dpdk.org; h=references:in-reply-to:cc:to:from:subject:message-id:date:from:to :cc:subject:date:message-id:reply-to; bh=zfrNAvqYYZ2ZSIA9vyLk/JlBzfPZHMISGBHrgjT2oAI=; b=PEr34xxFJA340Mnk5uLGlW4M+iw7CjEjpbMZIiAINP3jraRzqtRalrazuXwrm7fb/1 WJuX3RUN24V9JnGVXf9+2Z7dOKR4xcMVoU2xaCPjTz5eiX+0NIMcZtjh3NN5NM8Zyypi OlPEeluD/MKparuPd6TBDUhIGZf8knib/Vb1Y= X-Google-DKIM-Signature: v=1; a=rsa-sha256; c=relaxed/relaxed; d=1e100.net; s=20230601; t=1738953007; x=1739557807; h=references:in-reply-to:cc:to:from:subject:message-id:date :x-gm-message-state:from:to:cc:subject:date:message-id:reply-to; bh=zfrNAvqYYZ2ZSIA9vyLk/JlBzfPZHMISGBHrgjT2oAI=; b=ZJ7o5LaYF9CdDRPvLJOlLDxrNiK4MXpp0q1sdoSTZkz6RNJSov2h69fC8RhnSripVm 1o4Gp46UWXIcB+d63kKEnp7WAouTuDjfCER+J05aESQvD4zPc78gAugamcvMjo0KHRUb edmArxW5+RmzhU9Bghj7R9aSdOZs4xq4uJdbQBwAwDVZyZ4IF7m7UHNCTd2mI2IXgvI2 AgJlabeRgeon9j9sjx8jixZsmigY5On4AQ6Q+bmnY6V7RYThTZVyk7d8RRGXrUx4roV/ 7/qlcXd3QJASz+E+9NS9nlQO+jnwpbimjelFvRpR93jLdEfEbFYNTbr4/aIV8+QKmjGe lIxg== X-Gm-Message-State: AOJu0Yzf7yAOgxzDsQpqmLY3p4f7vXiBjrkW5o0MpZQMO56QY6SmlM8Y el1geNXBUwmDryvgLuLir9nWrf0KcjblMoR61Fhc9MUL4RZPhSIL6J4Qm2cWPf64vSPo81XSULP HGWzKB95Xug8F5Fkcu4gKYkuYQ88wspVoQKA81Ovr X-Gm-Gg: ASbGncuIjojVpYjEw5VUw0q3gzcnc2yzBPm8E3DsvNI5TPm1quAihZrVuRFVGVOdX9d 0CK7EKSFRHQG6foJIbI+8XTUHJOPcjbeex7qjHZiJQMIqqix3bZpjMcCbiWTpUaHa1hzGL8FDzD tHTBW6OLunYVZwhFkW4B9RxlaVmQQprFjFFN8ShtOX9Z/+OMalMHKVwVOPsmgBV09up3YQn+S7L YecuP/UbZZfPepaO6YHebAhW1VyaOWkjYL+w3ada5uwEijWu6ogNkmLeBWon/l7iKHDgQH8rAH+ uk6VTjlpHlSOkU7X3AfLm9jHsg3QcA== X-Google-Smtp-Source: AGHT+IH/Wgp4rJnMX6kEsKL1hQaAxohvDTjfwdzpiNfdF7DxTqL8BtuzPnw3dZWpuq4tsk0totXaRccesSlV X-Received: by 2002:a05:6e02:2485:b0:3d0:47ad:dc86 with SMTP id e9e14a558f8ab-3d05a6df6e3mr85165675ab.10.1738953007231; Fri, 07 Feb 2025 10:30:07 -0800 (PST) Received: from postal.iol.unh.edu (postal.iol.unh.edu. [132.177.123.84]) by smtp-relay.gmail.com with ESMTPS id e9e14a558f8ab-3d05e8d92f0sm2546605ab.10.2025.02.07.10.30.07 (version=TLS1_2 cipher=ECDHE-ECDSA-AES128-GCM-SHA256 bits=128/128); Fri, 07 Feb 2025 10:30:07 -0800 (PST) X-Relaying-Domain: iol.unh.edu Date: Fri, 07 Feb 2025 10:30:07 -0800 (PST) Message-ID: <67a6512f.050a0220.29e83e.d5ceSMTPIN_ADDED_MISSING@mx.google.com> Received: from [172.21.0.12] (unknown [172.18.0.240]) by postal.iol.unh.edu (Postfix) with ESMTP id AE4826052471; Fri, 7 Feb 2025 13:29:36 -0500 (EST) Subject: |WARNING| pw149236 [PATCH] [v2] test/bonding: fix active backup rx t From: dpdklab@iol.unh.edu To: Test Report Cc: dpdk-test-reports@iol.unh.edu In-Reply-To: <20241213171713.13266-2-stephen@networkplumber.org> References: <20241213171713.13266-2-stephen@networkplumber.org> Content-Type: text/plain X-BeenThere: test-report@dpdk.org X-Mailman-Version: 2.1.29 Precedence: list List-Id: automatic DPDK test reports List-Unsubscribe: , List-Archive: List-Post: List-Help: List-Subscribe: , Errors-To: test-report-bounces@dpdk.org Test-Label: iol-compile-amd64-testing Test-Status: WARNING http://dpdk.org/patch/149236 _Testing issues_ Submitter: Stephen Hemminger Date: Friday, December 13 2024 17:17:14 DPDK git baseline: Repo:dpdk Branch: master CommitID:f1e0472368d4dbb1da33ae68b18ca21bc8a55259 149236 --> testing issues Test environment and result as below: +---------------------+--------------------+------------------+-------------------+-------------------------+----------------------+-------------------+ | Environment | dpdk_meson_compile | dpdk_compile_ovs | dpdk_compile_spdk | dpdk_llvm_clang_compile | dpdk_mingw64_compile | dpdk_msvc_compile | +=====================+====================+==================+===================+=========================+======================+===================+ | CentOS Stream 9 | PASS | PASS | PASS | SKIPPED | SKIPPED | SKIPPED | +---------------------+--------------------+------------------+-------------------+-------------------------+----------------------+-------------------+ | Debian 12 | PASS | PASS | PASS | SKIPPED | SKIPPED | SKIPPED | +---------------------+--------------------+------------------+-------------------+-------------------------+----------------------+-------------------+ | Fedora 40 (Clang) | PASS | PASS | PASS | SKIPPED | SKIPPED | SKIPPED | +---------------------+--------------------+------------------+-------------------+-------------------------+----------------------+-------------------+ | Fedora 39 (Clang) | PASS | PASS | PASS | SKIPPED | SKIPPED | SKIPPED | +---------------------+--------------------+------------------+-------------------+-------------------------+----------------------+-------------------+ | Fedora 39 | PASS | PASS | PASS | SKIPPED | SKIPPED | SKIPPED | +---------------------+--------------------+------------------+-------------------+-------------------------+----------------------+-------------------+ | RHEL9 | PASS | PASS | SKIPPED | SKIPPED | SKIPPED | SKIPPED | +---------------------+--------------------+------------------+-------------------+-------------------------+----------------------+-------------------+ | openSUSE Leap 15 | PASS | WARN | SKIPPED | SKIPPED | SKIPPED | SKIPPED | +---------------------+--------------------+------------------+-------------------+-------------------------+----------------------+-------------------+ | Fedora 40 | PASS | PASS | PASS | SKIPPED | SKIPPED | SKIPPED | +---------------------+--------------------+------------------+-------------------+-------------------------+----------------------+-------------------+ | Ubuntu 22.04 | PASS | PASS | PASS | SKIPPED | SKIPPED | SKIPPED | +---------------------+--------------------+------------------+-------------------+-------------------------+----------------------+-------------------+ | Ubuntu 20.04 | PASS | SKIPPED | SKIPPED | SKIPPED | SKIPPED | SKIPPED | +---------------------+--------------------+------------------+-------------------+-------------------------+----------------------+-------------------+ | Ubuntu 24.04 | PASS | PASS | PASS | SKIPPED | SKIPPED | SKIPPED | +---------------------+--------------------+------------------+-------------------+-------------------------+----------------------+-------------------+ | Alpine | PASS | PASS | SKIPPED | SKIPPED | SKIPPED | SKIPPED | +---------------------+--------------------+------------------+-------------------+-------------------------+----------------------+-------------------+ | FreeBSD 13.4 | PASS | SKIPPED | SKIPPED | SKIPPED | SKIPPED | SKIPPED | +---------------------+--------------------+------------------+-------------------+-------------------------+----------------------+-------------------+ | FreeBSD 14.2 | PASS | SKIPPED | SKIPPED | SKIPPED | SKIPPED | SKIPPED | +---------------------+--------------------+------------------+-------------------+-------------------------+----------------------+-------------------+ | RHEL8 | PASS | PASS | SKIPPED | SKIPPED | SKIPPED | SKIPPED | +---------------------+--------------------+------------------+-------------------+-------------------------+----------------------+-------------------+ | Windows Server 2022 | SKIPPED | SKIPPED | SKIPPED | PASS | PASS | PASS | +---------------------+--------------------+------------------+-------------------+-------------------------+----------------------+-------------------+ ==== 20 line log output for openSUSE Leap 15 (dpdk_compile_ovs): ==== --- Failed to get log output --- ==== End log output ==== CentOS Stream 9 Kernel: Depends on container host Compiler: gcc 11.5.0 20240719 (Red Hat 11.5.0-2) Debian 12 Kernel: Depends on container host Compiler: gcc (Debian 12.2.0-14) 12.2.0 Fedora 40 (Clang) Kernel: Depends on container host Compiler: clang 18.1.8 (Fedora 18.1.8-1.fc40) Fedora 39 (Clang) Kernel: Depends on container host Compiler: clang 17.0.6 (Fedora 17.0.6-2.fc39) Fedora 39 Kernel: Depends on container host Compiler: gcc 13.3.1 20240522 (Red Hat 13.3.1-1) RHEL9 Kernel: Depends on container host Compiler: gcc 11.5.0 20240719 (Red Hat 11.5.0-2) openSUSE Leap 15 Kernel: Depends on container host Compiler: gcc (SUSE Linux) 7.5.0 Fedora 40 Kernel: Depends on container host Compiler: gcc 14.2.1 20240912 (Red Hat 14.2.1-3) Ubuntu 22.04 Kernel: Depends on container host Compiler: gcc (Ubuntu 11.4.0-1ubuntu1~22.04) 11.4.0 Ubuntu 20.04 Kernel: Depends on container host Compiler: gcc (Ubuntu 9.4.0-1ubuntu1~20.04.2) 9.4.0 Ubuntu 24.04 Kernel: Depends on container host Compiler: gcc (Ubuntu 13.3.0-6ubuntu2~24.04) 13.3.0 Alpine Kernel: Depends on container host Compiler: gcc (Alpine 14.2.0) 14.2.0 FreeBSD 13.4 Kernel: 13.4-RELEASE-p1 Compiler: clang 18.1.6 FreeBSD 14.2 Kernel: 14.2-RELEASE Compiler: clang 18.1.6 RHEL8 Kernel: Depends on container host Compiler: gcc 8.5.0 20210514 (Red Hat 8.5.0-22) Windows Server 2022 Kernel: 10.0.20348.2031 Compiler: clang 15.0.7, gcc 14.1.0 (MinGW), and MSVC VS 19.39.33521 To view detailed results, visit: https://lab.dpdk.org/results/dashboard/patchsets/32142/ UNH-IOL DPDK Community Lab To manage your email subscriptions, visit: https://lab.dpdk.org/results/dashboard/preferences/subscriptions/