From mboxrd@z Thu Jan 1 00:00:00 1970 Return-Path: Received: from mails.dpdk.org (mails.dpdk.org [217.70.189.124]) by inbox.dpdk.org (Postfix) with ESMTP id 04CF6461BE for ; Fri, 7 Feb 2025 19:30:14 +0100 (CET) Received: from mails.dpdk.org (localhost [127.0.0.1]) by mails.dpdk.org (Postfix) with ESMTP id F41A142ED5; Fri, 7 Feb 2025 19:30:13 +0100 (CET) Received: from mail-pl1-f226.google.com (mail-pl1-f226.google.com [209.85.214.226]) by mails.dpdk.org (Postfix) with ESMTP id 3568842EF5 for ; Fri, 7 Feb 2025 19:30:09 +0100 (CET) Received: by mail-pl1-f226.google.com with SMTP id d9443c01a7336-2166f1e589cso62326365ad.3 for ; Fri, 07 Feb 2025 10:30:09 -0800 (PST) DKIM-Signature: v=1; a=rsa-sha256; c=relaxed/relaxed; d=iol.unh.edu; s=unh-iol; t=1738953008; x=1739557808; darn=dpdk.org; h=references:in-reply-to:cc:to:from:subject:message-id:date:from:to :cc:subject:date:message-id:reply-to; bh=cYuqwTiA/cba2a7h8T7MxuB9idqXz87yjEr4Gf0YUXo=; b=BUk5l56JxNbRDzH0xqs2WpzOI5X01ytsdDU5RvpHJZXGXd5uOQjgEcfEPbPAvNo6Ud rdSJhZMx2MGZYA9ipiGsVRqzHtXOTEYz20au7+ynRFdIkCbw7j25/xJtSlBLFCnRo+2L przL9xAtybwbiCt7ycXSq9QKoJaaqsvplKS7k= X-Google-DKIM-Signature: v=1; a=rsa-sha256; c=relaxed/relaxed; d=1e100.net; s=20230601; t=1738953008; x=1739557808; h=references:in-reply-to:cc:to:from:subject:message-id:date :x-gm-message-state:from:to:cc:subject:date:message-id:reply-to; bh=cYuqwTiA/cba2a7h8T7MxuB9idqXz87yjEr4Gf0YUXo=; b=rYniuEUrwR5CGKr6LLPgfEV8yboCk/VrLveGRPf+sPyvOdODJy4YDsxwv4l5Wp42AN kYfVfKm8K90NQF2t2leUb3WI3uL3PIN5CvKXCzf/04pWedqRmMW2qgHl2KmCXruXCWin t3aeCIjnd+D4DhFXXyZXlJW0rDIZbocXdB2VlsjSmKii168U5DTfKgbs/xblBpwL17Hl kmK5cv62IO2Q3k1RupLvP4pBC5Vf8dDFg6a0osaSUA9PBiVwLIIw9wv7UBxi5mxzmUlk dG/+RoBe+LYbjbGMW+gQuSMB4gYNR1xP0FI79Je932yN4fm2lPDuW06QbUwr1II/RzXN havQ== X-Gm-Message-State: AOJu0Yyz2e1lfwBmsHjX7PJlli/uLoieylJKP4qRkPCz2opSZxjZR365 vZh6O4cnOLtBd34rsqs1Do0XaWzMh1x48+kCF5EVQOQr4oY9XK9w1/QWNVMvMXTh+iPnFPFuRSV 06mIozPBPYianrPnqZhMyWg1NRVLKaU4weOya0E0I X-Gm-Gg: ASbGnct6XZuWaH9qSXYiFeqzEjQwnwZn9Llw6tD3uFhGrnbVbXpQ/UA2RU90MvKMtC+ fZfkqk3MaBoopdK/xxYnjBNSudAdDTzKeGbsZBDXk9AY6K5TLT4t+N6E6EHIFlIFGzGVcDqNR9O W7axG6ynLlMDsZfCJJ54lWch+CQb2bsTu5HarQD5h2h8lS7IuCOFO3GTSUYxFJHkk1tguEVKedn GbjaJVwrOu07kF3dgi38XR3IbmsVCHZUp8Tecwf5i8w0+uwzwfJ0dsdEPF3tUg9CBGzCDOXlDSB gXnnew/wWvSnpoeRu2IzS/+guip1+A== X-Google-Smtp-Source: AGHT+IGKey7uBiey6qY3ycH5E0e77ZOhtHA2s6WcARhFuQoOK+IzVGpoDReO02pYGCZp6/KwnIDMs2FDlDQd X-Received: by 2002:a17:903:987:b0:215:a964:e680 with SMTP id d9443c01a7336-21f4e6ce779mr71318295ad.25.1738953008530; Fri, 07 Feb 2025 10:30:08 -0800 (PST) Received: from postal.iol.unh.edu (postal.iol.unh.edu. [132.177.123.84]) by smtp-relay.gmail.com with ESMTPS id d9443c01a7336-21f3653bab3sm2086295ad.36.2025.02.07.10.30.08 (version=TLS1_2 cipher=ECDHE-ECDSA-AES128-GCM-SHA256 bits=128/128); Fri, 07 Feb 2025 10:30:08 -0800 (PST) X-Relaying-Domain: iol.unh.edu Date: Fri, 07 Feb 2025 10:30:08 -0800 (PST) Message-ID: <67a65130.170a0220.2a91d5.ae2fSMTPIN_ADDED_MISSING@mx.google.com> Received: from [172.21.0.8] (unknown [172.18.0.240]) by postal.iol.unh.edu (Postfix) with ESMTP id F39E66052471; Fri, 7 Feb 2025 13:30:07 -0500 (EST) Subject: |WARNING| pw149234 [PATCH] [v2,1/1] buildtools: clear out regex synt From: dpdklab@iol.unh.edu To: Test Report Cc: dpdk-test-reports@iol.unh.edu In-Reply-To: <20241213144145.59916-2-otilibil@eurecom.fr> References: <20241213144145.59916-2-otilibil@eurecom.fr> Content-Type: text/plain X-BeenThere: test-report@dpdk.org X-Mailman-Version: 2.1.29 Precedence: list List-Id: automatic DPDK test reports List-Unsubscribe: , List-Archive: List-Post: List-Help: List-Subscribe: , Errors-To: test-report-bounces@dpdk.org Test-Label: iol-compile-amd64-testing Test-Status: WARNING http://dpdk.org/patch/149234 _Testing issues_ Submitter: Ariel Otilibili-Anieli Date: Friday, December 13 2024 14:40:58 DPDK git baseline: Repo:dpdk Branch: master CommitID:7df61db6c387703a36306c1aea92225921e2eeb2 149234 --> testing issues Test environment and result as below: +---------------------+--------------------+------------------+-------------------+-------------------------+----------------------+-------------------+ | Environment | dpdk_meson_compile | dpdk_compile_ovs | dpdk_compile_spdk | dpdk_llvm_clang_compile | dpdk_mingw64_compile | dpdk_msvc_compile | +=====================+====================+==================+===================+=========================+======================+===================+ | CentOS Stream 9 | PASS | PASS | PASS | SKIPPED | SKIPPED | SKIPPED | +---------------------+--------------------+------------------+-------------------+-------------------------+----------------------+-------------------+ | Debian 12 | PASS | PASS | PASS | SKIPPED | SKIPPED | SKIPPED | +---------------------+--------------------+------------------+-------------------+-------------------------+----------------------+-------------------+ | Fedora 39 (Clang) | PASS | PASS | PASS | SKIPPED | SKIPPED | SKIPPED | +---------------------+--------------------+------------------+-------------------+-------------------------+----------------------+-------------------+ | Fedora 39 | PASS | PASS | PASS | SKIPPED | SKIPPED | SKIPPED | +---------------------+--------------------+------------------+-------------------+-------------------------+----------------------+-------------------+ | openSUSE Leap 15 | PASS | WARN | SKIPPED | SKIPPED | SKIPPED | SKIPPED | +---------------------+--------------------+------------------+-------------------+-------------------------+----------------------+-------------------+ | RHEL8 | PASS | PASS | SKIPPED | SKIPPED | SKIPPED | SKIPPED | +---------------------+--------------------+------------------+-------------------+-------------------------+----------------------+-------------------+ | Ubuntu 20.04 | PASS | SKIPPED | SKIPPED | SKIPPED | SKIPPED | SKIPPED | +---------------------+--------------------+------------------+-------------------+-------------------------+----------------------+-------------------+ | RHEL9 | PASS | PASS | SKIPPED | SKIPPED | SKIPPED | SKIPPED | +---------------------+--------------------+------------------+-------------------+-------------------------+----------------------+-------------------+ | Ubuntu 24.04 | PASS | PASS | PASS | SKIPPED | SKIPPED | SKIPPED | +---------------------+--------------------+------------------+-------------------+-------------------------+----------------------+-------------------+ | Ubuntu 22.04 | PASS | PASS | PASS | SKIPPED | SKIPPED | SKIPPED | +---------------------+--------------------+------------------+-------------------+-------------------------+----------------------+-------------------+ | Alpine | PASS | PASS | SKIPPED | SKIPPED | SKIPPED | SKIPPED | +---------------------+--------------------+------------------+-------------------+-------------------------+----------------------+-------------------+ | FreeBSD 13.4 | PASS | SKIPPED | SKIPPED | SKIPPED | SKIPPED | SKIPPED | +---------------------+--------------------+------------------+-------------------+-------------------------+----------------------+-------------------+ | FreeBSD 14.2 | PASS | SKIPPED | SKIPPED | SKIPPED | SKIPPED | SKIPPED | +---------------------+--------------------+------------------+-------------------+-------------------------+----------------------+-------------------+ | Fedora 40 | PASS | PASS | PASS | SKIPPED | SKIPPED | SKIPPED | +---------------------+--------------------+------------------+-------------------+-------------------------+----------------------+-------------------+ | Fedora 40 (Clang) | PASS | PASS | PASS | SKIPPED | SKIPPED | SKIPPED | +---------------------+--------------------+------------------+-------------------+-------------------------+----------------------+-------------------+ | Windows Server 2022 | SKIPPED | SKIPPED | SKIPPED | PASS | PASS | PASS | +---------------------+--------------------+------------------+-------------------+-------------------------+----------------------+-------------------+ ==== 20 line log output for openSUSE Leap 15 (dpdk_compile_ovs): ==== --- Failed to get log output --- ==== End log output ==== CentOS Stream 9 Kernel: Depends on container host Compiler: gcc 11.5.0 20240719 (Red Hat 11.5.0-2) Debian 12 Kernel: Depends on container host Compiler: gcc (Debian 12.2.0-14) 12.2.0 Fedora 39 (Clang) Kernel: Depends on container host Compiler: clang 17.0.6 (Fedora 17.0.6-2.fc39) Fedora 39 Kernel: Depends on container host Compiler: gcc 13.3.1 20240522 (Red Hat 13.3.1-1) openSUSE Leap 15 Kernel: Depends on container host Compiler: gcc (SUSE Linux) 7.5.0 RHEL8 Kernel: Depends on container host Compiler: gcc 8.5.0 20210514 (Red Hat 8.5.0-22) Ubuntu 20.04 Kernel: Depends on container host Compiler: gcc (Ubuntu 9.4.0-1ubuntu1~20.04.2) 9.4.0 RHEL9 Kernel: Depends on container host Compiler: gcc 11.5.0 20240719 (Red Hat 11.5.0-2) Ubuntu 24.04 Kernel: Depends on container host Compiler: gcc (Ubuntu 13.3.0-6ubuntu2~24.04) 13.3.0 Ubuntu 22.04 Kernel: Depends on container host Compiler: gcc (Ubuntu 11.4.0-1ubuntu1~22.04) 11.4.0 Alpine Kernel: Depends on container host Compiler: gcc (Alpine 14.2.0) 14.2.0 FreeBSD 13.4 Kernel: 13.4-RELEASE-p1 Compiler: clang 18.1.6 FreeBSD 14.2 Kernel: 14.2-RELEASE Compiler: clang 18.1.6 Fedora 40 Kernel: Depends on container host Compiler: gcc 14.2.1 20240912 (Red Hat 14.2.1-3) Fedora 40 (Clang) Kernel: Depends on container host Compiler: clang 18.1.8 (Fedora 18.1.8-1.fc40) Windows Server 2022 Kernel: 10.0.20348.2031 Compiler: clang 15.0.7, gcc 14.1.0 (MinGW), and MSVC VS 19.39.33521 To view detailed results, visit: https://lab.dpdk.org/results/dashboard/patchsets/32140/ UNH-IOL DPDK Community Lab To manage your email subscriptions, visit: https://lab.dpdk.org/results/dashboard/preferences/subscriptions/