From mboxrd@z Thu Jan 1 00:00:00 1970 Return-Path: Received: from mails.dpdk.org (mails.dpdk.org [217.70.189.124]) by inbox.dpdk.org (Postfix) with ESMTP id 0DA3C461BE for ; Fri, 7 Feb 2025 19:30:14 +0100 (CET) Received: from mails.dpdk.org (localhost [127.0.0.1]) by mails.dpdk.org (Postfix) with ESMTP id 0B46C42EF2; Fri, 7 Feb 2025 19:30:14 +0100 (CET) Received: from mail-qv1-f100.google.com (mail-qv1-f100.google.com [209.85.219.100]) by mails.dpdk.org (Postfix) with ESMTP id 626BF42E90 for ; Fri, 7 Feb 2025 19:30:11 +0100 (CET) Received: by mail-qv1-f100.google.com with SMTP id 6a1803df08f44-6e43a5f59b7so22630236d6.0 for ; Fri, 07 Feb 2025 10:30:11 -0800 (PST) DKIM-Signature: v=1; a=rsa-sha256; c=relaxed/relaxed; d=iol.unh.edu; s=unh-iol; t=1738953011; x=1739557811; darn=dpdk.org; h=cc:to:from:subject:message-id:date:from:to:cc:subject:date :message-id:reply-to; bh=fy1i1iwyVJzJ7HhhBHjsCVsfLyMsWpQIT7Y1rCZ4s00=; b=GD3t79tce1BVQWiDnB+fvj6WxOv8kwwMuC3r6hDnJ6/4qRXPTCWwpsO/GXxBKDe7Bt CPJo3s3E02PXe6Zm7JL/N7wf8GI45S01ldLSG4WqoUZ13oH70/Dk7DCkER915MLjvAnK 8qXYD6AdNSYiFO62UJOYTRdPKJbCqCL72AM7E= X-Google-DKIM-Signature: v=1; a=rsa-sha256; c=relaxed/relaxed; d=1e100.net; s=20230601; t=1738953011; x=1739557811; h=cc:to:from:subject:message-id:date:x-gm-message-state:from:to:cc :subject:date:message-id:reply-to; bh=fy1i1iwyVJzJ7HhhBHjsCVsfLyMsWpQIT7Y1rCZ4s00=; b=hRbrLrgKWE5i2vOMFIAdOOxkwpvcX780akdwrwzXYAy92W6hkwvDGMX9HhaEmLcMM3 zgbRztwQnPzcVI5qCcPqh+YshfzS2iRnlVJISEVBFMDau8mYsiCwyC/R/r34eOWOuvoR cptZIvWrCvqO2tCwIJVIXp9Vp+o/02ktxeViwO1IzCSlv+FyddvpDnKZk08QVubzHdlV dx/rQOMjehxUdwnze+zxj3XegEt+fF+h8oF8/5j7DQHbVIlWsmKCJBNCzCtv2GqOrg8c CDKm8d1VwiWLOb8+xFS2MG0gBWnoYaLW+YXp1IR5lXYorWc8wr0izQ3BSfeC0XhTJTCQ OASA== X-Gm-Message-State: AOJu0YwuHDSwEK8U3IODU4HP/hbohLENTH2cenomQu7FKr44wFLYJ1Rc lj6X8xvppxX48G9y9B3GP5A5xW7pfYct1F+Sk/j1CbusGFvEPZHohb7zryZg5Emm3MjEWpvAFj6 b1Tj9wDT/xVJKzng0Oh5RR8Re32irnETp X-Gm-Gg: ASbGncsKojtgj7R3fSxR2xdPFP9seNj6gfLzIyWu1zIL51yEmMJbWQzwTpIfj1qHGAK howPFzwSsxHvJReYwWnd/mU12H/tvl0TNYhjM5fs/oF21GgSNZhZRBgCreAIWK1G7o06GuGNyNR akQ1YkW3dZsVAcqmQ0T7qLqfmjhNyyb19EybKN2ACT6ikbkmtvQra1UuZSJ8rw7jTMrEcrADRyc VoqmqbC0j4xiCJIeA8rg5E1AObmMGac1AhD1B9quAKi7lhS0OwSAgvGrgj+/t4XM5b8m2/3U7lu N9Nf4qP/n5tGhLPTfh6gOqK1hv/K8Q== X-Google-Smtp-Source: AGHT+IGdbwvjRkMhNYyZWUL63hAKSK7cBRIW0Mzehvw4d4BPeIF6jkmVLFV8BTXWZI+Akq0gpbIEgf88o+ir X-Received: by 2002:a05:6214:e6b:b0:6e4:3785:83e1 with SMTP id 6a1803df08f44-6e4399e10bbmr107427446d6.0.1738953010805; Fri, 07 Feb 2025 10:30:10 -0800 (PST) Received: from postal.iol.unh.edu (postal.iol.unh.edu. [132.177.123.84]) by smtp-relay.gmail.com with ESMTPS id 6a1803df08f44-6e43ba33f8csm2293446d6.5.2025.02.07.10.30.10 (version=TLS1_2 cipher=ECDHE-ECDSA-AES128-GCM-SHA256 bits=128/128); Fri, 07 Feb 2025 10:30:10 -0800 (PST) X-Relaying-Domain: iol.unh.edu Date: Fri, 07 Feb 2025 10:30:10 -0800 (PST) Message-ID: <67a65132.050a0220.30b5b.b80fSMTPIN_ADDED_MISSING@mx.google.com> Received: from [172.21.0.10] (unknown [172.18.0.240]) by postal.iol.unh.edu (Postfix) with ESMTP id 895A66052471; Fri, 7 Feb 2025 13:30:10 -0500 (EST) Subject: |WARNING| [GIT MASTER] 39bcde2d05afc0f904f906182be1e659b60ceeb7 From: dpdklab@iol.unh.edu To: Test Report Cc: dpdk-test-reports@iol.unh.edu, Xueming Li , Christian Ehrhardt , Kevin Traynor , Luca Boccassi Content-Type: text/plain X-BeenThere: test-report@dpdk.org X-Mailman-Version: 2.1.29 Precedence: list List-Id: automatic DPDK test reports List-Unsubscribe: , List-Archive: List-Post: List-Help: List-Subscribe: , Errors-To: test-report-bounces@dpdk.org _Testing issues_ Branch: 23.11-staging 39bcde2d05afc0f904f906182be1e659b60ceeb7 --> testing issues Test environment and result as below: +---------------------+--------------------+------------------+-------------------+-------------------+-------------------------+----------------------+ | Environment | dpdk_meson_compile | dpdk_compile_ovs | dpdk_compile_spdk | dpdk_msvc_compile | dpdk_llvm_clang_compile | dpdk_mingw64_compile | +=====================+====================+==================+===================+===================+=========================+======================+ | CentOS Stream 9 | PASS | PASS | PASS | SKIPPED | SKIPPED | SKIPPED | +---------------------+--------------------+------------------+-------------------+-------------------+-------------------------+----------------------+ | Debian 12 | PASS | PASS | PASS | SKIPPED | SKIPPED | SKIPPED | +---------------------+--------------------+------------------+-------------------+-------------------+-------------------------+----------------------+ | Fedora 39 (Clang) | PASS | PASS | PASS | SKIPPED | SKIPPED | SKIPPED | +---------------------+--------------------+------------------+-------------------+-------------------+-------------------------+----------------------+ | Fedora 39 | PASS | PASS | PASS | SKIPPED | SKIPPED | SKIPPED | +---------------------+--------------------+------------------+-------------------+-------------------+-------------------------+----------------------+ | Fedora 40 (Clang) | PASS | PASS | PASS | SKIPPED | SKIPPED | SKIPPED | +---------------------+--------------------+------------------+-------------------+-------------------+-------------------------+----------------------+ | openSUSE Leap 15 | PASS | WARN | SKIPPED | SKIPPED | SKIPPED | SKIPPED | +---------------------+--------------------+------------------+-------------------+-------------------+-------------------------+----------------------+ | Fedora 40 | PASS | PASS | PASS | SKIPPED | SKIPPED | SKIPPED | +---------------------+--------------------+------------------+-------------------+-------------------+-------------------------+----------------------+ | RHEL8 | PASS | PASS | SKIPPED | SKIPPED | SKIPPED | SKIPPED | +---------------------+--------------------+------------------+-------------------+-------------------+-------------------------+----------------------+ | RHEL9 | PASS | PASS | SKIPPED | SKIPPED | SKIPPED | SKIPPED | +---------------------+--------------------+------------------+-------------------+-------------------+-------------------------+----------------------+ | Ubuntu 20.04 | PASS | SKIPPED | SKIPPED | SKIPPED | SKIPPED | SKIPPED | +---------------------+--------------------+------------------+-------------------+-------------------+-------------------------+----------------------+ | Ubuntu 22.04 | PASS | PASS | PASS | SKIPPED | SKIPPED | SKIPPED | +---------------------+--------------------+------------------+-------------------+-------------------+-------------------------+----------------------+ | Ubuntu 24.04 | PASS | PASS | PASS | SKIPPED | SKIPPED | SKIPPED | +---------------------+--------------------+------------------+-------------------+-------------------+-------------------------+----------------------+ | Alpine | PASS | PASS | SKIPPED | SKIPPED | SKIPPED | SKIPPED | +---------------------+--------------------+------------------+-------------------+-------------------+-------------------------+----------------------+ | FreeBSD 13.4 | PASS | SKIPPED | SKIPPED | SKIPPED | SKIPPED | SKIPPED | +---------------------+--------------------+------------------+-------------------+-------------------+-------------------------+----------------------+ | FreeBSD 14.2 | PASS | SKIPPED | SKIPPED | SKIPPED | SKIPPED | SKIPPED | +---------------------+--------------------+------------------+-------------------+-------------------+-------------------------+----------------------+ | Windows Server 2022 | SKIPPED | SKIPPED | SKIPPED | PASS | PASS | PASS | +---------------------+--------------------+------------------+-------------------+-------------------+-------------------------+----------------------+ ==== 20 line log output for openSUSE Leap 15 (dpdk_compile_ovs): ==== --- Failed to get log output --- ==== End log output ==== CentOS Stream 9 Kernel: Depends on container host Compiler: gcc 11.5.0 20240719 (Red Hat 11.5.0-2) Debian 12 Kernel: Depends on container host Compiler: gcc (Debian 12.2.0-14) 12.2.0 Fedora 39 (Clang) Kernel: Depends on container host Compiler: clang 17.0.6 (Fedora 17.0.6-2.fc39) Fedora 39 Kernel: Depends on container host Compiler: gcc 13.3.1 20240522 (Red Hat 13.3.1-1) Fedora 40 (Clang) Kernel: Depends on container host Compiler: clang 18.1.8 (Fedora 18.1.8-1.fc40) openSUSE Leap 15 Kernel: Depends on container host Compiler: gcc (SUSE Linux) 7.5.0 Fedora 40 Kernel: Depends on container host Compiler: gcc 14.2.1 20240912 (Red Hat 14.2.1-3) RHEL8 Kernel: Depends on container host Compiler: gcc 8.5.0 20210514 (Red Hat 8.5.0-22) RHEL9 Kernel: Depends on container host Compiler: gcc 11.5.0 20240719 (Red Hat 11.5.0-2) Ubuntu 20.04 Kernel: Depends on container host Compiler: gcc (Ubuntu 9.4.0-1ubuntu1~20.04.2) 9.4.0 Ubuntu 22.04 Kernel: Depends on container host Compiler: gcc (Ubuntu 11.4.0-1ubuntu1~22.04) 11.4.0 Ubuntu 24.04 Kernel: Depends on container host Compiler: gcc (Ubuntu 13.3.0-6ubuntu2~24.04) 13.3.0 Alpine Kernel: Depends on container host Compiler: gcc (Alpine 14.2.0) 14.2.0 FreeBSD 13.4 Kernel: 13.4-RELEASE-p1 Compiler: clang 18.1.6 FreeBSD 14.2 Kernel: 14.2-RELEASE Compiler: clang 18.1.6 Windows Server 2022 Kernel: 10.0.20348.2031 Compiler: clang 15.0.7, gcc 14.1.0 (MinGW), and MSVC VS 19.39.33521 To view detailed results, visit: https://lab.dpdk.org/results/dashboard/tarballs/31909/ UNH-IOL DPDK Community Lab To manage your email subscriptions, visit: https://lab.dpdk.org/results/dashboard/preferences/subscriptions/