From mboxrd@z Thu Jan 1 00:00:00 1970 Return-Path: Received: from mails.dpdk.org (mails.dpdk.org [217.70.189.124]) by inbox.dpdk.org (Postfix) with ESMTP id 1A9AE461BE for ; Fri, 7 Feb 2025 19:30:18 +0100 (CET) Received: from mails.dpdk.org (localhost [127.0.0.1]) by mails.dpdk.org (Postfix) with ESMTP id 1820442ED5; Fri, 7 Feb 2025 19:30:18 +0100 (CET) Received: from mail-qv1-f100.google.com (mail-qv1-f100.google.com [209.85.219.100]) by mails.dpdk.org (Postfix) with ESMTP id 6E43142E90 for ; Fri, 7 Feb 2025 19:30:15 +0100 (CET) Received: by mail-qv1-f100.google.com with SMTP id 6a1803df08f44-6e41e18137bso21254196d6.1 for ; Fri, 07 Feb 2025 10:30:15 -0800 (PST) DKIM-Signature: v=1; a=rsa-sha256; c=relaxed/relaxed; d=iol.unh.edu; s=unh-iol; t=1738953015; x=1739557815; darn=dpdk.org; h=references:in-reply-to:cc:to:from:subject:message-id:date:from:to :cc:subject:date:message-id:reply-to; bh=Bm1l51JhSylgKnMpJ9aUd2qy6SkvnNo4QDNGb5VfrgM=; b=hL1YG4nwxiu8LH0gERuA8MPjE8ojjI99skDEASqbbIUZ8XIwo2eJvHGxG5XXaNpBxY o/aR2sYYFGXlCEIdZHi8uB1masuCNYFD8Zm1aLI3mSdo47D+PpcmLyH0k6DZEeyJcytF 7RYp2z0g8SKp99PAGKg52RXHbefO8JOLxs65k= X-Google-DKIM-Signature: v=1; a=rsa-sha256; c=relaxed/relaxed; d=1e100.net; s=20230601; t=1738953015; x=1739557815; h=references:in-reply-to:cc:to:from:subject:message-id:date :x-gm-message-state:from:to:cc:subject:date:message-id:reply-to; bh=Bm1l51JhSylgKnMpJ9aUd2qy6SkvnNo4QDNGb5VfrgM=; b=OG1A35+hzxAS/jtqDhR29lVaCUEgOarYsD5BTL3HlvKLraomwi0FK3dSTvPU7I4i6T ka7voSFUwZ7MwurRjDnxrmn69xA9QYuoB+FEqtbXt3sEQgKqLTRTBDzPYW+qX6p11uzA O8c+4D+sjVkg7XThDkYosdWF/U6/GB8YMSkkloPp9v95ESMTSu9Ramr3mq2u+8pXAyIB VZsZM6XkRFiyFKj4Jki7xROCfiEPRGQsHqMILZ3FKpj/zAmtz/aJTfZZLtC3bLzFETvI CIlJ2+aEkDWHu6wORINLqNl+lhuWGVMtnNtHGAFD9OFy7jJ11EFZvec/k2Gh+x9tOMCc ExOw== X-Gm-Message-State: AOJu0YweD4RAMTIOaV/Hqloj+hyt/fyU4YVhVBLnbMh82ZLnXkc3fXm2 Hoh9eaRqvGbrXG2vmWNWJEczg7YqGMXT8GXNQrhwNADBBYcxPdXCu51OhbqR2r7VhoS4qpBQ9BE iIj06bruHy+1Y2ABzOqT8AadX/86WgPXhCpjppWAj X-Gm-Gg: ASbGncu55JCZjk0zuym7Fmu/rKoWAEKzA10qxEIvDPBLOUEiP6WIAI/7rPKt5fmQtTb +FlG+WAk7WWB6D9fx2tEbP5Vt9uVsLl5yMAtjDt1HYrNWHoav/fXS5JjXLTr73sJPh+oaf3CSpU +nUUAldzWaJwDeudNGhxmwDHqgwnWt9ta+2gan+GpYCS51wi9FfjVYi32VrZixIS2ODmjQzTFO7 aQJ3aAxIotJlTWFRk6CPv2iotmL9EuAXxN8JDe1iDCsfo1fSbhWHCuf87mEiBdUYGZR1CYCF8GO B65JkthLXJmcq82nAJ6LZ7oH8lOHAQ== X-Google-Smtp-Source: AGHT+IHttQqP9BXy2+DNxpVQDooq2pWfWbWXXSuRSHDmIn2ubPBBlxZzVla1NwG5SeOgAcwpfKo+w9EXrPWM X-Received: by 2002:ad4:5d68:0:b0:6d8:9a85:5b3d with SMTP id 6a1803df08f44-6e4455c1bd2mr68599526d6.7.1738953014902; Fri, 07 Feb 2025 10:30:14 -0800 (PST) Received: from postal.iol.unh.edu (postal.iol.unh.edu. [132.177.123.84]) by smtp-relay.gmail.com with ESMTPS id 6a1803df08f44-6e44b9eb7efsm664226d6.19.2025.02.07.10.30.14 (version=TLS1_2 cipher=ECDHE-ECDSA-AES128-GCM-SHA256 bits=128/128); Fri, 07 Feb 2025 10:30:14 -0800 (PST) X-Relaying-Domain: iol.unh.edu Date: Fri, 07 Feb 2025 10:30:14 -0800 (PST) Message-ID: <67a65136.050a0220.8381b.318aSMTPIN_ADDED_MISSING@mx.google.com> Received: from [172.21.0.5] (unknown [172.18.0.240]) by postal.iol.unh.edu (Postfix) with ESMTP id A3F0D6052471; Fri, 7 Feb 2025 13:30:14 -0500 (EST) Subject: |WARNING| pw149231-149232 [PATCH] [v1,2/2] app/test: add SM4 GCM tes From: dpdklab@iol.unh.edu To: Test Report Cc: dpdk-test-reports@iol.unh.edu In-Reply-To: <20241213125850.2714328-2-brian.dooley@intel.com> References: <20241213125850.2714328-2-brian.dooley@intel.com> Content-Type: text/plain X-BeenThere: test-report@dpdk.org X-Mailman-Version: 2.1.29 Precedence: list List-Id: automatic DPDK test reports List-Unsubscribe: , List-Archive: List-Post: List-Help: List-Subscribe: , Errors-To: test-report-bounces@dpdk.org Test-Label: iol-compile-amd64-testing Test-Status: WARNING http://dpdk.org/patch/149232 _Testing issues_ Submitter: Dooley, Brian Date: Friday, December 13 2024 12:58:49 DPDK git baseline: Repo:dpdk Branch: master CommitID:7df61db6c387703a36306c1aea92225921e2eeb2 149231-149232 --> testing issues Test environment and result as below: +---------------------+--------------------+------------------+-------------------+-------------------+-------------------------+----------------------+ | Environment | dpdk_meson_compile | dpdk_compile_ovs | dpdk_compile_spdk | dpdk_msvc_compile | dpdk_llvm_clang_compile | dpdk_mingw64_compile | +=====================+====================+==================+===================+===================+=========================+======================+ | CentOS Stream 9 | PASS | PASS | PASS | SKIPPED | SKIPPED | SKIPPED | +---------------------+--------------------+------------------+-------------------+-------------------+-------------------------+----------------------+ | Debian 12 | PASS | PASS | PASS | SKIPPED | SKIPPED | SKIPPED | +---------------------+--------------------+------------------+-------------------+-------------------+-------------------------+----------------------+ | Fedora 39 (Clang) | PASS | PASS | PASS | SKIPPED | SKIPPED | SKIPPED | +---------------------+--------------------+------------------+-------------------+-------------------+-------------------------+----------------------+ | Fedora 39 | PASS | PASS | PASS | SKIPPED | SKIPPED | SKIPPED | +---------------------+--------------------+------------------+-------------------+-------------------+-------------------------+----------------------+ | Fedora 40 (Clang) | PASS | PASS | PASS | SKIPPED | SKIPPED | SKIPPED | +---------------------+--------------------+------------------+-------------------+-------------------+-------------------------+----------------------+ | Fedora 40 | PASS | PASS | PASS | SKIPPED | SKIPPED | SKIPPED | +---------------------+--------------------+------------------+-------------------+-------------------+-------------------------+----------------------+ | openSUSE Leap 15 | PASS | WARN | SKIPPED | SKIPPED | SKIPPED | SKIPPED | +---------------------+--------------------+------------------+-------------------+-------------------+-------------------------+----------------------+ | RHEL9 | PASS | PASS | SKIPPED | SKIPPED | SKIPPED | SKIPPED | +---------------------+--------------------+------------------+-------------------+-------------------+-------------------------+----------------------+ | Ubuntu 20.04 | PASS | SKIPPED | SKIPPED | SKIPPED | SKIPPED | SKIPPED | +---------------------+--------------------+------------------+-------------------+-------------------+-------------------------+----------------------+ | Ubuntu 22.04 | PASS | PASS | PASS | SKIPPED | SKIPPED | SKIPPED | +---------------------+--------------------+------------------+-------------------+-------------------+-------------------------+----------------------+ | Ubuntu 24.04 | PASS | PASS | PASS | SKIPPED | SKIPPED | SKIPPED | +---------------------+--------------------+------------------+-------------------+-------------------+-------------------------+----------------------+ | Alpine | PASS | PASS | SKIPPED | SKIPPED | SKIPPED | SKIPPED | +---------------------+--------------------+------------------+-------------------+-------------------+-------------------------+----------------------+ | FreeBSD 14.2 | PASS | SKIPPED | SKIPPED | SKIPPED | SKIPPED | SKIPPED | +---------------------+--------------------+------------------+-------------------+-------------------+-------------------------+----------------------+ | RHEL8 | PASS | PASS | SKIPPED | SKIPPED | SKIPPED | SKIPPED | +---------------------+--------------------+------------------+-------------------+-------------------+-------------------------+----------------------+ | FreeBSD 13.4 | PASS | SKIPPED | SKIPPED | SKIPPED | SKIPPED | SKIPPED | +---------------------+--------------------+------------------+-------------------+-------------------+-------------------------+----------------------+ | Windows Server 2022 | SKIPPED | SKIPPED | SKIPPED | PASS | PASS | PASS | +---------------------+--------------------+------------------+-------------------+-------------------+-------------------------+----------------------+ ==== 20 line log output for openSUSE Leap 15 (dpdk_compile_ovs): ==== --- Failed to get log output --- ==== End log output ==== CentOS Stream 9 Kernel: Depends on container host Compiler: gcc 11.5.0 20240719 (Red Hat 11.5.0-2) Debian 12 Kernel: Depends on container host Compiler: gcc (Debian 12.2.0-14) 12.2.0 Fedora 39 (Clang) Kernel: Depends on container host Compiler: clang 17.0.6 (Fedora 17.0.6-2.fc39) Fedora 39 Kernel: Depends on container host Compiler: gcc 13.3.1 20240522 (Red Hat 13.3.1-1) Fedora 40 (Clang) Kernel: Depends on container host Compiler: clang 18.1.8 (Fedora 18.1.8-1.fc40) Fedora 40 Kernel: Depends on container host Compiler: gcc 14.2.1 20240912 (Red Hat 14.2.1-3) openSUSE Leap 15 Kernel: Depends on container host Compiler: gcc (SUSE Linux) 7.5.0 RHEL9 Kernel: Depends on container host Compiler: gcc 11.5.0 20240719 (Red Hat 11.5.0-2) Ubuntu 20.04 Kernel: Depends on container host Compiler: gcc (Ubuntu 9.4.0-1ubuntu1~20.04.2) 9.4.0 Ubuntu 22.04 Kernel: Depends on container host Compiler: gcc (Ubuntu 11.4.0-1ubuntu1~22.04) 11.4.0 Ubuntu 24.04 Kernel: Depends on container host Compiler: gcc (Ubuntu 13.3.0-6ubuntu2~24.04) 13.3.0 Alpine Kernel: Depends on container host Compiler: gcc (Alpine 14.2.0) 14.2.0 FreeBSD 14.2 Kernel: 14.2-RELEASE Compiler: clang 18.1.6 RHEL8 Kernel: Depends on container host Compiler: gcc 8.5.0 20210514 (Red Hat 8.5.0-22) FreeBSD 13.4 Kernel: 13.4-RELEASE-p1 Compiler: clang 18.1.6 Windows Server 2022 Kernel: 10.0.20348.2031 Compiler: clang 15.0.7, gcc 14.1.0 (MinGW), and MSVC VS 19.39.33521 To view detailed results, visit: https://lab.dpdk.org/results/dashboard/patchsets/32138/ UNH-IOL DPDK Community Lab To manage your email subscriptions, visit: https://lab.dpdk.org/results/dashboard/preferences/subscriptions/