From mboxrd@z Thu Jan 1 00:00:00 1970 Return-Path: Received: from mails.dpdk.org (mails.dpdk.org [217.70.189.124]) by inbox.dpdk.org (Postfix) with ESMTP id 341CF461BE for ; Fri, 7 Feb 2025 19:30:18 +0100 (CET) Received: from mails.dpdk.org (localhost [127.0.0.1]) by mails.dpdk.org (Postfix) with ESMTP id 317AC42EF2; Fri, 7 Feb 2025 19:30:18 +0100 (CET) Received: from mail-io1-f98.google.com (mail-io1-f98.google.com [209.85.166.98]) by mails.dpdk.org (Postfix) with ESMTP id 2094442E90 for ; Fri, 7 Feb 2025 19:30:17 +0100 (CET) Received: by mail-io1-f98.google.com with SMTP id ca18e2360f4ac-844e61f3902so173286439f.0 for ; Fri, 07 Feb 2025 10:30:17 -0800 (PST) DKIM-Signature: v=1; a=rsa-sha256; c=relaxed/relaxed; d=iol.unh.edu; s=unh-iol; t=1738953016; x=1739557816; darn=dpdk.org; h=references:in-reply-to:cc:to:from:subject:message-id:date:from:to :cc:subject:date:message-id:reply-to; bh=OoB1pCiqrI1oawtxosMw1GVZ/N1FzmmBG9GcRGacYZg=; b=A85UWR+IgEaoxI+JWyrZ4GlQ1tEEVdGenzPXWWcTb5SPxFY9d8jMj6lUTpkiYz6p5V St8UOx1iuam3cYzLmGuVOtOnkPKRCxIcPVQCYHGKFYRz/DyHSz6KyVSjdOU1w9Ou4VOb rw52Jkl5NXuZy0iqyn8Y49RDPjH+ACCC5vE+c= X-Google-DKIM-Signature: v=1; a=rsa-sha256; c=relaxed/relaxed; d=1e100.net; s=20230601; t=1738953016; x=1739557816; h=references:in-reply-to:cc:to:from:subject:message-id:date :x-gm-message-state:from:to:cc:subject:date:message-id:reply-to; bh=OoB1pCiqrI1oawtxosMw1GVZ/N1FzmmBG9GcRGacYZg=; b=Zl5qTeHBfKcA8Jlbp5s1P8wLOUbeoi+4wdupqTDc3uXJMMBhxthDqULRLxtzPS7A2Z L3a8zc0pR8oKWziOQAXj7Wt+NuxpgvnM/+wKWF0ROwSkYDWtVcbSMBcbedI5ECLbRJB7 1PlHAaXxdE++WD4OpA5qjw2oQQPGF+g2wGJBMU9lxmU1oIkd2XIT0SvZusJPww9+BSXO Sw7iS7MTdmdGR+piVPIarHE80QHEq00ZFcrwb4pzeBEdBZglRR6AZ9ue3++l/ca7uLbW EDq50jKhYsXIMGyLM77NfMhJr/ovWrliLxoPbPcTgUjC4SX489BaIPt9MxPXDDrobqSK o4Nw== X-Gm-Message-State: AOJu0YzkFhWzW/peFRWm1QI3dhlJ37qi1KqJr1U6D7X5VUPOnnWrQOMw m4Oeod/zd9W3SsNDPcyl5VQHS5HYtlPnUl9tTxeyz6p7BGK701tXIiqGtz6dAALLeHC7pTaCph4 GQM8HTSvIj/cEdA9K236xozoxHAplGGHo4xNd2XDn X-Gm-Gg: ASbGncu5DKUU5WwK56XCI/DWYcP/KUvs1c8zUyyQPUrM/YNup6LBcSJwIh+ULWXDq43 ZvNgJj7Fe1yKEssrVGarg5f2KdO6rx8a6LxblmGuuPxcJssJ20nNZSfJXrvipOZXjrXjBh2hwsa kpbsxQfY+m3rJeKKPoo/htj0dIET4z1/Je6s0ojNLk/Ll35D5fi2dNrofAgNmpbecXs7Wj/zHH6 +TyZo8W9k39Wa0bxBzWqeC+O49DNGSnQ5stvZZDwCDZlJirmixFAxc2czv1mLRG7b/ICLE50Z2J LUrv7ksaR8IxKi3OpYvKCRt71jPyfg== X-Google-Smtp-Source: AGHT+IH+Qmv+q1pX/VcZ1U80gPLKIglX5xePFwkxrbTCJYDxsbZitWz3GhvGbsaYAdQzDYFrlnl+PPLpe6S9 X-Received: by 2002:a05:6602:6a46:b0:843:e8d0:a728 with SMTP id ca18e2360f4ac-854fd89a7cemr491457339f.4.1738953016466; Fri, 07 Feb 2025 10:30:16 -0800 (PST) Received: from postal.iol.unh.edu (postal.iol.unh.edu. [132.177.123.84]) by smtp-relay.gmail.com with ESMTPS id ca18e2360f4ac-854f675d5c9sm23261839f.27.2025.02.07.10.30.16 (version=TLS1_2 cipher=ECDHE-ECDSA-AES128-GCM-SHA256 bits=128/128); Fri, 07 Feb 2025 10:30:16 -0800 (PST) X-Relaying-Domain: iol.unh.edu Date: Fri, 07 Feb 2025 10:30:16 -0800 (PST) Message-ID: <67a65138.050a0220.383c71.c124SMTPIN_ADDED_MISSING@mx.google.com> Received: from [172.21.0.11] (unknown [172.18.0.240]) by postal.iol.unh.edu (Postfix) with ESMTP id EF6386052471; Fri, 7 Feb 2025 13:30:15 -0500 (EST) Subject: |WARNING| pw149221-149222 [PATCH] [2/2] net/mlx5: improve log file p From: dpdklab@iol.unh.edu To: Test Report Cc: dpdk-test-reports@iol.unh.edu In-Reply-To: <20241213092444.2987-2-ming.1.yang@nokia-sbell.com> References: <20241213092444.2987-2-ming.1.yang@nokia-sbell.com> Content-Type: text/plain X-BeenThere: test-report@dpdk.org X-Mailman-Version: 2.1.29 Precedence: list List-Id: automatic DPDK test reports List-Unsubscribe: , List-Archive: List-Post: List-Help: List-Subscribe: , Errors-To: test-report-bounces@dpdk.org Test-Label: iol-compile-amd64-testing Test-Status: WARNING http://dpdk.org/patch/149222 _Testing issues_ Submitter: Yang Ming Date: Friday, December 13 2024 09:24:43 DPDK git baseline: Repo:dpdk Branch: master CommitID:1b3bf1128d9bda5595861814792f74b8f57160c8 149221-149222 --> testing issues Test environment and result as below: +---------------------+--------------------+------------------+-------------------+-------------------+-------------------------+----------------------+ | Environment | dpdk_meson_compile | dpdk_compile_ovs | dpdk_compile_spdk | dpdk_msvc_compile | dpdk_llvm_clang_compile | dpdk_mingw64_compile | +=====================+====================+==================+===================+===================+=========================+======================+ | CentOS Stream 9 | PASS | PASS | PASS | SKIPPED | SKIPPED | SKIPPED | +---------------------+--------------------+------------------+-------------------+-------------------+-------------------------+----------------------+ | Fedora 39 (Clang) | PASS | PASS | PASS | SKIPPED | SKIPPED | SKIPPED | +---------------------+--------------------+------------------+-------------------+-------------------+-------------------------+----------------------+ | Debian 12 | PASS | PASS | PASS | SKIPPED | SKIPPED | SKIPPED | +---------------------+--------------------+------------------+-------------------+-------------------+-------------------------+----------------------+ | Fedora 40 (Clang) | PASS | PASS | PASS | SKIPPED | SKIPPED | SKIPPED | +---------------------+--------------------+------------------+-------------------+-------------------+-------------------------+----------------------+ | Fedora 39 | PASS | PASS | PASS | SKIPPED | SKIPPED | SKIPPED | +---------------------+--------------------+------------------+-------------------+-------------------+-------------------------+----------------------+ | Fedora 40 | PASS | PASS | PASS | SKIPPED | SKIPPED | SKIPPED | +---------------------+--------------------+------------------+-------------------+-------------------+-------------------------+----------------------+ | openSUSE Leap 15 | PASS | WARN | SKIPPED | SKIPPED | SKIPPED | SKIPPED | +---------------------+--------------------+------------------+-------------------+-------------------+-------------------------+----------------------+ | RHEL8 | PASS | PASS | SKIPPED | SKIPPED | SKIPPED | SKIPPED | +---------------------+--------------------+------------------+-------------------+-------------------+-------------------------+----------------------+ | RHEL9 | PASS | PASS | SKIPPED | SKIPPED | SKIPPED | SKIPPED | +---------------------+--------------------+------------------+-------------------+-------------------+-------------------------+----------------------+ | Ubuntu 20.04 | PASS | SKIPPED | SKIPPED | SKIPPED | SKIPPED | SKIPPED | +---------------------+--------------------+------------------+-------------------+-------------------+-------------------------+----------------------+ | Ubuntu 22.04 | PASS | PASS | PASS | SKIPPED | SKIPPED | SKIPPED | +---------------------+--------------------+------------------+-------------------+-------------------+-------------------------+----------------------+ | Ubuntu 24.04 | PASS | PASS | PASS | SKIPPED | SKIPPED | SKIPPED | +---------------------+--------------------+------------------+-------------------+-------------------+-------------------------+----------------------+ | Alpine | PASS | PASS | SKIPPED | SKIPPED | SKIPPED | SKIPPED | +---------------------+--------------------+------------------+-------------------+-------------------+-------------------------+----------------------+ | FreeBSD 13.4 | PASS | SKIPPED | SKIPPED | SKIPPED | SKIPPED | SKIPPED | +---------------------+--------------------+------------------+-------------------+-------------------+-------------------------+----------------------+ | FreeBSD 14.2 | PASS | SKIPPED | SKIPPED | SKIPPED | SKIPPED | SKIPPED | +---------------------+--------------------+------------------+-------------------+-------------------+-------------------------+----------------------+ | Windows Server 2022 | SKIPPED | SKIPPED | SKIPPED | PASS | PASS | PASS | +---------------------+--------------------+------------------+-------------------+-------------------+-------------------------+----------------------+ ==== 20 line log output for openSUSE Leap 15 (dpdk_compile_ovs): ==== --- Failed to get log output --- ==== End log output ==== CentOS Stream 9 Kernel: Depends on container host Compiler: gcc 11.5.0 20240719 (Red Hat 11.5.0-2) Fedora 39 (Clang) Kernel: Depends on container host Compiler: clang 17.0.6 (Fedora 17.0.6-2.fc39) Debian 12 Kernel: Depends on container host Compiler: gcc (Debian 12.2.0-14) 12.2.0 Fedora 40 (Clang) Kernel: Depends on container host Compiler: clang 18.1.8 (Fedora 18.1.8-1.fc40) Fedora 39 Kernel: Depends on container host Compiler: gcc 13.3.1 20240522 (Red Hat 13.3.1-1) Fedora 40 Kernel: Depends on container host Compiler: gcc 14.2.1 20240912 (Red Hat 14.2.1-3) openSUSE Leap 15 Kernel: Depends on container host Compiler: gcc (SUSE Linux) 7.5.0 RHEL8 Kernel: Depends on container host Compiler: gcc 8.5.0 20210514 (Red Hat 8.5.0-22) RHEL9 Kernel: Depends on container host Compiler: gcc 11.5.0 20240719 (Red Hat 11.5.0-2) Ubuntu 20.04 Kernel: Depends on container host Compiler: gcc (Ubuntu 9.4.0-1ubuntu1~20.04.2) 9.4.0 Ubuntu 22.04 Kernel: Depends on container host Compiler: gcc (Ubuntu 11.4.0-1ubuntu1~22.04) 11.4.0 Ubuntu 24.04 Kernel: Depends on container host Compiler: gcc (Ubuntu 13.3.0-6ubuntu2~24.04) 13.3.0 Alpine Kernel: Depends on container host Compiler: gcc (Alpine 14.2.0) 14.2.0 FreeBSD 13.4 Kernel: 13.4-RELEASE-p1 Compiler: clang 18.1.6 FreeBSD 14.2 Kernel: 14.2-RELEASE Compiler: clang 18.1.6 Windows Server 2022 Kernel: 10.0.20348.2031 Compiler: clang 15.0.7, gcc 14.1.0 (MinGW), and MSVC VS 19.39.33521 To view detailed results, visit: https://lab.dpdk.org/results/dashboard/patchsets/32134/ UNH-IOL DPDK Community Lab To manage your email subscriptions, visit: https://lab.dpdk.org/results/dashboard/preferences/subscriptions/