From mboxrd@z Thu Jan 1 00:00:00 1970 Return-Path: Received: from mails.dpdk.org (mails.dpdk.org [217.70.189.124]) by inbox.dpdk.org (Postfix) with ESMTP id 62E79461BE for ; Fri, 7 Feb 2025 19:31:00 +0100 (CET) Received: from mails.dpdk.org (localhost [127.0.0.1]) by mails.dpdk.org (Postfix) with ESMTP id 59A5A42ED5; Fri, 7 Feb 2025 19:31:00 +0100 (CET) Received: from mail-yw1-f226.google.com (mail-yw1-f226.google.com [209.85.128.226]) by mails.dpdk.org (Postfix) with ESMTP id 38CB442E90 for ; Fri, 7 Feb 2025 19:30:59 +0100 (CET) Received: by mail-yw1-f226.google.com with SMTP id 00721157ae682-6f9625c0fccso23450957b3.1 for ; Fri, 07 Feb 2025 10:30:59 -0800 (PST) DKIM-Signature: v=1; a=rsa-sha256; c=relaxed/relaxed; d=iol.unh.edu; s=unh-iol; t=1738953058; x=1739557858; darn=dpdk.org; h=references:in-reply-to:cc:to:from:subject:message-id:date:from:to :cc:subject:date:message-id:reply-to; bh=UYQy9F7DPtWy436IRNk6mBK5K1x4kKxybmkCLxLBEOI=; b=dqpTw/BpJbZoHNStJAV7DFo0wPT7lglmcVCR3weZeiGK518lXPSHL4iuZYRWMyAowt cSs/MKiK4fhSnIJzwsUrbXKnuquBs1maM1ITv6t1Km/i45/uX27JthpuGc+qxARxXAC/ 1uG1R3l4MAmPsewnf9nNwokSTDpHlI0nO2D8g= X-Google-DKIM-Signature: v=1; a=rsa-sha256; c=relaxed/relaxed; d=1e100.net; s=20230601; t=1738953058; x=1739557858; h=references:in-reply-to:cc:to:from:subject:message-id:date :x-gm-message-state:from:to:cc:subject:date:message-id:reply-to; bh=UYQy9F7DPtWy436IRNk6mBK5K1x4kKxybmkCLxLBEOI=; b=C4Xk9QSPTC6WriVicjSLyZ9Pln27/nZAXGaD2c5wJg6riKWdXOKFX2sLdRkch1CwFh FfZk7CUtGExp17Y8x12nObRf8u18uFlsBtlIRzMDlJtSMJFm5ZLK7w4t+TRtiKE7LQvJ m2ikC3s/iQGkg6cyoQp+6xyyPNlhGKGqo9voXrDb9XhvSWsFCDCoV0jdTgv1EMfEiOUP lY4Dyv+H5gZDaFUxSvA2erLfyXuL0g6naIfzlBLcpPQi2uHiCZ2MQXm8LEfl9F17MqG4 XPvT6UnO4urXj6/UkjrN0wly7QJPl4FI+DgXU/BtXkUUkSihUgetRxPhObt7Q9p9IB4G drXg== X-Gm-Message-State: AOJu0YzaZ+t5R9cht8ziBJSAZhZHZayc6qXATAI8yspt9+VDTj1Jdmwx WAp9QcSOu48ONyYubZVibqiKfIgL7EWW9d3DDbOrx8E85AbSamN7a3CHkScb1qbi7cc9AO/rokE v6nT1m0yJG+9GZe/YbtbKi5Yd+htwlqdJDWGZsuGN X-Gm-Gg: ASbGncsxbBYLVQVm2p+HANwRhMwD4iiR3cjQoVQluBDMIwfYJStIRdel8ZJdU6pz2Ym GNU8pvwMaV7n6FLfG2YxPssQI7yE/jMb4N4BbmIMTwNFN5n70qwNIBCZcVBTWRJMmIrA1TMoC/W vE3S71tH87dI81e5qrSqEqQYMyVoaPoECSvUGwg9R0/jbcrirVWzf09sIF/0f5FiWUefSS7EGbu e/gIxlP726Td5oQTU1LmJQafoJgLU/xZHSXgPzpgh4HoIEo04zz5NZ4UJ/RkH2C+mqqjk9RM/0x +iyxrrkpmcQZDJWJ43cPZN3wST7NVQ== X-Google-Smtp-Source: AGHT+IEkEOP5J1NtPrubpa6ALkMYP4Zizh3FTcrGMioDNgz4YcVAENL8Gfir3EIlXiUKcHgftD+30jZw0p52 X-Received: by 2002:a05:690c:4c0e:b0:6f5:2793:2897 with SMTP id 00721157ae682-6f9b29e2edcmr43135747b3.30.1738953058654; Fri, 07 Feb 2025 10:30:58 -0800 (PST) Received: from postal.iol.unh.edu (postal.iol.unh.edu. [132.177.123.84]) by smtp-relay.gmail.com with ESMTPS id 00721157ae682-6f99ff94313sm466697b3.46.2025.02.07.10.30.58 (version=TLS1_2 cipher=ECDHE-ECDSA-AES128-GCM-SHA256 bits=128/128); Fri, 07 Feb 2025 10:30:58 -0800 (PST) X-Relaying-Domain: iol.unh.edu Date: Fri, 07 Feb 2025 10:30:58 -0800 (PST) Message-ID: <67a65162.050a0220.1a71ff.21ceSMTPIN_ADDED_MISSING@mx.google.com> Received: from [172.21.0.14] (unknown [172.18.0.240]) by postal.iol.unh.edu (Postfix) with ESMTP id 428526052471; Fri, 7 Feb 2025 13:30:28 -0500 (EST) Subject: |WARNING| pw149220 [PATCH] [v1] event/dlb2: add port attribute for i From: dpdklab@iol.unh.edu To: Test Report Cc: dpdk-test-reports@iol.unh.edu In-Reply-To: <20241213043300.18015-1-pravin.pathak@intel.com> References: <20241213043300.18015-1-pravin.pathak@intel.com> Content-Type: text/plain X-BeenThere: test-report@dpdk.org X-Mailman-Version: 2.1.29 Precedence: list List-Id: automatic DPDK test reports List-Unsubscribe: , List-Archive: List-Post: List-Help: List-Subscribe: , Errors-To: test-report-bounces@dpdk.org Test-Label: iol-compile-amd64-testing Test-Status: WARNING http://dpdk.org/patch/149220 _Testing issues_ Submitter: Pathak, Pravin Date: Friday, December 13 2024 04:33:00 DPDK git baseline: Repo:dpdk Branch: master CommitID:1b3bf1128d9bda5595861814792f74b8f57160c8 149220 --> testing issues Test environment and result as below: +---------------------+--------------------+------------------+-------------------+-------------------+-------------------------+ | Environment | dpdk_meson_compile | dpdk_compile_ovs | dpdk_compile_spdk | dpdk_msvc_compile | dpdk_llvm_clang_compile | +=====================+====================+==================+===================+===================+=========================+ | CentOS Stream 9 | PASS | PASS | PASS | SKIPPED | SKIPPED | +---------------------+--------------------+------------------+-------------------+-------------------+-------------------------+ | Debian 12 | PASS | PASS | PASS | SKIPPED | SKIPPED | +---------------------+--------------------+------------------+-------------------+-------------------+-------------------------+ | Fedora 39 (Clang) | PASS | PASS | PASS | SKIPPED | SKIPPED | +---------------------+--------------------+------------------+-------------------+-------------------+-------------------------+ | Fedora 40 (Clang) | PASS | PASS | PASS | SKIPPED | SKIPPED | +---------------------+--------------------+------------------+-------------------+-------------------+-------------------------+ | Fedora 40 | PASS | PASS | PASS | SKIPPED | SKIPPED | +---------------------+--------------------+------------------+-------------------+-------------------+-------------------------+ | openSUSE Leap 15 | PASS | WARN | SKIPPED | SKIPPED | SKIPPED | +---------------------+--------------------+------------------+-------------------+-------------------+-------------------------+ | RHEL8 | PASS | PASS | SKIPPED | SKIPPED | SKIPPED | +---------------------+--------------------+------------------+-------------------+-------------------+-------------------------+ | RHEL9 | PASS | PASS | SKIPPED | SKIPPED | SKIPPED | +---------------------+--------------------+------------------+-------------------+-------------------+-------------------------+ | Ubuntu 20.04 | PASS | SKIPPED | SKIPPED | SKIPPED | SKIPPED | +---------------------+--------------------+------------------+-------------------+-------------------+-------------------------+ | Ubuntu 22.04 | PASS | PASS | PASS | SKIPPED | SKIPPED | +---------------------+--------------------+------------------+-------------------+-------------------+-------------------------+ | Ubuntu 24.04 | PASS | PASS | PASS | SKIPPED | SKIPPED | +---------------------+--------------------+------------------+-------------------+-------------------+-------------------------+ | Alpine | PASS | PASS | SKIPPED | SKIPPED | SKIPPED | +---------------------+--------------------+------------------+-------------------+-------------------+-------------------------+ | FreeBSD 13.4 | PASS | SKIPPED | SKIPPED | SKIPPED | SKIPPED | +---------------------+--------------------+------------------+-------------------+-------------------+-------------------------+ | FreeBSD 14.2 | PASS | SKIPPED | SKIPPED | SKIPPED | SKIPPED | +---------------------+--------------------+------------------+-------------------+-------------------+-------------------------+ | Windows Server 2022 | SKIPPED | SKIPPED | SKIPPED | PASS | PASS | +---------------------+--------------------+------------------+-------------------+-------------------+-------------------------+ ==== 20 line log output for openSUSE Leap 15 (dpdk_compile_ovs): ==== --- Failed to get log output --- ==== End log output ==== CentOS Stream 9 Kernel: Depends on container host Compiler: gcc 11.5.0 20240719 (Red Hat 11.5.0-2) Debian 12 Kernel: Depends on container host Compiler: gcc (Debian 12.2.0-14) 12.2.0 Fedora 39 (Clang) Kernel: Depends on container host Compiler: clang 17.0.6 (Fedora 17.0.6-2.fc39) Fedora 40 (Clang) Kernel: Depends on container host Compiler: clang 18.1.8 (Fedora 18.1.8-1.fc40) Fedora 40 Kernel: Depends on container host Compiler: gcc 14.2.1 20240912 (Red Hat 14.2.1-3) openSUSE Leap 15 Kernel: Depends on container host Compiler: gcc (SUSE Linux) 7.5.0 RHEL8 Kernel: Depends on container host Compiler: gcc 8.5.0 20210514 (Red Hat 8.5.0-22) RHEL9 Kernel: Depends on container host Compiler: gcc 11.5.0 20240719 (Red Hat 11.5.0-2) Ubuntu 20.04 Kernel: Depends on container host Compiler: gcc (Ubuntu 9.4.0-1ubuntu1~20.04.2) 9.4.0 Ubuntu 22.04 Kernel: Depends on container host Compiler: gcc (Ubuntu 11.4.0-1ubuntu1~22.04) 11.4.0 Ubuntu 24.04 Kernel: Depends on container host Compiler: gcc (Ubuntu 13.3.0-6ubuntu2~24.04) 13.3.0 Alpine Kernel: Depends on container host Compiler: gcc (Alpine 14.2.0) 14.2.0 FreeBSD 13.4 Kernel: 13.4-RELEASE-p1 Compiler: clang 18.1.6 FreeBSD 14.2 Kernel: 14.2-RELEASE Compiler: clang 18.1.6 Windows Server 2022 Kernel: 10.0.20348.2031 Compiler: clang 15.0.7, gcc 14.1.0 (MinGW), and MSVC VS 19.39.33521 To view detailed results, visit: https://lab.dpdk.org/results/dashboard/patchsets/32133/ UNH-IOL DPDK Community Lab To manage your email subscriptions, visit: https://lab.dpdk.org/results/dashboard/preferences/subscriptions/