From mboxrd@z Thu Jan 1 00:00:00 1970 Return-Path: Received: from mails.dpdk.org (mails.dpdk.org [217.70.189.124]) by inbox.dpdk.org (Postfix) with ESMTP id 676D0461BE for ; Fri, 7 Feb 2025 19:31:00 +0100 (CET) Received: from mails.dpdk.org (localhost [127.0.0.1]) by mails.dpdk.org (Postfix) with ESMTP id 65AB442EEF; Fri, 7 Feb 2025 19:31:00 +0100 (CET) Received: from mail-oi1-f228.google.com (mail-oi1-f228.google.com [209.85.167.228]) by mails.dpdk.org (Postfix) with ESMTP id B955142E90 for ; Fri, 7 Feb 2025 19:30:59 +0100 (CET) Received: by mail-oi1-f228.google.com with SMTP id 5614622812f47-3eb7e725aa0so1016200b6e.0 for ; Fri, 07 Feb 2025 10:30:59 -0800 (PST) DKIM-Signature: v=1; a=rsa-sha256; c=relaxed/relaxed; d=iol.unh.edu; s=unh-iol; t=1738953059; x=1739557859; darn=dpdk.org; h=references:in-reply-to:cc:to:from:subject:message-id:date:from:to :cc:subject:date:message-id:reply-to; bh=71a76Ci0qUQFTMgqx+cKJIs5P8qmLjEyAuGf52I4sNY=; b=UbV1A++FglpILEgmVys0O5i6a+knGhB3nFi9wuIgF+SKTGOwg+I4GRcAPY98q5cMVB XzIibswxFSkJzSMR42Rwj8E6pTDg5W9jXKim8dAIhn7/Gj9Lqk4g+u6iSAVO73+4N6yB OvjbiKAxr1xBgD4Z5DFVqcipnl7QSLLXT92bQ= X-Google-DKIM-Signature: v=1; a=rsa-sha256; c=relaxed/relaxed; d=1e100.net; s=20230601; t=1738953059; x=1739557859; h=references:in-reply-to:cc:to:from:subject:message-id:date :x-gm-message-state:from:to:cc:subject:date:message-id:reply-to; bh=71a76Ci0qUQFTMgqx+cKJIs5P8qmLjEyAuGf52I4sNY=; b=TEO/wtPKzFsGuxConIoWaKJJC6fOkLvLbsB1UAmCvCeabBELASBZpSpBdWSKnB0CkF YX16czYZ5UgPT8mPCvloyMWiFwOVOV7CBfcuQHsu6wfMc/J/4G1ONnD4G0HzZBBL9smz 1YEZ7Ys1OLK/psQvvHN79P7IheW/8Vj0mCzt8J9qlP8C6jLKDNRZzpYYXms78Twae03j 0BQF1fzPLfdQ7QxDpttn1SK+NSEuDUVUR3kL4pQyWoK0Kvb4Oo/CbjThA92lf+MPpx7B 5PSyPliEzF7ETDWocJJR1lYHTaw7UbbqY6OW90/c1cCn3nTveXIsVMd398Ob3xqiJLCc Hh2w== X-Gm-Message-State: AOJu0Yw7Me/+/v/3WVb+IrO27awBKtAPdSjDewGudCMUOiG30S3IKXoH lRxMKbv9IilD2ESLBoavRnjKiC3boZ8/y2qSKcNj8FB/GZdOw2v4nX7pDgTOpltZHahNzPEevmP wVBt7x3Ql1kOFgbAlZVHgtdWd7WbnCBYkfH+wSN5s X-Gm-Gg: ASbGncutEM4n8E0eKClC1y92f2+4IidUQLu2RCdbr3AxjRQw0usnswZKXpn+rkUxGJG hnzCfogpqthTgBit2PwOIMaIqTuKP0Yo4sKO2bZ2hqeAlJitxbBRsTgEI0ULtgdg5zoKofQGdOX vksvoGnx5hd/ug2T1Lke2zBrnJL3y7ZKkZl0IBXSPmDVkZVkVwBk9YWxyTstwusz1G7IDlbEv8i hw7D01DWEo8o70yAms76E9h8sa+TUe+dBN1Kp8qd670FGt3uRntiXNKkm9t2AArEzjT9INbqxWl 4KyfJDLvRQ3f78kjXVTJtkWCr8B39A== X-Google-Smtp-Source: AGHT+IHZp5o/PWAY19H4y1ncIUqT4fmWPoI1pxNZmHRoYsHYVuMgS5qW8pIt2GpjF1aDPK2X1y39QB2Wy+qd X-Received: by 2002:a05:6808:80ab:b0:3e5:f4f9:3280 with SMTP id 5614622812f47-3f392220c4dmr3437677b6e.10.1738953058975; Fri, 07 Feb 2025 10:30:58 -0800 (PST) Received: from postal.iol.unh.edu (postal.iol.unh.edu. [132.177.123.84]) by smtp-relay.gmail.com with ESMTPS id 006d021491bc7-5fc5458b527sm103230eaf.19.2025.02.07.10.30.58 (version=TLS1_2 cipher=ECDHE-ECDSA-AES128-GCM-SHA256 bits=128/128); Fri, 07 Feb 2025 10:30:58 -0800 (PST) X-Relaying-Domain: iol.unh.edu Date: Fri, 07 Feb 2025 10:30:58 -0800 (PST) Message-ID: <67a65162.050a0220.35ee54.4f81SMTPIN_ADDED_MISSING@mx.google.com> Received: from [172.21.0.16] (unknown [172.18.0.240]) by postal.iol.unh.edu (Postfix) with ESMTP id 6AD466052472; Fri, 7 Feb 2025 13:30:28 -0500 (EST) Subject: |WARNING| pw149219 [PATCH] app/test: fix stack overflow in lpm6_perf From: dpdklab@iol.unh.edu To: Test Report Cc: dpdk-test-reports@iol.unh.edu In-Reply-To: <1734057571-20367-1-git-send-email-andremue@linux.microsoft.com> References: <1734057571-20367-1-git-send-email-andremue@linux.microsoft.com> Content-Type: text/plain X-BeenThere: test-report@dpdk.org X-Mailman-Version: 2.1.29 Precedence: list List-Id: automatic DPDK test reports List-Unsubscribe: , List-Archive: List-Post: List-Help: List-Subscribe: , Errors-To: test-report-bounces@dpdk.org Test-Label: iol-compile-amd64-testing Test-Status: WARNING http://dpdk.org/patch/149219 _Testing issues_ Submitter: Andre Muezerie Date: Friday, December 13 2024 02:39:31 DPDK git baseline: Repo:dpdk Branch: master CommitID:7df61db6c387703a36306c1aea92225921e2eeb2 149219 --> testing issues Test environment and result as below: +---------------------+--------------------+------------------+-------------------+-------------------+-------------------------+----------------------+ | Environment | dpdk_meson_compile | dpdk_compile_ovs | dpdk_compile_spdk | dpdk_msvc_compile | dpdk_llvm_clang_compile | dpdk_mingw64_compile | +=====================+====================+==================+===================+===================+=========================+======================+ | CentOS Stream 9 | PASS | PASS | PASS | SKIPPED | SKIPPED | SKIPPED | +---------------------+--------------------+------------------+-------------------+-------------------+-------------------------+----------------------+ | Fedora 39 | PASS | PASS | PASS | SKIPPED | SKIPPED | SKIPPED | +---------------------+--------------------+------------------+-------------------+-------------------+-------------------------+----------------------+ | Fedora 39 (Clang) | PASS | PASS | PASS | SKIPPED | SKIPPED | SKIPPED | +---------------------+--------------------+------------------+-------------------+-------------------+-------------------------+----------------------+ | Debian 12 | PASS | PASS | PASS | SKIPPED | SKIPPED | SKIPPED | +---------------------+--------------------+------------------+-------------------+-------------------+-------------------------+----------------------+ | Fedora 40 (Clang) | PASS | PASS | PASS | SKIPPED | SKIPPED | SKIPPED | +---------------------+--------------------+------------------+-------------------+-------------------+-------------------------+----------------------+ | Fedora 40 | PASS | PASS | PASS | SKIPPED | SKIPPED | SKIPPED | +---------------------+--------------------+------------------+-------------------+-------------------+-------------------------+----------------------+ | openSUSE Leap 15 | PASS | WARN | SKIPPED | SKIPPED | SKIPPED | SKIPPED | +---------------------+--------------------+------------------+-------------------+-------------------+-------------------------+----------------------+ | RHEL8 | PASS | PASS | SKIPPED | SKIPPED | SKIPPED | SKIPPED | +---------------------+--------------------+------------------+-------------------+-------------------+-------------------------+----------------------+ | RHEL9 | PASS | PASS | SKIPPED | SKIPPED | SKIPPED | SKIPPED | +---------------------+--------------------+------------------+-------------------+-------------------+-------------------------+----------------------+ | Ubuntu 20.04 | PASS | SKIPPED | SKIPPED | SKIPPED | SKIPPED | SKIPPED | +---------------------+--------------------+------------------+-------------------+-------------------+-------------------------+----------------------+ | Ubuntu 22.04 | PASS | PASS | PASS | SKIPPED | SKIPPED | SKIPPED | +---------------------+--------------------+------------------+-------------------+-------------------+-------------------------+----------------------+ | Ubuntu 24.04 | PASS | PASS | PASS | SKIPPED | SKIPPED | SKIPPED | +---------------------+--------------------+------------------+-------------------+-------------------+-------------------------+----------------------+ | Alpine | PASS | PASS | SKIPPED | SKIPPED | SKIPPED | SKIPPED | +---------------------+--------------------+------------------+-------------------+-------------------+-------------------------+----------------------+ | FreeBSD 13.4 | PASS | SKIPPED | SKIPPED | SKIPPED | SKIPPED | SKIPPED | +---------------------+--------------------+------------------+-------------------+-------------------+-------------------------+----------------------+ | FreeBSD 14.2 | PASS | SKIPPED | SKIPPED | SKIPPED | SKIPPED | SKIPPED | +---------------------+--------------------+------------------+-------------------+-------------------+-------------------------+----------------------+ | Windows Server 2022 | SKIPPED | SKIPPED | SKIPPED | PASS | PASS | PASS | +---------------------+--------------------+------------------+-------------------+-------------------+-------------------------+----------------------+ ==== 20 line log output for openSUSE Leap 15 (dpdk_compile_ovs): ==== --- Failed to get log output --- ==== End log output ==== CentOS Stream 9 Kernel: Depends on container host Compiler: gcc 11.5.0 20240719 (Red Hat 11.5.0-2) Fedora 39 Kernel: Depends on container host Compiler: gcc 13.3.1 20240522 (Red Hat 13.3.1-1) Fedora 39 (Clang) Kernel: Depends on container host Compiler: clang 17.0.6 (Fedora 17.0.6-2.fc39) Debian 12 Kernel: Depends on container host Compiler: gcc (Debian 12.2.0-14) 12.2.0 Fedora 40 (Clang) Kernel: Depends on container host Compiler: clang 18.1.8 (Fedora 18.1.8-1.fc40) Fedora 40 Kernel: Depends on container host Compiler: gcc 14.2.1 20240912 (Red Hat 14.2.1-3) openSUSE Leap 15 Kernel: Depends on container host Compiler: gcc (SUSE Linux) 7.5.0 RHEL8 Kernel: Depends on container host Compiler: gcc 8.5.0 20210514 (Red Hat 8.5.0-22) RHEL9 Kernel: Depends on container host Compiler: gcc 11.5.0 20240719 (Red Hat 11.5.0-2) Ubuntu 20.04 Kernel: Depends on container host Compiler: gcc (Ubuntu 9.4.0-1ubuntu1~20.04.2) 9.4.0 Ubuntu 22.04 Kernel: Depends on container host Compiler: gcc (Ubuntu 11.4.0-1ubuntu1~22.04) 11.4.0 Ubuntu 24.04 Kernel: Depends on container host Compiler: gcc (Ubuntu 13.3.0-6ubuntu2~24.04) 13.3.0 Alpine Kernel: Depends on container host Compiler: gcc (Alpine 14.2.0) 14.2.0 FreeBSD 13.4 Kernel: 13.4-RELEASE-p1 Compiler: clang 18.1.6 FreeBSD 14.2 Kernel: 14.2-RELEASE Compiler: clang 18.1.6 Windows Server 2022 Kernel: 10.0.20348.2031 Compiler: clang 15.0.7, gcc 14.1.0 (MinGW), and MSVC VS 19.39.33521 To view detailed results, visit: https://lab.dpdk.org/results/dashboard/patchsets/32132/ UNH-IOL DPDK Community Lab To manage your email subscriptions, visit: https://lab.dpdk.org/results/dashboard/preferences/subscriptions/