From mboxrd@z Thu Jan 1 00:00:00 1970 Return-Path: Received: from mails.dpdk.org (mails.dpdk.org [217.70.189.124]) by inbox.dpdk.org (Postfix) with ESMTP id 8DB91461BE for ; Fri, 7 Feb 2025 19:31:03 +0100 (CET) Received: from mails.dpdk.org (localhost [127.0.0.1]) by mails.dpdk.org (Postfix) with ESMTP id 88FD042ED5; Fri, 7 Feb 2025 19:31:03 +0100 (CET) Received: from mail-io1-f100.google.com (mail-io1-f100.google.com [209.85.166.100]) by mails.dpdk.org (Postfix) with ESMTP id B77E142E90 for ; Fri, 7 Feb 2025 19:31:02 +0100 (CET) Received: by mail-io1-f100.google.com with SMTP id ca18e2360f4ac-854a682d2b6so164208939f.0 for ; Fri, 07 Feb 2025 10:31:02 -0800 (PST) DKIM-Signature: v=1; a=rsa-sha256; c=relaxed/relaxed; d=iol.unh.edu; s=unh-iol; t=1738953062; x=1739557862; darn=dpdk.org; h=references:in-reply-to:cc:to:from:subject:message-id:date:from:to :cc:subject:date:message-id:reply-to; bh=PjYYmTpOLfCfesp87SIAMuqRPPw+8Rkvopp/Nsq3w6I=; b=XWj8JWufLFmP1K6sSGK4BpkUSTJMWeeaqE6alIeQxw1AIBoOAKD3tkrKIwyqXOrCxA nTM0H84RacTU+GSPxbdAE9vkSRoc2pfofP7UI+DXuooyvECit5Yj7cBCGacVHdzhyxb0 dqh5KLqllmke49zIG65IADt1Q5cPd9hL+hKUk= X-Google-DKIM-Signature: v=1; a=rsa-sha256; c=relaxed/relaxed; d=1e100.net; s=20230601; t=1738953062; x=1739557862; h=references:in-reply-to:cc:to:from:subject:message-id:date :x-gm-message-state:from:to:cc:subject:date:message-id:reply-to; bh=PjYYmTpOLfCfesp87SIAMuqRPPw+8Rkvopp/Nsq3w6I=; b=PKN2yB7Vw9wl8RRztHCSxwuvjMYoXhxw5MxjBZy+99jrje9uIr1isNaaGhIHBD1mfv qcYLTYMTomCfBsHRXxcdbot31z7X8LfNxcuZfjIDCguDQMGH16yO+BdJ2GdX2wg3dQCo gqDt0JEcxcOWmmQdfVnLF2mD+AVK1C1LsREVk47+/yrMF0w245L3M9ZlCbEnzNThUvGp loTy9RsFD6CQT7EqazvkJp6uVb+1I7vqOb2CIj1F3OCceCTuMPnH0Yl8qlSCtjiN6tVt yWXkLRQW2NQ1lC7YjxMZyX/seJ3TUpG6KjvRP8Y1AhlMUWrljBjdKEaZhsHVRkyT4lFn dVSA== X-Gm-Message-State: AOJu0Yxb/9yolDNcQRdTdrSQM6mkGaZqPV823aoKiIZCNeKK7/pqc+Kh z8vK39GFOim8fBjdrjqoQ+drFyF5Uo3E62jm5sWNanxySatPIpHow8FhVrQ/+IUsYwlUCdkJvuy YRsm/0ercMocZuP9ZLCbArzJUZz+QT925agmz43HH X-Gm-Gg: ASbGnctobtl+/GREYWvV3q76L572/u6BPvOfMpaSO8rv1V+csKUeEhmiMxwzJdb2Eq4 NbEfY9+Z5dXKwyoNzDPbq+penkOS53puvd+8ui9tNPPT2P2tEdxI4yIEvncBRSPip0sbSphSLy4 05CWciTKLLaxBQUE4czptOJ/XhMn0MRoZTytZrMQ8OuhF9GqKqxR/ILwYlg+zXSw+1GPzsnGpYY h59qXzrgllzkWCbPCp5noX0/M4IFwI3k/FVx9uMIWeBgfcLSSmOSw7G25oq/u6tlrFbYufNuCom MXjcXI11S8XrppFvzG47Iz2FnCpHYw== X-Google-Smtp-Source: AGHT+IEyukusXhUbS8tzy6KIHPKvpFnJSByBcirzi0YLmbCrjq2tOcYx1uAMl4Gjrdy5o+2YLtLEYIpwswTx X-Received: by 2002:a05:6e02:2166:b0:3d0:10a6:99aa with SMTP id e9e14a558f8ab-3d13de79066mr35065715ab.4.1738953062137; Fri, 07 Feb 2025 10:31:02 -0800 (PST) Received: from postal.iol.unh.edu (postal.iol.unh.edu. [132.177.123.84]) by smtp-relay.gmail.com with ESMTPS id e9e14a558f8ab-3d05e8d8e79sm2661995ab.6.2025.02.07.10.31.02 (version=TLS1_2 cipher=ECDHE-ECDSA-AES128-GCM-SHA256 bits=128/128); Fri, 07 Feb 2025 10:31:02 -0800 (PST) X-Relaying-Domain: iol.unh.edu Date: Fri, 07 Feb 2025 10:31:02 -0800 (PST) Message-ID: <67a65166.050a0220.332792.e33cSMTPIN_ADDED_MISSING@mx.google.com> Received: from [172.21.0.15] (unknown [172.18.0.240]) by postal.iol.unh.edu (Postfix) with ESMTP id 98EB76052477; Fri, 7 Feb 2025 13:30:31 -0500 (EST) Subject: |WARNING| pw149218 [PATCH] [v5] graph: mcore: optimize graph search From: dpdklab@iol.unh.edu To: Test Report Cc: dpdk-test-reports@iol.unh.edu In-Reply-To: <20241213022158.2644-1-chcchc88@163.com> References: <20241213022158.2644-1-chcchc88@163.com> Content-Type: text/plain X-BeenThere: test-report@dpdk.org X-Mailman-Version: 2.1.29 Precedence: list List-Id: automatic DPDK test reports List-Unsubscribe: , List-Archive: List-Post: List-Help: List-Subscribe: , Errors-To: test-report-bounces@dpdk.org Test-Label: iol-compile-amd64-testing Test-Status: WARNING http://dpdk.org/patch/149218 _Testing issues_ Submitter: Huichao Cai Date: Friday, December 13 2024 02:21:58 DPDK git baseline: Repo:dpdk Branch: master CommitID:7df61db6c387703a36306c1aea92225921e2eeb2 149218 --> testing issues Test environment and result as below: +---------------------+--------------------+------------------+-------------------+-------------------+-------------------------+----------------------+ | Environment | dpdk_meson_compile | dpdk_compile_ovs | dpdk_compile_spdk | dpdk_msvc_compile | dpdk_llvm_clang_compile | dpdk_mingw64_compile | +=====================+====================+==================+===================+===================+=========================+======================+ | CentOS Stream 9 | PASS | PASS | PASS | SKIPPED | SKIPPED | SKIPPED | +---------------------+--------------------+------------------+-------------------+-------------------+-------------------------+----------------------+ | Debian 12 | PASS | PASS | PASS | SKIPPED | SKIPPED | SKIPPED | +---------------------+--------------------+------------------+-------------------+-------------------+-------------------------+----------------------+ | Fedora 39 (Clang) | PASS | PASS | PASS | SKIPPED | SKIPPED | SKIPPED | +---------------------+--------------------+------------------+-------------------+-------------------+-------------------------+----------------------+ | Fedora 39 | PASS | PASS | PASS | SKIPPED | SKIPPED | SKIPPED | +---------------------+--------------------+------------------+-------------------+-------------------+-------------------------+----------------------+ | Fedora 40 (Clang) | PASS | PASS | PASS | SKIPPED | SKIPPED | SKIPPED | +---------------------+--------------------+------------------+-------------------+-------------------+-------------------------+----------------------+ | openSUSE Leap 15 | PASS | WARN | SKIPPED | SKIPPED | SKIPPED | SKIPPED | +---------------------+--------------------+------------------+-------------------+-------------------+-------------------------+----------------------+ | RHEL9 | PASS | PASS | SKIPPED | SKIPPED | SKIPPED | SKIPPED | +---------------------+--------------------+------------------+-------------------+-------------------+-------------------------+----------------------+ | Fedora 40 | PASS | PASS | PASS | SKIPPED | SKIPPED | SKIPPED | +---------------------+--------------------+------------------+-------------------+-------------------+-------------------------+----------------------+ | Ubuntu 20.04 | PASS | SKIPPED | SKIPPED | SKIPPED | SKIPPED | SKIPPED | +---------------------+--------------------+------------------+-------------------+-------------------+-------------------------+----------------------+ | RHEL8 | PASS | PASS | SKIPPED | SKIPPED | SKIPPED | SKIPPED | +---------------------+--------------------+------------------+-------------------+-------------------+-------------------------+----------------------+ | Ubuntu 24.04 | PASS | PASS | PASS | SKIPPED | SKIPPED | SKIPPED | +---------------------+--------------------+------------------+-------------------+-------------------+-------------------------+----------------------+ | Ubuntu 22.04 | PASS | PASS | PASS | SKIPPED | SKIPPED | SKIPPED | +---------------------+--------------------+------------------+-------------------+-------------------+-------------------------+----------------------+ | Alpine | PASS | PASS | SKIPPED | SKIPPED | SKIPPED | SKIPPED | +---------------------+--------------------+------------------+-------------------+-------------------+-------------------------+----------------------+ | FreeBSD 13.4 | PASS | SKIPPED | SKIPPED | SKIPPED | SKIPPED | SKIPPED | +---------------------+--------------------+------------------+-------------------+-------------------+-------------------------+----------------------+ | FreeBSD 14.2 | PASS | SKIPPED | SKIPPED | SKIPPED | SKIPPED | SKIPPED | +---------------------+--------------------+------------------+-------------------+-------------------+-------------------------+----------------------+ | Windows Server 2022 | SKIPPED | SKIPPED | SKIPPED | PASS | PASS | PASS | +---------------------+--------------------+------------------+-------------------+-------------------+-------------------------+----------------------+ ==== 20 line log output for openSUSE Leap 15 (dpdk_compile_ovs): ==== --- Failed to get log output --- ==== End log output ==== CentOS Stream 9 Kernel: Depends on container host Compiler: gcc 11.5.0 20240719 (Red Hat 11.5.0-2) Debian 12 Kernel: Depends on container host Compiler: gcc (Debian 12.2.0-14) 12.2.0 Fedora 39 (Clang) Kernel: Depends on container host Compiler: clang 17.0.6 (Fedora 17.0.6-2.fc39) Fedora 39 Kernel: Depends on container host Compiler: gcc 13.3.1 20240522 (Red Hat 13.3.1-1) Fedora 40 (Clang) Kernel: Depends on container host Compiler: clang 18.1.8 (Fedora 18.1.8-1.fc40) openSUSE Leap 15 Kernel: Depends on container host Compiler: gcc (SUSE Linux) 7.5.0 RHEL9 Kernel: Depends on container host Compiler: gcc 11.5.0 20240719 (Red Hat 11.5.0-2) Fedora 40 Kernel: Depends on container host Compiler: gcc 14.2.1 20240912 (Red Hat 14.2.1-3) Ubuntu 20.04 Kernel: Depends on container host Compiler: gcc (Ubuntu 9.4.0-1ubuntu1~20.04.2) 9.4.0 RHEL8 Kernel: Depends on container host Compiler: gcc 8.5.0 20210514 (Red Hat 8.5.0-22) Ubuntu 24.04 Kernel: Depends on container host Compiler: gcc (Ubuntu 13.3.0-6ubuntu2~24.04) 13.3.0 Ubuntu 22.04 Kernel: Depends on container host Compiler: gcc (Ubuntu 11.4.0-1ubuntu1~22.04) 11.4.0 Alpine Kernel: Depends on container host Compiler: gcc (Alpine 14.2.0) 14.2.0 FreeBSD 13.4 Kernel: 13.4-RELEASE-p1 Compiler: clang 18.1.6 FreeBSD 14.2 Kernel: 14.2-RELEASE Compiler: clang 18.1.6 Windows Server 2022 Kernel: 10.0.20348.2031 Compiler: clang 15.0.7, gcc 14.1.0 (MinGW), and MSVC VS 19.39.33521 To view detailed results, visit: https://lab.dpdk.org/results/dashboard/patchsets/32131/ UNH-IOL DPDK Community Lab To manage your email subscriptions, visit: https://lab.dpdk.org/results/dashboard/preferences/subscriptions/