From mboxrd@z Thu Jan 1 00:00:00 1970 Return-Path: Received: from mails.dpdk.org (mails.dpdk.org [217.70.189.124]) by inbox.dpdk.org (Postfix) with ESMTP id B64E8461BE for ; Fri, 7 Feb 2025 19:31:18 +0100 (CET) Received: from mails.dpdk.org (localhost [127.0.0.1]) by mails.dpdk.org (Postfix) with ESMTP id B336A42ED5; Fri, 7 Feb 2025 19:31:18 +0100 (CET) Received: from mail-qv1-f97.google.com (mail-qv1-f97.google.com [209.85.219.97]) by mails.dpdk.org (Postfix) with ESMTP id C0EC342EEE for ; Fri, 7 Feb 2025 19:31:15 +0100 (CET) Received: by mail-qv1-f97.google.com with SMTP id 6a1803df08f44-6e42ff4f64cso28660306d6.1 for ; Fri, 07 Feb 2025 10:31:15 -0800 (PST) DKIM-Signature: v=1; a=rsa-sha256; c=relaxed/relaxed; d=iol.unh.edu; s=unh-iol; t=1738953075; x=1739557875; darn=dpdk.org; h=references:in-reply-to:cc:to:from:subject:message-id:date:from:to :cc:subject:date:message-id:reply-to; bh=mIUUmLL8mIgJPzNFGX2R7KNy4Ob8YwMNMooLQ/RMKxw=; b=hElmSqVue5GnbvXjmCfRGUwE4s3fAbZ8IaDpLuDgKtOAulxLuSvGAhmSnmCL7Ffrj8 J+PLnAfGn31lW8PdFF49BmVj7p5QB2u442D7U6zi6I2bhRq+9VDkn/Ce/+lAgIqip5no 0u8xb2O6FAaqD0ZFVEAB7h9noqRmOo25QCKEQ= X-Google-DKIM-Signature: v=1; a=rsa-sha256; c=relaxed/relaxed; d=1e100.net; s=20230601; t=1738953075; x=1739557875; h=references:in-reply-to:cc:to:from:subject:message-id:date :x-gm-message-state:from:to:cc:subject:date:message-id:reply-to; bh=mIUUmLL8mIgJPzNFGX2R7KNy4Ob8YwMNMooLQ/RMKxw=; b=FcCloEAWzWe2EvMbna7ZWYB1MWUVQkNw0aD1SfxsuyAs0WhzErMdgLYKNm8VVgkLek vOfKjYQjiRIgacCGvZZJH2GMF5+l64DwzsiWEAFLAZEQxxelT+B+CzzunQAoJwBZFFt7 xcgUgh2Aj7MwfETatOjvhYdHk8x6d9juGPzgseT3yjRcR4KcWK1cwFcK76FWY4k4G1wm u/06rxdDKOmsVyhoqoLQcNmU0ZpIJINHpDZAoAefTAM/3WuSTv9rTh/KPq+rJOrU3z4F Vb1oAYs7CBe4SPlaqKTWyRE4GV+K/RjHIdIBZ0gZz0ZP4NWy9aCW+x71MAuOKHAz0Fxj WnVw== X-Gm-Message-State: AOJu0YxehjTufrsL45PAGdDZhYRtxYoTenrLMt+kKf1XElbl+0sH8zhX n9DABNa0Qsri+59CAzu2/0MRg8bSOoIYYbQ6vCBd4P/fgw72N368QL6NMzETVubQ5Fxus49IwIU KE9o5/1ZJlKPFBSIu40/y1gDVg9lJt8I8urlt5XPs X-Gm-Gg: ASbGncvCidCGZYOHJghTkCyXzNwG5ur13BQErSFszfQ9XxSpdWSVWXgfckwJu4Kagln DWB03hfg8gVMfHnaxfNZNqVLTTfwyAgRCGNg+sj9UeR/oxDU/JIYsCbQeyEnhGKm9ZUSejqdHb8 xZXcmXt1mB3NiiBoZRFf4NnD5TA3x5FDx/xRIJyg3fCbyuBZ0pz8SVoAoWNiPMUhPIMWPvlWzTg w+uJFFK2BVvea6PfWfHR5h3Py1IpOytqClGhuPROfE8qKxYPYhXzI6BdrKvgVIsRoT4dWEoDMpm CNjS7N9GB5vSkLnSfzw1c0XWJnmYmg== X-Google-Smtp-Source: AGHT+IHl6wiDxsjhJMVLtxJftEOat8yuXyumeKv03iH+I97fgvjxmMbdCdcvugx4wWUV9VYX+dmLVUfvgCal X-Received: by 2002:a05:6214:21c9:b0:6e4:2479:d59b with SMTP id 6a1803df08f44-6e445a1f182mr74876136d6.16.1738953075152; Fri, 07 Feb 2025 10:31:15 -0800 (PST) Received: from postal.iol.unh.edu (postal.iol.unh.edu. [132.177.123.84]) by smtp-relay.gmail.com with ESMTPS id 6a1803df08f44-6e443905db8sm1489826d6.49.2025.02.07.10.31.15 (version=TLS1_2 cipher=ECDHE-ECDSA-AES128-GCM-SHA256 bits=128/128); Fri, 07 Feb 2025 10:31:15 -0800 (PST) X-Relaying-Domain: iol.unh.edu Date: Fri, 07 Feb 2025 10:31:15 -0800 (PST) Message-ID: <67a65173.050a0220.3c468d.771fSMTPIN_ADDED_MISSING@mx.google.com> Received: from [172.21.0.7] (unknown [172.18.0.240]) by postal.iol.unh.edu (Postfix) with ESMTP id D7FB66052472; Fri, 7 Feb 2025 13:31:14 -0500 (EST) Subject: |SUCCESS| pw149154-149161 [PATCH] [v2,8/8] net/ioring: implement sta From: dpdklab@iol.unh.edu To: Test Report Cc: dpdk-test-reports@iol.unh.edu In-Reply-To: <20241211162904.121695-9-stephen@networkplumber.org> References: <20241211162904.121695-9-stephen@networkplumber.org> Content-Type: text/plain X-BeenThere: test-report@dpdk.org X-Mailman-Version: 2.1.29 Precedence: list List-Id: automatic DPDK test reports List-Unsubscribe: , List-Archive: List-Post: List-Help: List-Subscribe: , Errors-To: test-report-bounces@dpdk.org Test-Label: iol-compile-amd64-testing Test-Status: SUCCESS http://dpdk.org/patch/149161 _Testing PASS_ Submitter: Stephen Hemminger Date: Wednesday, December 11 2024 16:28:09 DPDK git baseline: Repo:dpdk Branch: master CommitID:69072dbdfc0ab49bc5a1a3707fd6f2bf5d4a41ef 149154-149161 --> testing pass Test environment and result as below: +---------------------+--------------------+------------------+-------------------+-------------------+-------------------------+----------------------+ | Environment | dpdk_meson_compile | dpdk_compile_ovs | dpdk_compile_spdk | dpdk_msvc_compile | dpdk_llvm_clang_compile | dpdk_mingw64_compile | +=====================+====================+==================+===================+===================+=========================+======================+ | CentOS Stream 9 | PASS | PASS | PASS | SKIPPED | SKIPPED | SKIPPED | +---------------------+--------------------+------------------+-------------------+-------------------+-------------------------+----------------------+ | Debian 12 | PASS | PASS | PASS | SKIPPED | SKIPPED | SKIPPED | +---------------------+--------------------+------------------+-------------------+-------------------+-------------------------+----------------------+ | Fedora 39 (Clang) | PASS | PASS | PASS | SKIPPED | SKIPPED | SKIPPED | +---------------------+--------------------+------------------+-------------------+-------------------+-------------------------+----------------------+ | Fedora 40 | PASS | PASS | PASS | SKIPPED | SKIPPED | SKIPPED | +---------------------+--------------------+------------------+-------------------+-------------------+-------------------------+----------------------+ | Fedora 40 (Clang) | PASS | PASS | PASS | SKIPPED | SKIPPED | SKIPPED | +---------------------+--------------------+------------------+-------------------+-------------------+-------------------------+----------------------+ | Fedora 39 | PASS | PASS | PASS | SKIPPED | SKIPPED | SKIPPED | +---------------------+--------------------+------------------+-------------------+-------------------+-------------------------+----------------------+ | openSUSE Leap 15 | PASS | PASS | SKIPPED | SKIPPED | SKIPPED | SKIPPED | +---------------------+--------------------+------------------+-------------------+-------------------+-------------------------+----------------------+ | RHEL8 | PASS | PASS | SKIPPED | SKIPPED | SKIPPED | SKIPPED | +---------------------+--------------------+------------------+-------------------+-------------------+-------------------------+----------------------+ | RHEL9 | PASS | PASS | SKIPPED | SKIPPED | SKIPPED | SKIPPED | +---------------------+--------------------+------------------+-------------------+-------------------+-------------------------+----------------------+ | Ubuntu 20.04 | PASS | SKIPPED | SKIPPED | SKIPPED | SKIPPED | SKIPPED | +---------------------+--------------------+------------------+-------------------+-------------------+-------------------------+----------------------+ | Ubuntu 22.04 | PASS | PASS | PASS | SKIPPED | SKIPPED | SKIPPED | +---------------------+--------------------+------------------+-------------------+-------------------+-------------------------+----------------------+ | FreeBSD 13.4 | PASS | SKIPPED | SKIPPED | SKIPPED | SKIPPED | SKIPPED | +---------------------+--------------------+------------------+-------------------+-------------------+-------------------------+----------------------+ | Ubuntu 24.04 | PASS | PASS | PASS | SKIPPED | SKIPPED | SKIPPED | +---------------------+--------------------+------------------+-------------------+-------------------+-------------------------+----------------------+ | Alpine | PASS | PASS | SKIPPED | SKIPPED | SKIPPED | SKIPPED | +---------------------+--------------------+------------------+-------------------+-------------------+-------------------------+----------------------+ | FreeBSD 14.2 | PASS | SKIPPED | SKIPPED | SKIPPED | SKIPPED | SKIPPED | +---------------------+--------------------+------------------+-------------------+-------------------+-------------------------+----------------------+ | Windows Server 2022 | SKIPPED | SKIPPED | SKIPPED | PASS | PASS | PASS | +---------------------+--------------------+------------------+-------------------+-------------------+-------------------------+----------------------+ CentOS Stream 9 Kernel: Depends on container host Compiler: gcc 11.5.0 20240719 (Red Hat 11.5.0-2) Debian 12 Kernel: Depends on container host Compiler: gcc (Debian 12.2.0-14) 12.2.0 Fedora 39 (Clang) Kernel: Depends on container host Compiler: clang 17.0.6 (Fedora 17.0.6-2.fc39) Fedora 40 Kernel: Depends on container host Compiler: gcc 14.2.1 20240912 (Red Hat 14.2.1-3) Fedora 40 (Clang) Kernel: Depends on container host Compiler: clang 18.1.8 (Fedora 18.1.8-1.fc40) Fedora 39 Kernel: Depends on container host Compiler: gcc 13.3.1 20240522 (Red Hat 13.3.1-1) openSUSE Leap 15 Kernel: Depends on container host Compiler: gcc (SUSE Linux) 7.5.0 RHEL8 Kernel: Depends on container host Compiler: gcc 8.5.0 20210514 (Red Hat 8.5.0-22) RHEL9 Kernel: Depends on container host Compiler: gcc 11.5.0 20240719 (Red Hat 11.5.0-2) Ubuntu 20.04 Kernel: Depends on container host Compiler: gcc (Ubuntu 9.4.0-1ubuntu1~20.04.2) 9.4.0 Ubuntu 22.04 Kernel: Depends on container host Compiler: gcc (Ubuntu 11.4.0-1ubuntu1~22.04) 11.4.0 FreeBSD 13.4 Kernel: 13.4-RELEASE-p1 Compiler: clang 18.1.6 Ubuntu 24.04 Kernel: Depends on container host Compiler: gcc (Ubuntu 13.3.0-6ubuntu2~24.04) 13.3.0 Alpine Kernel: Depends on container host Compiler: gcc (Alpine 14.2.0) 14.2.0 FreeBSD 14.2 Kernel: 14.2-RELEASE Compiler: clang 18.1.6 Windows Server 2022 Kernel: 10.0.20348.2031 Compiler: clang 15.0.7, gcc 14.1.0 (MinGW), and MSVC VS 19.39.33521 To view detailed results, visit: https://lab.dpdk.org/results/dashboard/patchsets/32120/ UNH-IOL DPDK Community Lab To manage your email subscriptions, visit: https://lab.dpdk.org/results/dashboard/preferences/subscriptions/