From mboxrd@z Thu Jan 1 00:00:00 1970 Return-Path: Received: from mails.dpdk.org (mails.dpdk.org [217.70.189.124]) by inbox.dpdk.org (Postfix) with ESMTP id 091A2461BE for ; Fri, 7 Feb 2025 19:31:25 +0100 (CET) Received: from mails.dpdk.org (localhost [127.0.0.1]) by mails.dpdk.org (Postfix) with ESMTP id 0670C42EF0; Fri, 7 Feb 2025 19:31:25 +0100 (CET) Received: from mail-pl1-f226.google.com (mail-pl1-f226.google.com [209.85.214.226]) by mails.dpdk.org (Postfix) with ESMTP id B0D9F42E90 for ; Fri, 7 Feb 2025 19:31:23 +0100 (CET) Received: by mail-pl1-f226.google.com with SMTP id d9443c01a7336-21634338cfdso59621305ad.2 for ; Fri, 07 Feb 2025 10:31:23 -0800 (PST) DKIM-Signature: v=1; a=rsa-sha256; c=relaxed/relaxed; d=iol.unh.edu; s=unh-iol; t=1738953083; x=1739557883; darn=dpdk.org; h=references:in-reply-to:cc:to:from:subject:message-id:date:from:to :cc:subject:date:message-id:reply-to; bh=rw5nt3+M5NUkQpuvFPqKVLdLgnebHLCEdgVWsE6w4NU=; b=R4dnoFx4pyi+iNkLnjh947fyLRe9NNwIUgpOnqe6aw1UAF1YQ+1A4OSfncwhMvos1e DigE8Bck0mY2EGsnsZwHWpnlgH1c+46DQqHZ9XKofifxuxek5V+0+Y9UMibSo0ZaFHfc zqhlNi+f/pZ7ob/Po32U1/5pu8P11zSlRLvF0= X-Google-DKIM-Signature: v=1; a=rsa-sha256; c=relaxed/relaxed; d=1e100.net; s=20230601; t=1738953083; x=1739557883; h=references:in-reply-to:cc:to:from:subject:message-id:date :x-gm-message-state:from:to:cc:subject:date:message-id:reply-to; bh=rw5nt3+M5NUkQpuvFPqKVLdLgnebHLCEdgVWsE6w4NU=; b=awdL1CB7MNaO6gX5oRCi2OJPqGRQZuI3+qgDC2sUZD/qu9QDNUzrtx13zNR/9SDbPf elH7qH5q0WQk+JaZc+EqxUUVprjtCCztZAI8FhxC6qP6uiDZNEH1iyPznwr+CtL21w06 XSrA93baS4rtYXbE3SVRjGIrs7WLo5IY/0TK4VhKwFivYRg15yX6pzLmceuDhibX+f6J IdhuNABRRswViAaUyiGDvT79yNW/0Wl28uAGr7LvWtVFU1lXVQwPdTrZox7A3Cz/Faxe Y1P+WdbaLa9SYFtX/trtc/wkX2gAKwaT8j2UbqNLKY7ydFQr4Se1wcTqDooGz2xoJyDj sOlQ== X-Gm-Message-State: AOJu0YxzjU2P8R9jOsLm6LlT8ZaRltAr8oHJjEtpvVrvA3f7tMfGDPyG VETT0yQEzAmlQSqTNWo2NDlpBU/CPgG86WXNP8LyoOL/qrEucwd9/fkCn/H32Jfa2dRikyoposd gi28J+/QUQwwSI67RLc58sIWH3tzMUogGjVVv7T5S X-Gm-Gg: ASbGncsC0AWweTn8FAKXP5lc0wRpmBsqMkBkfDtThFrq2snOouqaG1I+aOYfAsf3XqY RgQnpO8XcmZxbneAab4+FiKAUMY2bbeVwCFra1mk49jVfxu80m5rXyYOGzLIbQwjNscfF/Pw/Pd n2rWtMNV+W15vQ+MlvlPAP+sw3HWoOGGf+e+v7aQXRzahPDW1hKT/Oeo8Cy6W8cWRxhpX+y7pno 39q7WSnhNrmSy4Jn8LHc4inttw98Jw60tlckGXGk47BM5FMa0+MYaPEATjy/oYW8v9U4+raTKjL 7rydispDvTPc19CDBOl58+J2oLhcIA== X-Google-Smtp-Source: AGHT+IF7x9bPdHGyuw1AU3DCrJGzkoqMzLDDMDGTbitijoogUi3KCvt65pHfgSk61reyOcc/6pMOxOHvU7vk X-Received: by 2002:a05:6a20:c78d:b0:1e0:c30a:6f22 with SMTP id adf61e73a8af0-1ee03c002fdmr9217192637.40.1738953082981; Fri, 07 Feb 2025 10:31:22 -0800 (PST) Received: from postal.iol.unh.edu (postal.iol.unh.edu. [132.177.123.84]) by smtp-relay.gmail.com with ESMTPS id 41be03b00d2f7-ad51aecf457sm235805a12.9.2025.02.07.10.31.22 (version=TLS1_2 cipher=ECDHE-ECDSA-AES128-GCM-SHA256 bits=128/128); Fri, 07 Feb 2025 10:31:22 -0800 (PST) X-Relaying-Domain: iol.unh.edu Date: Fri, 07 Feb 2025 10:31:22 -0800 (PST) Message-ID: <67a6517a.630a0220.5cb2a.ce79SMTPIN_ADDED_MISSING@mx.google.com> Received: from [172.21.0.5] (unknown [172.18.0.240]) by postal.iol.unh.edu (Postfix) with ESMTP id 607206052472; Fri, 7 Feb 2025 13:31:17 -0500 (EST) Subject: |SUCCESS| pw149153 [PATCH] test/dispatcher: transfer impl_opaque fie From: dpdklab@iol.unh.edu To: Test Report Cc: dpdk-test-reports@iol.unh.edu In-Reply-To: <20241211141303.132448-1-mattias.ronnblom@ericsson.com> References: <20241211141303.132448-1-mattias.ronnblom@ericsson.com> Content-Type: text/plain X-BeenThere: test-report@dpdk.org X-Mailman-Version: 2.1.29 Precedence: list List-Id: automatic DPDK test reports List-Unsubscribe: , List-Archive: List-Post: List-Help: List-Subscribe: , Errors-To: test-report-bounces@dpdk.org Test-Label: iol-compile-amd64-testing Test-Status: SUCCESS http://dpdk.org/patch/149153 _Testing PASS_ Submitter: Mattias Ronnblom Date: Wednesday, December 11 2024 14:13:03 DPDK git baseline: Repo:dpdk Branch: master CommitID:7df61db6c387703a36306c1aea92225921e2eeb2 149153 --> testing pass Test environment and result as below: +---------------------+--------------------+------------------+-------------------+-------------------------+-------------------+----------------------+ | Environment | dpdk_meson_compile | dpdk_compile_ovs | dpdk_compile_spdk | dpdk_llvm_clang_compile | dpdk_msvc_compile | dpdk_mingw64_compile | +=====================+====================+==================+===================+=========================+===================+======================+ | CentOS Stream 9 | PASS | PASS | PASS | SKIPPED | SKIPPED | SKIPPED | +---------------------+--------------------+------------------+-------------------+-------------------------+-------------------+----------------------+ | Debian 12 | PASS | PASS | PASS | SKIPPED | SKIPPED | SKIPPED | +---------------------+--------------------+------------------+-------------------+-------------------------+-------------------+----------------------+ | Fedora 39 | PASS | PASS | PASS | SKIPPED | SKIPPED | SKIPPED | +---------------------+--------------------+------------------+-------------------+-------------------------+-------------------+----------------------+ | Fedora 40 | PASS | PASS | PASS | SKIPPED | SKIPPED | SKIPPED | +---------------------+--------------------+------------------+-------------------+-------------------------+-------------------+----------------------+ | Fedora 39 (Clang) | PASS | PASS | PASS | SKIPPED | SKIPPED | SKIPPED | +---------------------+--------------------+------------------+-------------------+-------------------------+-------------------+----------------------+ | Fedora 40 (Clang) | PASS | PASS | PASS | SKIPPED | SKIPPED | SKIPPED | +---------------------+--------------------+------------------+-------------------+-------------------------+-------------------+----------------------+ | openSUSE Leap 15 | PASS | PASS | SKIPPED | SKIPPED | SKIPPED | SKIPPED | +---------------------+--------------------+------------------+-------------------+-------------------------+-------------------+----------------------+ | Ubuntu 20.04 | PASS | SKIPPED | SKIPPED | SKIPPED | SKIPPED | SKIPPED | +---------------------+--------------------+------------------+-------------------+-------------------------+-------------------+----------------------+ | RHEL9 | PASS | PASS | SKIPPED | SKIPPED | SKIPPED | SKIPPED | +---------------------+--------------------+------------------+-------------------+-------------------------+-------------------+----------------------+ | Ubuntu 22.04 | PASS | PASS | PASS | SKIPPED | SKIPPED | SKIPPED | +---------------------+--------------------+------------------+-------------------+-------------------------+-------------------+----------------------+ | Ubuntu 24.04 | PASS | PASS | PASS | SKIPPED | SKIPPED | SKIPPED | +---------------------+--------------------+------------------+-------------------+-------------------------+-------------------+----------------------+ | Alpine | PASS | PASS | SKIPPED | SKIPPED | SKIPPED | SKIPPED | +---------------------+--------------------+------------------+-------------------+-------------------------+-------------------+----------------------+ | FreeBSD 13.4 | PASS | SKIPPED | SKIPPED | SKIPPED | SKIPPED | SKIPPED | +---------------------+--------------------+------------------+-------------------+-------------------------+-------------------+----------------------+ | FreeBSD 14.2 | PASS | SKIPPED | SKIPPED | SKIPPED | SKIPPED | SKIPPED | +---------------------+--------------------+------------------+-------------------+-------------------------+-------------------+----------------------+ | RHEL8 | PASS | PASS | SKIPPED | SKIPPED | SKIPPED | SKIPPED | +---------------------+--------------------+------------------+-------------------+-------------------------+-------------------+----------------------+ | Windows Server 2022 | SKIPPED | SKIPPED | SKIPPED | PASS | PASS | PASS | +---------------------+--------------------+------------------+-------------------+-------------------------+-------------------+----------------------+ CentOS Stream 9 Kernel: Depends on container host Compiler: gcc 11.5.0 20240719 (Red Hat 11.5.0-2) Debian 12 Kernel: Depends on container host Compiler: gcc (Debian 12.2.0-14) 12.2.0 Fedora 39 Kernel: Depends on container host Compiler: gcc 13.3.1 20240522 (Red Hat 13.3.1-1) Fedora 40 Kernel: Depends on container host Compiler: gcc 14.2.1 20240912 (Red Hat 14.2.1-3) Fedora 39 (Clang) Kernel: Depends on container host Compiler: clang 17.0.6 (Fedora 17.0.6-2.fc39) Fedora 40 (Clang) Kernel: Depends on container host Compiler: clang 18.1.8 (Fedora 18.1.8-1.fc40) openSUSE Leap 15 Kernel: Depends on container host Compiler: gcc (SUSE Linux) 7.5.0 Ubuntu 20.04 Kernel: Depends on container host Compiler: gcc (Ubuntu 9.4.0-1ubuntu1~20.04.2) 9.4.0 RHEL9 Kernel: Depends on container host Compiler: gcc 11.5.0 20240719 (Red Hat 11.5.0-2) Ubuntu 22.04 Kernel: Depends on container host Compiler: gcc (Ubuntu 11.4.0-1ubuntu1~22.04) 11.4.0 Ubuntu 24.04 Kernel: Depends on container host Compiler: gcc (Ubuntu 13.3.0-6ubuntu2~24.04) 13.3.0 Alpine Kernel: Depends on container host Compiler: gcc (Alpine 14.2.0) 14.2.0 FreeBSD 13.4 Kernel: 13.4-RELEASE-p1 Compiler: clang 18.1.6 FreeBSD 14.2 Kernel: 14.2-RELEASE Compiler: clang 18.1.6 RHEL8 Kernel: Depends on container host Compiler: gcc 8.5.0 20210514 (Red Hat 8.5.0-22) Windows Server 2022 Kernel: 10.0.20348.2031 Compiler: clang 15.0.7, gcc 14.1.0 (MinGW), and MSVC VS 19.39.33521 To view detailed results, visit: https://lab.dpdk.org/results/dashboard/patchsets/32119/ UNH-IOL DPDK Community Lab To manage your email subscriptions, visit: https://lab.dpdk.org/results/dashboard/preferences/subscriptions/