From mboxrd@z Thu Jan 1 00:00:00 1970 Return-Path: Received: from mails.dpdk.org (mails.dpdk.org [217.70.189.124]) by inbox.dpdk.org (Postfix) with ESMTP id 60561461BE for ; Fri, 7 Feb 2025 19:31:54 +0100 (CET) Received: from mails.dpdk.org (localhost [127.0.0.1]) by mails.dpdk.org (Postfix) with ESMTP id 5CC9E42ED5; Fri, 7 Feb 2025 19:31:54 +0100 (CET) Received: from mail-il1-f227.google.com (mail-il1-f227.google.com [209.85.166.227]) by mails.dpdk.org (Postfix) with ESMTP id 90EB042E90 for ; Fri, 7 Feb 2025 19:31:52 +0100 (CET) Received: by mail-il1-f227.google.com with SMTP id e9e14a558f8ab-3d1469adf26so1838345ab.0 for ; Fri, 07 Feb 2025 10:31:52 -0800 (PST) DKIM-Signature: v=1; a=rsa-sha256; c=relaxed/relaxed; d=iol.unh.edu; s=unh-iol; t=1738953112; x=1739557912; darn=dpdk.org; h=cc:to:from:subject:message-id:date:from:to:cc:subject:date :message-id:reply-to; bh=MEhdrlrXrYrrtnN28ucghrk0dzEl2iNoVxg8VdVau90=; b=XqX1bBjiDYoscZHhdShiYkdNQCHqCwBQLHqjXxkKLOEyLd+aZmzz/KM/e3Bu8RQP+M SXLKXFEB7ee86prXm0xq6uGsg6YcpoyiVhA3G5JD6r4bK3t+oOfSuvRiKcE/2yLNyHDC VKWsMvyKNcuRiBvK8Q9DU7laCCxM1Vx59Aubc= X-Google-DKIM-Signature: v=1; a=rsa-sha256; c=relaxed/relaxed; d=1e100.net; s=20230601; t=1738953112; x=1739557912; h=cc:to:from:subject:message-id:date:x-gm-message-state:from:to:cc :subject:date:message-id:reply-to; bh=MEhdrlrXrYrrtnN28ucghrk0dzEl2iNoVxg8VdVau90=; b=T0/HaX18oL1RMqbQvYFWhwJE0VxFm1tnAeKVQuHCGgMC+3fnIIQgL0Mkz2360f8Iod yf7PVyh8L2qSC1Y8bjPrOfG9gcNr4UNf3yUbmNvNrjuq3sVDQFieFFhq6KuCPtwp757l 6mOAj7TCtAkZ71qdhBe/ZZU6twHeEOPSjGrASXdLl+2x0hgi9VIPT5wsTNATBHaaTR6F EDU5mtiqV2C5HtMVUjzoL8g70w3zha9zpJ2EEhDsFiDhKWJOs5KAs1v6q2Sg4FbXRfVy 8e/tqr50YkyNf1wMqKdLtkgR3ww3sn2dC9qZQo9hgqRjxmbLqlN9jA3HVo0LP1VMlpte l5cA== X-Gm-Message-State: AOJu0YzzUk0lvadkWbG00pLKf3Tj0gTWP714A9CWIAPaApP6Wy5QQD8O QI0WLw+Ecjve6evAMhLmjc79WB8qDWbXcCMTOtPEwG3UWkgrFKIFxLwA6cazCz9yZWAsBx6C5vW HW+6f8h5HovTrxECb4+KCrG2TzXr9GIW2 X-Gm-Gg: ASbGncs4bB6NVZNYut8XTyjBc0LQSYN+BFZczacpOMliqJaL6jUDQ1V1ej5OaV32QBX okPFb67DW1SQJbILSIY8tkN9RbOkeqghsRZE+Gq8grsFhmpJS9365U+YPLpSIVP/BdYM+0oxAWd +DMkGHhDePJp7tmeyMLfHNzDverAM9g73gP1fxZdKb9RCU8jQnylHv328uTUu/+1aRm4G3mBQlG SfE3Q4SqVoz2MNyF9b615oLkwqvagS83gPkXX5HMDjs2RbXs65vB3rA9wrk5H8vzcOf9/wVlWSk aJaIfwtuvjlXnTZdhsqRJlYtY/tufA== X-Google-Smtp-Source: AGHT+IGbccwGe2btWQJzN0xCCK0L1u5+0nL82yRfM3X10z4gaTgkOuwQSQwWsS8zyXMMshn++UN7ElYnr8BP X-Received: by 2002:a92:cd8c:0:b0:3cf:ba5:1ea3 with SMTP id e9e14a558f8ab-3d13dd0d645mr35021595ab.7.1738953111933; Fri, 07 Feb 2025 10:31:51 -0800 (PST) Received: from postal.iol.unh.edu (postal.iol.unh.edu. [132.177.123.84]) by smtp-relay.gmail.com with ESMTPS id 8926c6da1cb9f-4eccf9d13a4sm248702173.17.2025.02.07.10.31.51 (version=TLS1_2 cipher=ECDHE-ECDSA-AES128-GCM-SHA256 bits=128/128); Fri, 07 Feb 2025 10:31:51 -0800 (PST) X-Relaying-Domain: iol.unh.edu Date: Fri, 07 Feb 2025 10:31:51 -0800 (PST) Message-ID: <67a65197.050a0220.2123c1.cd65SMTPIN_ADDED_MISSING@mx.google.com> Received: from [172.21.0.9] (unknown [172.18.0.240]) by postal.iol.unh.edu (Postfix) with ESMTP id 7525A6052477; Fri, 7 Feb 2025 13:31:21 -0500 (EST) Subject: |SUCCESS| [GIT MASTER] 67b9d0a29a1269b482ff7fd1eb48ee88ae9e5892 From: dpdklab@iol.unh.edu To: Test Report Cc: dpdk-test-reports@iol.unh.edu, Xueming Li , Christian Ehrhardt , Kevin Traynor , Luca Boccassi Content-Type: text/plain X-BeenThere: test-report@dpdk.org X-Mailman-Version: 2.1.29 Precedence: list List-Id: automatic DPDK test reports List-Unsubscribe: , List-Archive: List-Post: List-Help: List-Subscribe: , Errors-To: test-report-bounces@dpdk.org _Testing PASS_ Branch: tags/v23.11 67b9d0a29a1269b482ff7fd1eb48ee88ae9e5892 --> testing pass Test environment and result as below: +---------------------+--------------------+------------------+-------------------+-------------------+-------------------------+----------------------+ | Environment | dpdk_meson_compile | dpdk_compile_ovs | dpdk_compile_spdk | dpdk_msvc_compile | dpdk_llvm_clang_compile | dpdk_mingw64_compile | +=====================+====================+==================+===================+===================+=========================+======================+ | CentOS Stream 9 | PASS | PASS | PASS | SKIPPED | SKIPPED | SKIPPED | +---------------------+--------------------+------------------+-------------------+-------------------+-------------------------+----------------------+ | Debian 12 | PASS | PASS | PASS | SKIPPED | SKIPPED | SKIPPED | +---------------------+--------------------+------------------+-------------------+-------------------+-------------------------+----------------------+ | Fedora 39 (Clang) | PASS | PASS | PASS | SKIPPED | SKIPPED | SKIPPED | +---------------------+--------------------+------------------+-------------------+-------------------+-------------------------+----------------------+ | Fedora 39 | PASS | PASS | PASS | SKIPPED | SKIPPED | SKIPPED | +---------------------+--------------------+------------------+-------------------+-------------------+-------------------------+----------------------+ | Fedora 40 (Clang) | PASS | PASS | PASS | SKIPPED | SKIPPED | SKIPPED | +---------------------+--------------------+------------------+-------------------+-------------------+-------------------------+----------------------+ | Fedora 40 | PASS | PASS | PASS | SKIPPED | SKIPPED | SKIPPED | +---------------------+--------------------+------------------+-------------------+-------------------+-------------------------+----------------------+ | RHEL8 | PASS | PASS | SKIPPED | SKIPPED | SKIPPED | SKIPPED | +---------------------+--------------------+------------------+-------------------+-------------------+-------------------------+----------------------+ | RHEL9 | PASS | PASS | SKIPPED | SKIPPED | SKIPPED | SKIPPED | +---------------------+--------------------+------------------+-------------------+-------------------+-------------------------+----------------------+ | Ubuntu 20.04 | PASS | SKIPPED | SKIPPED | SKIPPED | SKIPPED | SKIPPED | +---------------------+--------------------+------------------+-------------------+-------------------+-------------------------+----------------------+ | Ubuntu 22.04 | PASS | PASS | PASS | SKIPPED | SKIPPED | SKIPPED | +---------------------+--------------------+------------------+-------------------+-------------------+-------------------------+----------------------+ | Ubuntu 24.04 | PASS | PASS | PASS | SKIPPED | SKIPPED | SKIPPED | +---------------------+--------------------+------------------+-------------------+-------------------+-------------------------+----------------------+ | Alpine | PASS | PASS | SKIPPED | SKIPPED | SKIPPED | SKIPPED | +---------------------+--------------------+------------------+-------------------+-------------------+-------------------------+----------------------+ | FreeBSD 13.4 | PASS | SKIPPED | SKIPPED | SKIPPED | SKIPPED | SKIPPED | +---------------------+--------------------+------------------+-------------------+-------------------+-------------------------+----------------------+ | FreeBSD 14.2 | PASS | SKIPPED | SKIPPED | SKIPPED | SKIPPED | SKIPPED | +---------------------+--------------------+------------------+-------------------+-------------------+-------------------------+----------------------+ | openSUSE Leap 15 | PASS | PASS | SKIPPED | SKIPPED | SKIPPED | SKIPPED | +---------------------+--------------------+------------------+-------------------+-------------------+-------------------------+----------------------+ | Windows Server 2022 | SKIPPED | SKIPPED | SKIPPED | PASS | PASS | PASS | +---------------------+--------------------+------------------+-------------------+-------------------+-------------------------+----------------------+ CentOS Stream 9 Kernel: Depends on container host Compiler: gcc 11.5.0 20240719 (Red Hat 11.5.0-2) Debian 12 Kernel: Depends on container host Compiler: gcc (Debian 12.2.0-14) 12.2.0 Fedora 39 (Clang) Kernel: Depends on container host Compiler: clang 17.0.6 (Fedora 17.0.6-2.fc39) Fedora 39 Kernel: Depends on container host Compiler: gcc 13.3.1 20240522 (Red Hat 13.3.1-1) Fedora 40 (Clang) Kernel: Depends on container host Compiler: clang 18.1.8 (Fedora 18.1.8-1.fc40) Fedora 40 Kernel: Depends on container host Compiler: gcc 14.2.1 20240912 (Red Hat 14.2.1-3) RHEL8 Kernel: Depends on container host Compiler: gcc 8.5.0 20210514 (Red Hat 8.5.0-22) RHEL9 Kernel: Depends on container host Compiler: gcc 11.5.0 20240719 (Red Hat 11.5.0-2) Ubuntu 20.04 Kernel: Depends on container host Compiler: gcc (Ubuntu 9.4.0-1ubuntu1~20.04.2) 9.4.0 Ubuntu 22.04 Kernel: Depends on container host Compiler: gcc (Ubuntu 11.4.0-1ubuntu1~22.04) 11.4.0 Ubuntu 24.04 Kernel: Depends on container host Compiler: gcc (Ubuntu 13.3.0-6ubuntu2~24.04) 13.3.0 Alpine Kernel: Depends on container host Compiler: gcc (Alpine 14.2.0) 14.2.0 FreeBSD 13.4 Kernel: 13.4-RELEASE-p1 Compiler: clang 18.1.6 FreeBSD 14.2 Kernel: 14.2-RELEASE Compiler: clang 18.1.6 openSUSE Leap 15 Kernel: Depends on container host Compiler: gcc (SUSE Linux) 7.5.0 Windows Server 2022 Kernel: 10.0.20348.2031 Compiler: clang 15.0.7, gcc 14.1.0 (MinGW), and MSVC VS 19.39.33521 To view detailed results, visit: https://lab.dpdk.org/results/dashboard/tarballs/31902/ UNH-IOL DPDK Community Lab To manage your email subscriptions, visit: https://lab.dpdk.org/results/dashboard/preferences/subscriptions/