From mboxrd@z Thu Jan 1 00:00:00 1970 Return-Path: Received: from mails.dpdk.org (mails.dpdk.org [217.70.189.124]) by inbox.dpdk.org (Postfix) with ESMTP id EE8F8461BE for ; Fri, 7 Feb 2025 19:34:30 +0100 (CET) Received: from mails.dpdk.org (localhost [127.0.0.1]) by mails.dpdk.org (Postfix) with ESMTP id D0D2A42ED5; Fri, 7 Feb 2025 19:34:30 +0100 (CET) Received: from mail-pl1-f225.google.com (mail-pl1-f225.google.com [209.85.214.225]) by mails.dpdk.org (Postfix) with ESMTP id B0F6B42E90 for ; Fri, 7 Feb 2025 19:34:29 +0100 (CET) Received: by mail-pl1-f225.google.com with SMTP id d9443c01a7336-2166f1e589cso62430785ad.3 for ; Fri, 07 Feb 2025 10:34:29 -0800 (PST) DKIM-Signature: v=1; a=rsa-sha256; c=relaxed/relaxed; d=iol.unh.edu; s=unh-iol; t=1738953269; x=1739558069; darn=dpdk.org; h=cc:to:from:subject:message-id:date:from:to:cc:subject:date :message-id:reply-to; bh=dSC+ahJRe3zzN18O4JRALeYW+NsuA4hHjORoU6j76qA=; b=HarAt5XJxzSaU3WQjK3vlchrYloNfyMzCyEptZARiHkdB6MtEaZw9QRB0r85vPLFcV 3jGAIES5foqkCHHFHOkQBZUfgnU2PQT2vDhDL+tCGneqVfsyKe3HAJW7P9dJjt/eO1/e CCaUsWxBvY1gf4KDgCbfQ7Rpy0DSZxwldysPM= X-Google-DKIM-Signature: v=1; a=rsa-sha256; c=relaxed/relaxed; d=1e100.net; s=20230601; t=1738953269; x=1739558069; h=cc:to:from:subject:message-id:date:x-gm-message-state:from:to:cc :subject:date:message-id:reply-to; bh=dSC+ahJRe3zzN18O4JRALeYW+NsuA4hHjORoU6j76qA=; b=TUFS9cPgL0aORPa6MnBeW1/VC1cpFwTb3kJFy41FDMneCabrec0E215xessE7ROTyN FlsCRXjOlmLG+N8jyaNBgM769LWaZeXYzYqtk4PlkXYS/by0zrSkB/pzURG53dqgJLyj mAj9b/lZL0TnV2WKErxCgrl4LkABhDSu+jPnuVY3E8Ph81sPW9xk4VFSbh48xri2QOjD 7+Fs1hww6VLjivipHdfW30l4BAY+Hno+1E+YKgdxdar1hrdSpJL34d802BeYclCBvCmZ QCxgSB3V9OZXuDTVV6TocomQRxt54qwgiGgg3z6p0PBzdMSxsci/04P/ZP5Pr9wACWpV 9APQ== X-Gm-Message-State: AOJu0YySOX0j7/URY5ZNQU5C2kL7xOzG6Mb/PpZA1LIcXxq24E5tgQ/M TG1RXEYYL3o316grxs3pq5mvcHI9Xfpnp+baX8BICH6ngDZR02Uq4CVrNAc8+mjdg4VSXeoC6kA E68h4N5I6nTkBUZjc1P0OMI71gtMLhUr3 X-Gm-Gg: ASbGncu4QrGsuxQCSAFcbzggcijwKnBqGqETR+mczQhf+1Wqjwp2OS0z+1arq8TMPQv D1zHfHItC3M1Slolr86n2gdhSdfxossySeaXV7V/Pe4BWsRgXkZeghjsyYuiQdS2qlPRiaE7ABh WaXmNeCnS9efJqhS2pSHDQlw8o3eWQ93qu3rEi8NfkkD9Lge+e1BnMlCAJhJb0dvWOIqqomFjDR G04NRfjbjV/iI8B8Rl5d/7Mxte3Dx2P8W/t90jxfkIHpMsYaRRLPDRcID4CDlMXjDkL7Ts0XM3L 8XZir3GKMt9JPSCbk+42GUq4lADcEw== X-Google-Smtp-Source: AGHT+IGoP9Gs/FZa6X0WbM46pbhwhrwCHreZPy4FKp1nb4aLeSbt+6/TSa2gLBwmuQdsNSkUryMRuV4VYjcB X-Received: by 2002:a17:902:e946:b0:215:6f9b:e447 with SMTP id d9443c01a7336-21f4e6efb0fmr72838115ad.30.1738953268833; Fri, 07 Feb 2025 10:34:28 -0800 (PST) Received: from postal.iol.unh.edu (postal.iol.unh.edu. [132.177.123.84]) by smtp-relay.gmail.com with ESMTPS id d9443c01a7336-21f3655c67dsm2294555ad.46.2025.02.07.10.34.28 (version=TLS1_2 cipher=ECDHE-ECDSA-AES128-GCM-SHA256 bits=128/128); Fri, 07 Feb 2025 10:34:28 -0800 (PST) X-Relaying-Domain: iol.unh.edu Date: Fri, 07 Feb 2025 10:34:28 -0800 (PST) Message-ID: <67a65234.170a0220.e1621.c3adSMTPIN_ADDED_MISSING@mx.google.com> Received: from [172.21.0.5] (unknown [172.18.0.240]) by postal.iol.unh.edu (Postfix) with ESMTP id F39B46052471; Fri, 7 Feb 2025 13:33:57 -0500 (EST) Subject: |SUCCESS| [GIT MASTER] 67b9d0a29a1269b482ff7fd1eb48ee88ae9e5892 From: dpdklab@iol.unh.edu To: Test Report Cc: dpdk-test-reports@iol.unh.edu, Xueming Li , Christian Ehrhardt , Kevin Traynor , Luca Boccassi Content-Type: text/plain X-BeenThere: test-report@dpdk.org X-Mailman-Version: 2.1.29 Precedence: list List-Id: automatic DPDK test reports List-Unsubscribe: , List-Archive: List-Post: List-Help: List-Subscribe: , Errors-To: test-report-bounces@dpdk.org _Testing PASS_ Branch: tags/v23.11 67b9d0a29a1269b482ff7fd1eb48ee88ae9e5892 --> testing pass Test environment and result as below: +---------------------+--------------------+------------------+-------------------+-------------------+-------------------------+----------------------+ | Environment | dpdk_meson_compile | dpdk_compile_ovs | dpdk_compile_spdk | dpdk_msvc_compile | dpdk_llvm_clang_compile | dpdk_mingw64_compile | +=====================+====================+==================+===================+===================+=========================+======================+ | CentOS Stream 9 | PASS | PASS | PASS | SKIPPED | SKIPPED | SKIPPED | +---------------------+--------------------+------------------+-------------------+-------------------+-------------------------+----------------------+ | Fedora 39 | PASS | PASS | PASS | SKIPPED | SKIPPED | SKIPPED | +---------------------+--------------------+------------------+-------------------+-------------------+-------------------------+----------------------+ | Debian 12 | PASS | PASS | PASS | SKIPPED | SKIPPED | SKIPPED | +---------------------+--------------------+------------------+-------------------+-------------------+-------------------------+----------------------+ | Fedora 39 (Clang) | PASS | PASS | PASS | SKIPPED | SKIPPED | SKIPPED | +---------------------+--------------------+------------------+-------------------+-------------------+-------------------------+----------------------+ | openSUSE Leap 15 | PASS | PASS | SKIPPED | SKIPPED | SKIPPED | SKIPPED | +---------------------+--------------------+------------------+-------------------+-------------------+-------------------------+----------------------+ | RHEL9 | PASS | PASS | SKIPPED | SKIPPED | SKIPPED | SKIPPED | +---------------------+--------------------+------------------+-------------------+-------------------+-------------------------+----------------------+ | Ubuntu 20.04 | PASS | SKIPPED | SKIPPED | SKIPPED | SKIPPED | SKIPPED | +---------------------+--------------------+------------------+-------------------+-------------------+-------------------------+----------------------+ | Fedora 40 | PASS | PASS | PASS | SKIPPED | SKIPPED | SKIPPED | +---------------------+--------------------+------------------+-------------------+-------------------+-------------------------+----------------------+ | Fedora 40 (Clang) | PASS | PASS | PASS | SKIPPED | SKIPPED | SKIPPED | +---------------------+--------------------+------------------+-------------------+-------------------+-------------------------+----------------------+ | RHEL8 | PASS | PASS | SKIPPED | SKIPPED | SKIPPED | SKIPPED | +---------------------+--------------------+------------------+-------------------+-------------------+-------------------------+----------------------+ | Ubuntu 24.04 | PASS | PASS | PASS | SKIPPED | SKIPPED | SKIPPED | +---------------------+--------------------+------------------+-------------------+-------------------+-------------------------+----------------------+ | Ubuntu 22.04 | PASS | PASS | PASS | SKIPPED | SKIPPED | SKIPPED | +---------------------+--------------------+------------------+-------------------+-------------------+-------------------------+----------------------+ | Alpine | PASS | PASS | SKIPPED | SKIPPED | SKIPPED | SKIPPED | +---------------------+--------------------+------------------+-------------------+-------------------+-------------------------+----------------------+ | FreeBSD 13.4 | PASS | SKIPPED | SKIPPED | SKIPPED | SKIPPED | SKIPPED | +---------------------+--------------------+------------------+-------------------+-------------------+-------------------------+----------------------+ | FreeBSD 14.2 | PASS | SKIPPED | SKIPPED | SKIPPED | SKIPPED | SKIPPED | +---------------------+--------------------+------------------+-------------------+-------------------+-------------------------+----------------------+ | Windows Server 2022 | SKIPPED | SKIPPED | SKIPPED | PASS | PASS | PASS | +---------------------+--------------------+------------------+-------------------+-------------------+-------------------------+----------------------+ CentOS Stream 9 Kernel: Depends on container host Compiler: gcc 11.5.0 20240719 (Red Hat 11.5.0-2) Fedora 39 Kernel: Depends on container host Compiler: gcc 13.3.1 20240522 (Red Hat 13.3.1-1) Debian 12 Kernel: Depends on container host Compiler: gcc (Debian 12.2.0-14) 12.2.0 Fedora 39 (Clang) Kernel: Depends on container host Compiler: clang 17.0.6 (Fedora 17.0.6-2.fc39) openSUSE Leap 15 Kernel: Depends on container host Compiler: gcc (SUSE Linux) 7.5.0 RHEL9 Kernel: Depends on container host Compiler: gcc 11.5.0 20240719 (Red Hat 11.5.0-2) Ubuntu 20.04 Kernel: Depends on container host Compiler: gcc (Ubuntu 9.4.0-1ubuntu1~20.04.2) 9.4.0 Fedora 40 Kernel: Depends on container host Compiler: gcc 14.2.1 20240912 (Red Hat 14.2.1-3) Fedora 40 (Clang) Kernel: Depends on container host Compiler: clang 18.1.8 (Fedora 18.1.8-1.fc40) RHEL8 Kernel: Depends on container host Compiler: gcc 8.5.0 20210514 (Red Hat 8.5.0-22) Ubuntu 24.04 Kernel: Depends on container host Compiler: gcc (Ubuntu 13.3.0-6ubuntu2~24.04) 13.3.0 Ubuntu 22.04 Kernel: Depends on container host Compiler: gcc (Ubuntu 11.4.0-1ubuntu1~22.04) 11.4.0 Alpine Kernel: Depends on container host Compiler: gcc (Alpine 14.2.0) 14.2.0 FreeBSD 13.4 Kernel: 13.4-RELEASE-p1 Compiler: clang 18.1.6 FreeBSD 14.2 Kernel: 14.2-RELEASE Compiler: clang 18.1.6 Windows Server 2022 Kernel: 10.0.20348.2031 Compiler: clang 15.0.7, gcc 14.1.0 (MinGW), and MSVC VS 19.39.33521 To view detailed results, visit: https://lab.dpdk.org/results/dashboard/tarballs/31896/ UNH-IOL DPDK Community Lab To manage your email subscriptions, visit: https://lab.dpdk.org/results/dashboard/preferences/subscriptions/