From mboxrd@z Thu Jan 1 00:00:00 1970 Return-Path: Received: from mails.dpdk.org (mails.dpdk.org [217.70.189.124]) by inbox.dpdk.org (Postfix) with ESMTP id EE2EC461BE for ; Fri, 7 Feb 2025 19:34:33 +0100 (CET) Received: from mails.dpdk.org (localhost [127.0.0.1]) by mails.dpdk.org (Postfix) with ESMTP id EB77B42ED5; Fri, 7 Feb 2025 19:34:33 +0100 (CET) Received: from mail-qv1-f97.google.com (mail-qv1-f97.google.com [209.85.219.97]) by mails.dpdk.org (Postfix) with ESMTP id 5D8F542E90 for ; Fri, 7 Feb 2025 19:34:31 +0100 (CET) Received: by mail-qv1-f97.google.com with SMTP id 6a1803df08f44-6e429a885f6so37480476d6.0 for ; Fri, 07 Feb 2025 10:34:31 -0800 (PST) DKIM-Signature: v=1; a=rsa-sha256; c=relaxed/relaxed; d=iol.unh.edu; s=unh-iol; t=1738953270; x=1739558070; darn=dpdk.org; h=references:in-reply-to:cc:to:from:subject:message-id:date:from:to :cc:subject:date:message-id:reply-to; bh=2LD2WPut+QhxVT0elyAWJ3DCcfJJxwsZyogk9RnRTDQ=; b=HLSglyi2zJ2Dy6tOar+8j9z8EzOmzun+neMczyKdDI96i4MuGkGjjwOaQWud3Vb5dY RVhGVfbaO1BiUrX3/EhlCtQSc7E3FTxTgLHEZ05czasuF5ObTcoZCUkEsWYoo4DzqUA9 t4N1KpS4OfzrBMsBKIJE+f5xCLEACxGEzMCZ8= X-Google-DKIM-Signature: v=1; a=rsa-sha256; c=relaxed/relaxed; d=1e100.net; s=20230601; t=1738953270; x=1739558070; h=references:in-reply-to:cc:to:from:subject:message-id:date :x-gm-message-state:from:to:cc:subject:date:message-id:reply-to; bh=2LD2WPut+QhxVT0elyAWJ3DCcfJJxwsZyogk9RnRTDQ=; b=GxRYa5NigSBnZSMkhLF3UlsH3dJ7VO/Aa7hlIlttJrhbNsj7SF73PrZlohreevpVq6 KKxcdvKAQzquX+sgiPzPQmKHUk6Lkslb8sopwzEBiwP8UfKoR3T7KKg8sKtrWd77zLUV JkBUuj9Y1L9bH2Fie0WQmSDeujoi/o6SMTfaUKEjAyBdN0nUteTbDGDGlDwfHDyH5kCG Ng7kpD/MlAOkjoz/xyMw1jRRdAjj2IZaOpQLaHMbTfpfAs9zGlbBc0akc+oQpks75pgw ylRgAcyin1ILNsKrbwnST33TevuEprgq4N0Fnjnfstsf7L2bcX088lleHY9V8eybU3op yUQA== X-Gm-Message-State: AOJu0YyI92v39zuCUf73zOuAqYS+LUKaMyTrFjEpaF4W8bxtxSHUWuaW p2dgTJFZ35V85hf+gKWdNP28+4dVanVUfsplXQ+CA9jK4Mv0IGb+q9Cf4i0OuGjcRCPEyWedVaD ctMmTo/pdxMfQMqOqqoeOMGAo6Y/8oXWvRgEPGHtP X-Gm-Gg: ASbGncvVFtZvbIOkJeyuryGx1qfztXM4c9+ZBf2XO22xF3e7S2JDqb0G/GDpW+fanmA n2U1iTnVUSn6BEFm8YPxPoO5US8tJCawsVniOT2p+/42Ff3Nsg5OLIz35kA5Z3DZdeAI1DInAmo pSBWIHzHkxC3pXs4SRVyigCMb0Dtda1CXADYdGMa9J4v2HwRrbIrsfVxBSnfUmqkUBAlEl7ZCtM 97TTVYHFMS18curl6zx+mA7SjtJfBptPoXwO0nNqoqPpQDJahmhkUC2qnf9zONeG3bKBL3GBKlu xpksAjcmCQYx/EO9DcxqcqwqCnBD0g== X-Google-Smtp-Source: AGHT+IHNJw1rcodY9KC9iOoXNlgtCK5e4DhOa4qmBD6yjtGmDp/m+Dpz/OZy3UfZSOplnbx65UXQGtCbGPih X-Received: by 2002:ad4:5fca:0:b0:6d8:932a:eaa3 with SMTP id 6a1803df08f44-6e4455d4541mr62554876d6.3.1738953270332; Fri, 07 Feb 2025 10:34:30 -0800 (PST) Received: from postal.iol.unh.edu (postal.iol.unh.edu. [132.177.123.84]) by smtp-relay.gmail.com with ESMTPS id 6a1803df08f44-6e44c14eaa1sm700266d6.21.2025.02.07.10.34.30 (version=TLS1_2 cipher=ECDHE-ECDSA-AES128-GCM-SHA256 bits=128/128); Fri, 07 Feb 2025 10:34:30 -0800 (PST) X-Relaying-Domain: iol.unh.edu Date: Fri, 07 Feb 2025 10:34:30 -0800 (PST) Message-ID: <67a65236.d40a0220.14565f.32c9SMTPIN_ADDED_MISSING@mx.google.com> Received: from [172.21.0.7] (unknown [172.18.0.240]) by postal.iol.unh.edu (Postfix) with ESMTP id 0D1746052471; Fri, 7 Feb 2025 13:34:30 -0500 (EST) Subject: |SUCCESS| pw149118-149119 [PATCH] [v1,2/2] dts: add port restart con From: dpdklab@iol.unh.edu To: Test Report Cc: dpdk-test-reports@iol.unh.edu In-Reply-To: <20241210141144.231010-2-thomas.wilks@arm.com> References: <20241210141144.231010-2-thomas.wilks@arm.com> Content-Type: text/plain X-BeenThere: test-report@dpdk.org X-Mailman-Version: 2.1.29 Precedence: list List-Id: automatic DPDK test reports List-Unsubscribe: , List-Archive: List-Post: List-Help: List-Subscribe: , Errors-To: test-report-bounces@dpdk.org Test-Label: iol-compile-amd64-testing Test-Status: SUCCESS http://dpdk.org/patch/149119 _Testing PASS_ Submitter: Thomas Wilks Date: Tuesday, December 10 2024 14:11:43 DPDK git baseline: Repo:dpdk Branch: master CommitID:7df61db6c387703a36306c1aea92225921e2eeb2 149118-149119 --> testing pass Test environment and result as below: +---------------------+--------------------+------------------+-------------------+-------------------------+-------------------+----------------------+ | Environment | dpdk_meson_compile | dpdk_compile_ovs | dpdk_compile_spdk | dpdk_llvm_clang_compile | dpdk_msvc_compile | dpdk_mingw64_compile | +=====================+====================+==================+===================+=========================+===================+======================+ | CentOS Stream 9 | PASS | PASS | PASS | SKIPPED | SKIPPED | SKIPPED | +---------------------+--------------------+------------------+-------------------+-------------------------+-------------------+----------------------+ | Fedora 39 (Clang) | PASS | PASS | PASS | SKIPPED | SKIPPED | SKIPPED | +---------------------+--------------------+------------------+-------------------+-------------------------+-------------------+----------------------+ | Debian 12 | PASS | PASS | PASS | SKIPPED | SKIPPED | SKIPPED | +---------------------+--------------------+------------------+-------------------+-------------------------+-------------------+----------------------+ | Fedora 40 (Clang) | PASS | PASS | PASS | SKIPPED | SKIPPED | SKIPPED | +---------------------+--------------------+------------------+-------------------+-------------------------+-------------------+----------------------+ | Fedora 40 | PASS | PASS | PASS | SKIPPED | SKIPPED | SKIPPED | +---------------------+--------------------+------------------+-------------------+-------------------------+-------------------+----------------------+ | Fedora 39 | PASS | PASS | PASS | SKIPPED | SKIPPED | SKIPPED | +---------------------+--------------------+------------------+-------------------+-------------------------+-------------------+----------------------+ | RHEL8 | PASS | PASS | SKIPPED | SKIPPED | SKIPPED | SKIPPED | +---------------------+--------------------+------------------+-------------------+-------------------------+-------------------+----------------------+ | Ubuntu 24.04 | PASS | PASS | PASS | SKIPPED | SKIPPED | SKIPPED | +---------------------+--------------------+------------------+-------------------+-------------------------+-------------------+----------------------+ | RHEL9 | PASS | PASS | SKIPPED | SKIPPED | SKIPPED | SKIPPED | +---------------------+--------------------+------------------+-------------------+-------------------------+-------------------+----------------------+ | Ubuntu 22.04 | PASS | PASS | PASS | SKIPPED | SKIPPED | SKIPPED | +---------------------+--------------------+------------------+-------------------+-------------------------+-------------------+----------------------+ | Ubuntu 20.04 | PASS | SKIPPED | SKIPPED | SKIPPED | SKIPPED | SKIPPED | +---------------------+--------------------+------------------+-------------------+-------------------------+-------------------+----------------------+ | Alpine | PASS | PASS | SKIPPED | SKIPPED | SKIPPED | SKIPPED | +---------------------+--------------------+------------------+-------------------+-------------------------+-------------------+----------------------+ | FreeBSD 13.4 | PASS | SKIPPED | SKIPPED | SKIPPED | SKIPPED | SKIPPED | +---------------------+--------------------+------------------+-------------------+-------------------------+-------------------+----------------------+ | FreeBSD 14.2 | PASS | SKIPPED | SKIPPED | SKIPPED | SKIPPED | SKIPPED | +---------------------+--------------------+------------------+-------------------+-------------------------+-------------------+----------------------+ | openSUSE Leap 15 | PASS | PASS | SKIPPED | SKIPPED | SKIPPED | SKIPPED | +---------------------+--------------------+------------------+-------------------+-------------------------+-------------------+----------------------+ | Windows Server 2022 | SKIPPED | SKIPPED | SKIPPED | PASS | PASS | PASS | +---------------------+--------------------+------------------+-------------------+-------------------------+-------------------+----------------------+ CentOS Stream 9 Kernel: Depends on container host Compiler: gcc 11.5.0 20240719 (Red Hat 11.5.0-2) Fedora 39 (Clang) Kernel: Depends on container host Compiler: clang 17.0.6 (Fedora 17.0.6-2.fc39) Debian 12 Kernel: Depends on container host Compiler: gcc (Debian 12.2.0-14) 12.2.0 Fedora 40 (Clang) Kernel: Depends on container host Compiler: clang 18.1.8 (Fedora 18.1.8-1.fc40) Fedora 40 Kernel: Depends on container host Compiler: gcc 14.2.1 20240912 (Red Hat 14.2.1-3) Fedora 39 Kernel: Depends on container host Compiler: gcc 13.3.1 20240522 (Red Hat 13.3.1-1) RHEL8 Kernel: Depends on container host Compiler: gcc 8.5.0 20210514 (Red Hat 8.5.0-22) Ubuntu 24.04 Kernel: Depends on container host Compiler: gcc (Ubuntu 13.3.0-6ubuntu2~24.04) 13.3.0 RHEL9 Kernel: Depends on container host Compiler: gcc 11.5.0 20240719 (Red Hat 11.5.0-2) Ubuntu 22.04 Kernel: Depends on container host Compiler: gcc (Ubuntu 11.4.0-1ubuntu1~22.04) 11.4.0 Ubuntu 20.04 Kernel: Depends on container host Compiler: gcc (Ubuntu 9.4.0-1ubuntu1~20.04.2) 9.4.0 Alpine Kernel: Depends on container host Compiler: gcc (Alpine 14.2.0) 14.2.0 FreeBSD 13.4 Kernel: 13.4-RELEASE-p1 Compiler: clang 18.1.6 FreeBSD 14.2 Kernel: 14.2-RELEASE Compiler: clang 18.1.6 openSUSE Leap 15 Kernel: Depends on container host Compiler: gcc (SUSE Linux) 7.5.0 Windows Server 2022 Kernel: 10.0.20348.2031 Compiler: clang 15.0.7, gcc 14.1.0 (MinGW), and MSVC VS 19.39.33521 To view detailed results, visit: https://lab.dpdk.org/results/dashboard/patchsets/32114/ UNH-IOL DPDK Community Lab To manage your email subscriptions, visit: https://lab.dpdk.org/results/dashboard/preferences/subscriptions/