From mboxrd@z Thu Jan 1 00:00:00 1970 Return-Path: Received: from mails.dpdk.org (mails.dpdk.org [217.70.189.124]) by inbox.dpdk.org (Postfix) with ESMTP id 1057F461BE for ; Fri, 7 Feb 2025 19:34:43 +0100 (CET) Received: from mails.dpdk.org (localhost [127.0.0.1]) by mails.dpdk.org (Postfix) with ESMTP id 0D69342ED5; Fri, 7 Feb 2025 19:34:43 +0100 (CET) Received: from mail-il1-f226.google.com (mail-il1-f226.google.com [209.85.166.226]) by mails.dpdk.org (Postfix) with ESMTP id CC3B342E90 for ; Fri, 7 Feb 2025 19:34:41 +0100 (CET) Received: by mail-il1-f226.google.com with SMTP id e9e14a558f8ab-3d04d767d3aso18229135ab.2 for ; Fri, 07 Feb 2025 10:34:41 -0800 (PST) DKIM-Signature: v=1; a=rsa-sha256; c=relaxed/relaxed; d=iol.unh.edu; s=unh-iol; t=1738953281; x=1739558081; darn=dpdk.org; h=references:in-reply-to:cc:to:from:subject:message-id:date:from:to :cc:subject:date:message-id:reply-to; bh=OaXrkj6JUrC2IR9ECZoNo6xzLKrvtz3O85Heq02/w94=; b=b4/miVXcoGnh3DVq27j/BJ8GKOd41RE39U4C8N5yM287jJEAe+twhB+yEjm9P5UtDO phPDpsCX49sDQlJcRiXWK3s/bxC8HlIHlEbbd2SO6TpjjrTws2DtrMKH0TAOqpvAGAWq tARaEOgXpql3ksUPBRhDyjCj282+QVuXNznlk= X-Google-DKIM-Signature: v=1; a=rsa-sha256; c=relaxed/relaxed; d=1e100.net; s=20230601; t=1738953281; x=1739558081; h=references:in-reply-to:cc:to:from:subject:message-id:date :x-gm-message-state:from:to:cc:subject:date:message-id:reply-to; bh=OaXrkj6JUrC2IR9ECZoNo6xzLKrvtz3O85Heq02/w94=; b=L8e8HRnzyFwmDr16VkVmuW9entTI92tbVK2oVX6/ZBYqmK6ChINyOA/w7sCgZyQt1d KDj/I8qgb9htBgUNlO2RV/bdzgQTWnx5WEn1rqc036QR6raF/hS3WlHlZXCw7vJOx16v dAV3U/Y7kX/Wr6nKdLngIb7AJmEI+g54sTQVnLZ2gU0O6HeklVFH7bLR5BNz9MTSYxkB uso7XXyZoKhbDuPJ+bsoRDR5POjPJgq7U/vVlHJANrYQuzuFCtV+6yKnszip9lEPUOMO nIa+enYilVBE8I0ytbx05Trwvs7Xal4mjBQNr0ymbCqHBMaRL99w4sYn4lst+PrNpOgW hZzg== X-Gm-Message-State: AOJu0Yx42cEEQ2ySojfaNcliO+QB37YMnx/sCtyNwPyfxPE5kgdFgZbo cfTZF1XOpG9z0MV6RFg2ZKIR2eB5uUBd2z7S9TunoOZRtLhC15Wnfmpl7cEOhjOA0LlSpcPP1oH KNNouSKYUbeVtu18SYbFqSpXt4Zw+3oX54kGp6w5E X-Gm-Gg: ASbGncvaotoNifaLsgIX/7hebTqVOmA7y7/PxIPqMKshpYfpLkoQYbko6JQxkPua9Kp Gfe5o8oc9Q+D6R41BL6cfRVWxqq9dWCewPfM/Sa8U+ALv6TR7NmnmTOJNCvxPEs0X4q0ykGRB+8 croi8WcncEAmnFXQVufk6NXAEi9Ou+YQ6i0hwQEVky5wlY7V5KOI+m8OU4dT5SnqP2ujjl7V+fU BMjg/trM6m3goJHTqv/YMthpVUPzMKz9SumcQdXzrZb4xglnfvzY6CPpZpMW/gx0HynVhks0dY6 EIKCX7lKrcUKjT/9EZAYDM+cEdLqmg== X-Google-Smtp-Source: AGHT+IEpGnCC/YRC13cIPWIHXbSEo0AhtEA4oIo8JDzB/I4oKxefKCe3HaqNcrdP8wZon8fpi+t5CSC7aclE X-Received: by 2002:a05:6e02:1a69:b0:3d0:2477:83ec with SMTP id e9e14a558f8ab-3d13dfa8591mr29070525ab.14.1738953280934; Fri, 07 Feb 2025 10:34:40 -0800 (PST) Received: from postal.iol.unh.edu (postal.iol.unh.edu. [132.177.123.84]) by smtp-relay.gmail.com with ESMTPS id e9e14a558f8ab-3d148395784sm605525ab.39.2025.02.07.10.34.40 (version=TLS1_2 cipher=ECDHE-ECDSA-AES128-GCM-SHA256 bits=128/128); Fri, 07 Feb 2025 10:34:40 -0800 (PST) X-Relaying-Domain: iol.unh.edu Date: Fri, 07 Feb 2025 10:34:40 -0800 (PST) Message-ID: <67a65240.050a0220.3215ee.2ea9SMTPIN_ADDED_MISSING@mx.google.com> Received: from [172.21.0.11] (unknown [172.18.0.240]) by postal.iol.unh.edu (Postfix) with ESMTP id 715266052483; Fri, 7 Feb 2025 13:34:40 -0500 (EST) Subject: |SUCCESS| pw149086-149098 [PATCH] [v2,15/15] net/zxdh: mtu update op From: dpdklab@iol.unh.edu To: Test Report Cc: dpdk-test-reports@iol.unh.edu In-Reply-To: <20241210055333.782901-16-wang.junlong1@zte.com.cn> References: <20241210055333.782901-16-wang.junlong1@zte.com.cn> Content-Type: text/plain X-BeenThere: test-report@dpdk.org X-Mailman-Version: 2.1.29 Precedence: list List-Id: automatic DPDK test reports List-Unsubscribe: , List-Archive: List-Post: List-Help: List-Subscribe: , Errors-To: test-report-bounces@dpdk.org Test-Label: iol-compile-amd64-testing Test-Status: SUCCESS http://dpdk.org/patch/149098 _Testing PASS_ Submitter: Junlong Wang Date: Tuesday, December 10 2024 05:53:33 DPDK git baseline: Repo:dpdk Branch: master CommitID:69072dbdfc0ab49bc5a1a3707fd6f2bf5d4a41ef 149086-149098 --> testing pass Test environment and result as below: +---------------------+--------------------+------------------+-------------------+-------------------+-------------------------+----------------------+ | Environment | dpdk_meson_compile | dpdk_compile_ovs | dpdk_compile_spdk | dpdk_msvc_compile | dpdk_llvm_clang_compile | dpdk_mingw64_compile | +=====================+====================+==================+===================+===================+=========================+======================+ | CentOS Stream 9 | PASS | PASS | PASS | SKIPPED | SKIPPED | SKIPPED | +---------------------+--------------------+------------------+-------------------+-------------------+-------------------------+----------------------+ | Debian 12 | PASS | PASS | PASS | SKIPPED | SKIPPED | SKIPPED | +---------------------+--------------------+------------------+-------------------+-------------------+-------------------------+----------------------+ | Fedora 39 (Clang) | PASS | PASS | PASS | SKIPPED | SKIPPED | SKIPPED | +---------------------+--------------------+------------------+-------------------+-------------------+-------------------------+----------------------+ | Fedora 39 | PASS | PASS | PASS | SKIPPED | SKIPPED | SKIPPED | +---------------------+--------------------+------------------+-------------------+-------------------+-------------------------+----------------------+ | Fedora 40 (Clang) | PASS | PASS | PASS | SKIPPED | SKIPPED | SKIPPED | +---------------------+--------------------+------------------+-------------------+-------------------+-------------------------+----------------------+ | RHEL8 | PASS | PASS | SKIPPED | SKIPPED | SKIPPED | SKIPPED | +---------------------+--------------------+------------------+-------------------+-------------------+-------------------------+----------------------+ | openSUSE Leap 15 | PASS | PASS | SKIPPED | SKIPPED | SKIPPED | SKIPPED | +---------------------+--------------------+------------------+-------------------+-------------------+-------------------------+----------------------+ | Fedora 40 | PASS | PASS | PASS | SKIPPED | SKIPPED | SKIPPED | +---------------------+--------------------+------------------+-------------------+-------------------+-------------------------+----------------------+ | RHEL9 | PASS | PASS | SKIPPED | SKIPPED | SKIPPED | SKIPPED | +---------------------+--------------------+------------------+-------------------+-------------------+-------------------------+----------------------+ | Ubuntu 20.04 | PASS | SKIPPED | SKIPPED | SKIPPED | SKIPPED | SKIPPED | +---------------------+--------------------+------------------+-------------------+-------------------+-------------------------+----------------------+ | Ubuntu 22.04 | PASS | PASS | PASS | SKIPPED | SKIPPED | SKIPPED | +---------------------+--------------------+------------------+-------------------+-------------------+-------------------------+----------------------+ | Ubuntu 24.04 | PASS | PASS | PASS | SKIPPED | SKIPPED | SKIPPED | +---------------------+--------------------+------------------+-------------------+-------------------+-------------------------+----------------------+ | Alpine | PASS | PASS | SKIPPED | SKIPPED | SKIPPED | SKIPPED | +---------------------+--------------------+------------------+-------------------+-------------------+-------------------------+----------------------+ | FreeBSD 13.4 | PASS | SKIPPED | SKIPPED | SKIPPED | SKIPPED | SKIPPED | +---------------------+--------------------+------------------+-------------------+-------------------+-------------------------+----------------------+ | FreeBSD 14.2 | PASS | SKIPPED | SKIPPED | SKIPPED | SKIPPED | SKIPPED | +---------------------+--------------------+------------------+-------------------+-------------------+-------------------------+----------------------+ | Windows Server 2022 | SKIPPED | SKIPPED | SKIPPED | PASS | PASS | PASS | +---------------------+--------------------+------------------+-------------------+-------------------+-------------------------+----------------------+ CentOS Stream 9 Kernel: Depends on container host Compiler: gcc 11.5.0 20240719 (Red Hat 11.5.0-2) Debian 12 Kernel: Depends on container host Compiler: gcc (Debian 12.2.0-14) 12.2.0 Fedora 39 (Clang) Kernel: Depends on container host Compiler: clang 17.0.6 (Fedora 17.0.6-2.fc39) Fedora 39 Kernel: Depends on container host Compiler: gcc 13.3.1 20240522 (Red Hat 13.3.1-1) Fedora 40 (Clang) Kernel: Depends on container host Compiler: clang 18.1.8 (Fedora 18.1.8-1.fc40) RHEL8 Kernel: Depends on container host Compiler: gcc 8.5.0 20210514 (Red Hat 8.5.0-22) openSUSE Leap 15 Kernel: Depends on container host Compiler: gcc (SUSE Linux) 7.5.0 Fedora 40 Kernel: Depends on container host Compiler: gcc 14.2.1 20240912 (Red Hat 14.2.1-3) RHEL9 Kernel: Depends on container host Compiler: gcc 11.5.0 20240719 (Red Hat 11.5.0-2) Ubuntu 20.04 Kernel: Depends on container host Compiler: gcc (Ubuntu 9.4.0-1ubuntu1~20.04.2) 9.4.0 Ubuntu 22.04 Kernel: Depends on container host Compiler: gcc (Ubuntu 11.4.0-1ubuntu1~22.04) 11.4.0 Ubuntu 24.04 Kernel: Depends on container host Compiler: gcc (Ubuntu 13.3.0-6ubuntu2~24.04) 13.3.0 Alpine Kernel: Depends on container host Compiler: gcc (Alpine 14.2.0) 14.2.0 FreeBSD 13.4 Kernel: 13.4-RELEASE-p1 Compiler: clang 18.1.6 FreeBSD 14.2 Kernel: 14.2-RELEASE Compiler: clang 18.1.6 Windows Server 2022 Kernel: 10.0.20348.2031 Compiler: clang 15.0.7, gcc 14.1.0 (MinGW), and MSVC VS 19.39.33521 To view detailed results, visit: https://lab.dpdk.org/results/dashboard/patchsets/32108/ UNH-IOL DPDK Community Lab To manage your email subscriptions, visit: https://lab.dpdk.org/results/dashboard/preferences/subscriptions/