From mboxrd@z Thu Jan 1 00:00:00 1970 Return-Path: Received: from mails.dpdk.org (mails.dpdk.org [217.70.189.124]) by inbox.dpdk.org (Postfix) with ESMTP id 418A6461BE for ; Fri, 7 Feb 2025 19:34:52 +0100 (CET) Received: from mails.dpdk.org (localhost [127.0.0.1]) by mails.dpdk.org (Postfix) with ESMTP id 37AE642EE1; Fri, 7 Feb 2025 19:34:52 +0100 (CET) Received: from mail-io1-f98.google.com (mail-io1-f98.google.com [209.85.166.98]) by mails.dpdk.org (Postfix) with ESMTP id 554A542E90 for ; Fri, 7 Feb 2025 19:34:50 +0100 (CET) Received: by mail-io1-f98.google.com with SMTP id ca18e2360f4ac-8550803e1afso20877439f.1 for ; Fri, 07 Feb 2025 10:34:50 -0800 (PST) DKIM-Signature: v=1; a=rsa-sha256; c=relaxed/relaxed; d=iol.unh.edu; s=unh-iol; t=1738953289; x=1739558089; darn=dpdk.org; h=references:in-reply-to:cc:to:from:subject:message-id:date:from:to :cc:subject:date:message-id:reply-to; bh=pauqNqod1zazuxITGf9p99dZRp8hKVc44/KKdQiW75k=; b=Jz95Dr5Up+xbO9pMpk+sJb48k7RmWXBFknbBJDaa6V/rHSW7p2JRxoQq54mNKRYC7J XqjeWx7FMQUOcnwsFIaH0bIUqtBFILr2lNpNf6aVyjtxcVM8bHpI9tLpWuxECdZPQRo3 NJL/xXbW3EXT5TsjLsgJsMDACVoNpB5EG2RM8= X-Google-DKIM-Signature: v=1; a=rsa-sha256; c=relaxed/relaxed; d=1e100.net; s=20230601; t=1738953289; x=1739558089; h=references:in-reply-to:cc:to:from:subject:message-id:date :x-gm-message-state:from:to:cc:subject:date:message-id:reply-to; bh=pauqNqod1zazuxITGf9p99dZRp8hKVc44/KKdQiW75k=; b=ifENa2e1Ut1pHnsswsk74sjcTt3888eKYohcWsTVr634zi5n8NTACoGZPqMgsiXXut cF4itjUHn2CufIeyqn82JdnnIk1suexvGuHZx4JShFc+7gO8lHJ310aY+Ye+YXiEAFmN 0MxAqs7gH2RiK4KZh0PFZBGcLVPqrXGiZiOxyVzoo3OQr5llbxGcMs67CavLoGfR58R2 TYc1BjorPQGNlP182w50xs4Cdp6jBa4HGNE4xL4EmoMjkHZIoXnjrZpwR8BDHpKwSsuW HSfWrM8Y/XcWPnAuuarB9qtLfqTjLRwqAGUyCZcsyc+RTTU9XPZjRD9xOYtOIfFQeg7o FutA== X-Gm-Message-State: AOJu0Yy6g7JBqVNKiScw7q3Oll7i+pFuYjRnhX6e0dfOJu9aBsPTwuaX Nbdk+LuqQ8tnbjQcPJRCwgxPv3frma8PuOPyoVYUy4Uo7awnNMCr1Jfeg2kms+OlzpLctLDGYoe Qa0Lgo2tGHsUuMPrtHbytTDtkWEMDhZzr7M8eeKO3 X-Gm-Gg: ASbGnct9XbvRZ9lJ6UprMVA4K9v9ZlKLz+c7Em0AeG4t1GXu8TRqBk75iLt5pYMWNIl qIxK/ZTxQ33MJuj0+jyT9+rt5+DAe2OktFmoYImFZ/mxyK9hZEP9/llgfCtRkl+aoq+ABnErpVB ll2EYXQWPKAxtpN4tnAVDWQvoG2wNv41750WszoX9KDxW+URXHCZjJjkasbC6iQVHHsKvZpNijm L+J7R9RyJHPLveOnUcAAaxokNbDRaWwU3XdooVJwi3tYfK/vblEK78r9yG2fCI7hAZl0N9SB+Cz jmldt1r8YYYWOJOZNSQ0IY4DATia2A== X-Google-Smtp-Source: AGHT+IFNpVX6CvvQNaJtVledgqv+qKo1SEIo1NvWgeM0zlAdVYrci1ZwV6gf9qSmo5xGr85P84o/a5zTF/Wl X-Received: by 2002:a05:6602:6a46:b0:843:e8d0:a728 with SMTP id ca18e2360f4ac-854fd89a7cemr493403139f.4.1738953289767; Fri, 07 Feb 2025 10:34:49 -0800 (PST) Received: from postal.iol.unh.edu (postal.iol.unh.edu. [132.177.123.84]) by smtp-relay.gmail.com with ESMTPS id ca18e2360f4ac-854f674035asm23686839f.21.2025.02.07.10.34.49 (version=TLS1_2 cipher=ECDHE-ECDSA-AES128-GCM-SHA256 bits=128/128); Fri, 07 Feb 2025 10:34:49 -0800 (PST) X-Relaying-Domain: iol.unh.edu Date: Fri, 07 Feb 2025 10:34:49 -0800 (PST) Message-ID: <67a65249.050a0220.1e15f7.c4f6SMTPIN_ADDED_MISSING@mx.google.com> Received: from [172.21.0.9] (unknown [172.18.0.240]) by postal.iol.unh.edu (Postfix) with ESMTP id 488856052477; Fri, 7 Feb 2025 13:34:19 -0500 (EST) Subject: |SUCCESS| pw149132-149152 [PATCH] [21/21] lib/vhost: ensure code str From: dpdklab@iol.unh.edu To: Test Report Cc: dpdk-test-reports@iol.unh.edu In-Reply-To: <1733882751-29598-22-git-send-email-andremue@linux.microsoft.com> References: <1733882751-29598-22-git-send-email-andremue@linux.microsoft.com> Content-Type: text/plain X-BeenThere: test-report@dpdk.org X-Mailman-Version: 2.1.29 Precedence: list List-Id: automatic DPDK test reports List-Unsubscribe: , List-Archive: List-Post: List-Help: List-Subscribe: , Errors-To: test-report-bounces@dpdk.org Test-Label: iol-compile-amd64-testing Test-Status: SUCCESS http://dpdk.org/patch/149152 _Testing PASS_ Submitter: Andre Muezerie Date: Wednesday, December 11 2024 02:05:51 DPDK git baseline: Repo:dpdk Branch: master CommitID:7df61db6c387703a36306c1aea92225921e2eeb2 149132-149152 --> testing pass Test environment and result as below: +---------------------+--------------------+------------------+-------------------+-------------------+-------------------------+----------------------+ | Environment | dpdk_meson_compile | dpdk_compile_ovs | dpdk_compile_spdk | dpdk_msvc_compile | dpdk_llvm_clang_compile | dpdk_mingw64_compile | +=====================+====================+==================+===================+===================+=========================+======================+ | Debian 12 | PASS | PASS | PASS | SKIPPED | SKIPPED | SKIPPED | +---------------------+--------------------+------------------+-------------------+-------------------+-------------------------+----------------------+ | CentOS Stream 9 | PASS | PASS | PASS | SKIPPED | SKIPPED | SKIPPED | +---------------------+--------------------+------------------+-------------------+-------------------+-------------------------+----------------------+ | Fedora 39 (Clang) | PASS | PASS | PASS | SKIPPED | SKIPPED | SKIPPED | +---------------------+--------------------+------------------+-------------------+-------------------+-------------------------+----------------------+ | Fedora 39 | PASS | PASS | PASS | SKIPPED | SKIPPED | SKIPPED | +---------------------+--------------------+------------------+-------------------+-------------------+-------------------------+----------------------+ | Fedora 40 (Clang) | PASS | PASS | PASS | SKIPPED | SKIPPED | SKIPPED | +---------------------+--------------------+------------------+-------------------+-------------------+-------------------------+----------------------+ | openSUSE Leap 15 | PASS | PASS | SKIPPED | SKIPPED | SKIPPED | SKIPPED | +---------------------+--------------------+------------------+-------------------+-------------------+-------------------------+----------------------+ | Fedora 40 | PASS | PASS | PASS | SKIPPED | SKIPPED | SKIPPED | +---------------------+--------------------+------------------+-------------------+-------------------+-------------------------+----------------------+ | Ubuntu 20.04 | PASS | SKIPPED | SKIPPED | SKIPPED | SKIPPED | SKIPPED | +---------------------+--------------------+------------------+-------------------+-------------------+-------------------------+----------------------+ | RHEL9 | PASS | PASS | SKIPPED | SKIPPED | SKIPPED | SKIPPED | +---------------------+--------------------+------------------+-------------------+-------------------+-------------------------+----------------------+ | Ubuntu 22.04 | PASS | PASS | PASS | SKIPPED | SKIPPED | SKIPPED | +---------------------+--------------------+------------------+-------------------+-------------------+-------------------------+----------------------+ | Alpine | PASS | PASS | SKIPPED | SKIPPED | SKIPPED | SKIPPED | +---------------------+--------------------+------------------+-------------------+-------------------+-------------------------+----------------------+ | Ubuntu 24.04 | PASS | PASS | PASS | SKIPPED | SKIPPED | SKIPPED | +---------------------+--------------------+------------------+-------------------+-------------------+-------------------------+----------------------+ | FreeBSD 13.4 | PASS | SKIPPED | SKIPPED | SKIPPED | SKIPPED | SKIPPED | +---------------------+--------------------+------------------+-------------------+-------------------+-------------------------+----------------------+ | FreeBSD 14.2 | PASS | SKIPPED | SKIPPED | SKIPPED | SKIPPED | SKIPPED | +---------------------+--------------------+------------------+-------------------+-------------------+-------------------------+----------------------+ | RHEL8 | PASS | PASS | SKIPPED | SKIPPED | SKIPPED | SKIPPED | +---------------------+--------------------+------------------+-------------------+-------------------+-------------------------+----------------------+ | Windows Server 2022 | SKIPPED | SKIPPED | SKIPPED | PASS | PASS | PASS | +---------------------+--------------------+------------------+-------------------+-------------------+-------------------------+----------------------+ Debian 12 Kernel: Depends on container host Compiler: gcc (Debian 12.2.0-14) 12.2.0 CentOS Stream 9 Kernel: Depends on container host Compiler: gcc 11.5.0 20240719 (Red Hat 11.5.0-2) Fedora 39 (Clang) Kernel: Depends on container host Compiler: clang 17.0.6 (Fedora 17.0.6-2.fc39) Fedora 39 Kernel: Depends on container host Compiler: gcc 13.3.1 20240522 (Red Hat 13.3.1-1) Fedora 40 (Clang) Kernel: Depends on container host Compiler: clang 18.1.8 (Fedora 18.1.8-1.fc40) openSUSE Leap 15 Kernel: Depends on container host Compiler: gcc (SUSE Linux) 7.5.0 Fedora 40 Kernel: Depends on container host Compiler: gcc 14.2.1 20240912 (Red Hat 14.2.1-3) Ubuntu 20.04 Kernel: Depends on container host Compiler: gcc (Ubuntu 9.4.0-1ubuntu1~20.04.2) 9.4.0 RHEL9 Kernel: Depends on container host Compiler: gcc 11.5.0 20240719 (Red Hat 11.5.0-2) Ubuntu 22.04 Kernel: Depends on container host Compiler: gcc (Ubuntu 11.4.0-1ubuntu1~22.04) 11.4.0 Alpine Kernel: Depends on container host Compiler: gcc (Alpine 14.2.0) 14.2.0 Ubuntu 24.04 Kernel: Depends on container host Compiler: gcc (Ubuntu 13.3.0-6ubuntu2~24.04) 13.3.0 FreeBSD 13.4 Kernel: 13.4-RELEASE-p1 Compiler: clang 18.1.6 FreeBSD 14.2 Kernel: 14.2-RELEASE Compiler: clang 18.1.6 RHEL8 Kernel: Depends on container host Compiler: gcc 8.5.0 20210514 (Red Hat 8.5.0-22) Windows Server 2022 Kernel: 10.0.20348.2031 Compiler: clang 15.0.7, gcc 14.1.0 (MinGW), and MSVC VS 19.39.33521 To view detailed results, visit: https://lab.dpdk.org/results/dashboard/patchsets/32118/ UNH-IOL DPDK Community Lab To manage your email subscriptions, visit: https://lab.dpdk.org/results/dashboard/preferences/subscriptions/