From mboxrd@z Thu Jan 1 00:00:00 1970 Return-Path: Received: from mails.dpdk.org (mails.dpdk.org [217.70.189.124]) by inbox.dpdk.org (Postfix) with ESMTP id 512F3461BE for ; Fri, 7 Feb 2025 19:34:54 +0100 (CET) Received: from mails.dpdk.org (localhost [127.0.0.1]) by mails.dpdk.org (Postfix) with ESMTP id 4CF7542ED5; Fri, 7 Feb 2025 19:34:54 +0100 (CET) Received: from mail-pl1-f226.google.com (mail-pl1-f226.google.com [209.85.214.226]) by mails.dpdk.org (Postfix) with ESMTP id 0986542E90 for ; Fri, 7 Feb 2025 19:34:52 +0100 (CET) Received: by mail-pl1-f226.google.com with SMTP id d9443c01a7336-21f4a4fbb35so26194405ad.0 for ; Fri, 07 Feb 2025 10:34:51 -0800 (PST) DKIM-Signature: v=1; a=rsa-sha256; c=relaxed/relaxed; d=iol.unh.edu; s=unh-iol; t=1738953291; x=1739558091; darn=dpdk.org; h=references:in-reply-to:cc:to:from:subject:message-id:date:from:to :cc:subject:date:message-id:reply-to; bh=9Fk86ALKI0Tf2BF/P9ddIMzrDN6sU2W3RD54a1jSAi8=; b=jEwh2gh0ypUfqYHkRXCvxlNGah5S0WLOm6Neak9YtffrbvDwLMR0YoB00neK1Lu9lO j15hV5VdWP7AYTHzvv8zSbi5S+NqdJcFQgC4FtqNMHyNIQep3R26reyOtFaLJXriI9lg Z3s/lAAKuNN3drdGdcHSbrY81cw87d778FkrQ= X-Google-DKIM-Signature: v=1; a=rsa-sha256; c=relaxed/relaxed; d=1e100.net; s=20230601; t=1738953291; x=1739558091; h=references:in-reply-to:cc:to:from:subject:message-id:date :x-gm-message-state:from:to:cc:subject:date:message-id:reply-to; bh=9Fk86ALKI0Tf2BF/P9ddIMzrDN6sU2W3RD54a1jSAi8=; b=Tj1U0xGTKh5lL6hqGSlT6sQJPl+Ii0zZXHGef8aTRwf56Cdy6NkTleBHBb7ozN8y/q jGgbKtxj6dgQQIkCGUGU84W6Ow41ujf+X1d1AGKGXJmOBeRISDLk0TfkS6M+u6Lkiavu SrFBHe1K8i2LbXjvTzDKYOTHVy4Tdy62+iulk3FVLnJJ+J6AXod7y2qADwle4+J0KPuX zuK7XWGWxS8Kdc1clBbxrGoZu1s9i9rTubIBWTQQhQjcPz++T4c4J9P7b2NEPb06PELQ 4nMm1lgkFUly5bnyAh4HfVE4x7LkBidKhz0uKNOWqAboQO4X1drFlGMnLDlNap+lJrjF rKnw== X-Gm-Message-State: AOJu0Yz2nVItG//NXlSA3yWpvtAng33uZHu3ODX9alvRwQuPBA2swMQw u1WZy7qVhQL4ueYeAq+iwOQUXU056ZIFyIsyNk8a56/Ok3GdtPy3GAGPY+AtIQAMO278ffWRM8m WI/3bLpOgjbGEYSDveIARLwQnFTjErQX/Jd+vyL2X X-Gm-Gg: ASbGncv8+l4ApXdNx+0Y8YEbT39RGh+Jfhz7RvBAM1XrRAtNN0N2QDtLkouXNnRO5GE ljNvkddOAy0Dkw2BroaOnAEtrOILr09uqkbdsAvjLq4lQpWB2/mZqomX0+e7En1JuTy76Yq9WnE 25g/E6etEj49ObWDjaMSNECcHt2cWBF4a8bZNx6elutgEHdA451tUyOkd6Nrx2I0RzuckkzxTwr EqXTMyCho4q1hwmSvIAcX/ihr+GUlFyJyQtgnScjnWOLySHZfPtTgpBQiFO6Sh/OxgXajeitEVc YkTtRgdLPHEoRA0QzP1+VjgRCUww+Q== X-Google-Smtp-Source: AGHT+IEKonD/FwxXy4wJuWyL/Q8uQ+RaIqXRYZYWO8PE2TEdf6jsTZhAfiZjg/H2zxxTXCc+9OrfBu0wvsgj X-Received: by 2002:a17:902:ce04:b0:21f:49bd:4bc5 with SMTP id d9443c01a7336-21f4fb8f969mr78153445ad.23.1738953291254; Fri, 07 Feb 2025 10:34:51 -0800 (PST) Received: from postal.iol.unh.edu (postal.iol.unh.edu. [132.177.123.84]) by smtp-relay.gmail.com with ESMTPS id d9443c01a7336-21f36877f0csm1972695ad.112.2025.02.07.10.34.51 (version=TLS1_2 cipher=ECDHE-ECDSA-AES128-GCM-SHA256 bits=128/128); Fri, 07 Feb 2025 10:34:51 -0800 (PST) X-Relaying-Domain: iol.unh.edu Date: Fri, 07 Feb 2025 10:34:51 -0800 (PST) Message-ID: <67a6524b.170a0220.7ec43.9d99SMTPIN_ADDED_MISSING@mx.google.com> Received: from [172.21.0.13] (unknown [172.18.0.240]) by postal.iol.unh.edu (Postfix) with ESMTP id AE0B66052477; Fri, 7 Feb 2025 13:34:50 -0500 (EST) Subject: |SUCCESS| pw149082 [PATCH] [v1,1/1] dts: add EAL sanity check suite From: dpdklab@iol.unh.edu To: Test Report Cc: dpdk-test-reports@iol.unh.edu In-Reply-To: <20241209215406.6982-2-dmarx@iol.unh.edu> References: <20241209215406.6982-2-dmarx@iol.unh.edu> Content-Type: text/plain X-BeenThere: test-report@dpdk.org X-Mailman-Version: 2.1.29 Precedence: list List-Id: automatic DPDK test reports List-Unsubscribe: , List-Archive: List-Post: List-Help: List-Subscribe: , Errors-To: test-report-bounces@dpdk.org Test-Label: iol-compile-amd64-testing Test-Status: SUCCESS http://dpdk.org/patch/149082 _Testing PASS_ Submitter: Dean Marx Date: Monday, December 09 2024 21:54:06 DPDK git baseline: Repo:dpdk Branch: master CommitID:7df61db6c387703a36306c1aea92225921e2eeb2 149082 --> testing pass Test environment and result as below: +---------------------+--------------------+------------------+-------------------+-------------------+-------------------------+----------------------+ | Environment | dpdk_meson_compile | dpdk_compile_ovs | dpdk_compile_spdk | dpdk_msvc_compile | dpdk_llvm_clang_compile | dpdk_mingw64_compile | +=====================+====================+==================+===================+===================+=========================+======================+ | CentOS Stream 9 | PASS | PASS | PASS | SKIPPED | SKIPPED | SKIPPED | +---------------------+--------------------+------------------+-------------------+-------------------+-------------------------+----------------------+ | Fedora 39 | PASS | PASS | PASS | SKIPPED | SKIPPED | SKIPPED | +---------------------+--------------------+------------------+-------------------+-------------------+-------------------------+----------------------+ | Fedora 40 | PASS | PASS | PASS | SKIPPED | SKIPPED | SKIPPED | +---------------------+--------------------+------------------+-------------------+-------------------+-------------------------+----------------------+ | Debian 12 | PASS | PASS | PASS | SKIPPED | SKIPPED | SKIPPED | +---------------------+--------------------+------------------+-------------------+-------------------+-------------------------+----------------------+ | Fedora 39 (Clang) | PASS | PASS | PASS | SKIPPED | SKIPPED | SKIPPED | +---------------------+--------------------+------------------+-------------------+-------------------+-------------------------+----------------------+ | Fedora 40 (Clang) | PASS | PASS | PASS | SKIPPED | SKIPPED | SKIPPED | +---------------------+--------------------+------------------+-------------------+-------------------+-------------------------+----------------------+ | Ubuntu 20.04 | PASS | SKIPPED | SKIPPED | SKIPPED | SKIPPED | SKIPPED | +---------------------+--------------------+------------------+-------------------+-------------------+-------------------------+----------------------+ | openSUSE Leap 15 | PASS | PASS | SKIPPED | SKIPPED | SKIPPED | SKIPPED | +---------------------+--------------------+------------------+-------------------+-------------------+-------------------------+----------------------+ | RHEL9 | PASS | PASS | SKIPPED | SKIPPED | SKIPPED | SKIPPED | +---------------------+--------------------+------------------+-------------------+-------------------+-------------------------+----------------------+ | RHEL8 | PASS | PASS | SKIPPED | SKIPPED | SKIPPED | SKIPPED | +---------------------+--------------------+------------------+-------------------+-------------------+-------------------------+----------------------+ | Ubuntu 22.04 | PASS | PASS | PASS | SKIPPED | SKIPPED | SKIPPED | +---------------------+--------------------+------------------+-------------------+-------------------+-------------------------+----------------------+ | Alpine | PASS | PASS | SKIPPED | SKIPPED | SKIPPED | SKIPPED | +---------------------+--------------------+------------------+-------------------+-------------------+-------------------------+----------------------+ | Ubuntu 24.04 | PASS | PASS | PASS | SKIPPED | SKIPPED | SKIPPED | +---------------------+--------------------+------------------+-------------------+-------------------+-------------------------+----------------------+ | FreeBSD 13.4 | PASS | SKIPPED | SKIPPED | SKIPPED | SKIPPED | SKIPPED | +---------------------+--------------------+------------------+-------------------+-------------------+-------------------------+----------------------+ | FreeBSD 14.2 | PASS | SKIPPED | SKIPPED | SKIPPED | SKIPPED | SKIPPED | +---------------------+--------------------+------------------+-------------------+-------------------+-------------------------+----------------------+ | Windows Server 2022 | SKIPPED | SKIPPED | SKIPPED | PASS | PASS | PASS | +---------------------+--------------------+------------------+-------------------+-------------------+-------------------------+----------------------+ CentOS Stream 9 Kernel: Depends on container host Compiler: gcc 11.5.0 20240719 (Red Hat 11.5.0-2) Fedora 39 Kernel: Depends on container host Compiler: gcc 13.3.1 20240522 (Red Hat 13.3.1-1) Fedora 40 Kernel: Depends on container host Compiler: gcc 14.2.1 20240912 (Red Hat 14.2.1-3) Debian 12 Kernel: Depends on container host Compiler: gcc (Debian 12.2.0-14) 12.2.0 Fedora 39 (Clang) Kernel: Depends on container host Compiler: clang 17.0.6 (Fedora 17.0.6-2.fc39) Fedora 40 (Clang) Kernel: Depends on container host Compiler: clang 18.1.8 (Fedora 18.1.8-1.fc40) Ubuntu 20.04 Kernel: Depends on container host Compiler: gcc (Ubuntu 9.4.0-1ubuntu1~20.04.2) 9.4.0 openSUSE Leap 15 Kernel: Depends on container host Compiler: gcc (SUSE Linux) 7.5.0 RHEL9 Kernel: Depends on container host Compiler: gcc 11.5.0 20240719 (Red Hat 11.5.0-2) RHEL8 Kernel: Depends on container host Compiler: gcc 8.5.0 20210514 (Red Hat 8.5.0-22) Ubuntu 22.04 Kernel: Depends on container host Compiler: gcc (Ubuntu 11.4.0-1ubuntu1~22.04) 11.4.0 Alpine Kernel: Depends on container host Compiler: gcc (Alpine 14.2.0) 14.2.0 Ubuntu 24.04 Kernel: Depends on container host Compiler: gcc (Ubuntu 13.3.0-6ubuntu2~24.04) 13.3.0 FreeBSD 13.4 Kernel: 13.4-RELEASE-p1 Compiler: clang 18.1.6 FreeBSD 14.2 Kernel: 14.2-RELEASE Compiler: clang 18.1.6 Windows Server 2022 Kernel: 10.0.20348.2031 Compiler: clang 15.0.7, gcc 14.1.0 (MinGW), and MSVC VS 19.39.33521 To view detailed results, visit: https://lab.dpdk.org/results/dashboard/patchsets/32106/ UNH-IOL DPDK Community Lab To manage your email subscriptions, visit: https://lab.dpdk.org/results/dashboard/preferences/subscriptions/