From mboxrd@z Thu Jan 1 00:00:00 1970 Return-Path: Received: from mails.dpdk.org (mails.dpdk.org [217.70.189.124]) by inbox.dpdk.org (Postfix) with ESMTP id 58533461BE for ; Fri, 7 Feb 2025 19:34:54 +0100 (CET) Received: from mails.dpdk.org (localhost [127.0.0.1]) by mails.dpdk.org (Postfix) with ESMTP id 565F642EEF; Fri, 7 Feb 2025 19:34:54 +0100 (CET) Received: from mail-qv1-f100.google.com (mail-qv1-f100.google.com [209.85.219.100]) by mails.dpdk.org (Postfix) with ESMTP id 6DA7B42EEB for ; Fri, 7 Feb 2025 19:34:52 +0100 (CET) Received: by mail-qv1-f100.google.com with SMTP id 6a1803df08f44-6e429a885f6so37485066d6.0 for ; Fri, 07 Feb 2025 10:34:52 -0800 (PST) DKIM-Signature: v=1; a=rsa-sha256; c=relaxed/relaxed; d=iol.unh.edu; s=unh-iol; t=1738953292; x=1739558092; darn=dpdk.org; h=cc:to:from:subject:message-id:date:from:to:cc:subject:date :message-id:reply-to; bh=w67dp8Umj8nlfGMNwwuGuDd/MzKIOtZRa5FtfumvkSw=; b=IiUugULjZd+2rYET1FSI8ZFg2R0Kbee173gaQoNOLqCLOI29bH2SJCbs4Ia9V92EU/ 4zjBLFfk1RE5aTCHsseyJd0aURz5jHYhTXo/lOLw34nCUbpJq/NdXxV7v8Cgo3t9UF/X GywHk/hJV+YFtdJNm/1iSnc4V/prm9+8zBAbA= X-Google-DKIM-Signature: v=1; a=rsa-sha256; c=relaxed/relaxed; d=1e100.net; s=20230601; t=1738953292; x=1739558092; h=cc:to:from:subject:message-id:date:x-gm-message-state:from:to:cc :subject:date:message-id:reply-to; bh=w67dp8Umj8nlfGMNwwuGuDd/MzKIOtZRa5FtfumvkSw=; b=UNLNKJrh2RJLv3W+XSojRNNAfwNcCu1g7HWq1VMosjQAFol7ESIbvGdeMk6f066tGT +dyIEK05ZhwUxoYR1QXvPesX+WLRMTISWlzFDAv70Deag5+bPgHJ8gnOtgpi9bapR1il Q/38Ss9YPGcjasIWSb4TYbmwpmSN8F2CbFAf7jdTcVVh8rCrta6ie/G9c4Kq3uWcb0t8 ZUSa5YVj1GW1zKuoaNEyusg+Pt+YBa9N/YXeVBBMbNBz5+nNl8y0ZFkUeFe49tLhu/60 0eOFx7bxfEsUQx1ZAmPCl46qPVVv+tCCE/Y8mV1ohMYEo24LR2XEngpv0kWmwJfPKmcs gCGQ== X-Gm-Message-State: AOJu0YxoH6YX3jBpWGAUiUNNnHsNVi3oYe3AAZfT+8kStYkfkh/3yeTt GGPFjojBtkEq0NjJX8Ch4i9LqnQvNF8q3Vue4FYBuh6blt6SeEkjVr1Tmrcv4iti2JyOzOU888C TAQbBGL/16Hi0OGniEnmGhhf/L65T5xNgoz0Rw1WF X-Gm-Gg: ASbGncv7HX/ygmKqpuAA3/khU/7pqWv3D621QnDcdH7NZeapX3RvCm5cQjYEvbp5HKW ucT3+t2SdQYtP4CLQBD0txrcB+19vwINWgZVEXpg8Yvgy1M0/MxrVtWzSOXBoCQpWEkLdfit130 qlvFkDdH9jguxDOnCp7Ci2k+Z0M7bXs32TUnGOKttp2WoXORfPcbcz/zBH2R6X7M3BpQNYx+D/r u49arsA7IQJ04g/dAva/3qWuPRUn5b44d3QhrzT/9v1PaF64ZcwQfVeO3LjS/Dj2LfY5nUN6FZ7 e6n/A7v27gGyMUSUUKqPr3pmJdtGxg== X-Google-Smtp-Source: AGHT+IFNvYO2iiV+EVV2dY9IppUWIjGMZTdCNzziBDdFG+Z4bQUU0VKU5t5wNZ3lLRs40ajc8dyYfh4I16QW X-Received: by 2002:a05:6214:d69:b0:6e4:2551:7bda with SMTP id 6a1803df08f44-6e44569bb41mr61077276d6.26.1738953291886; Fri, 07 Feb 2025 10:34:51 -0800 (PST) Received: from postal.iol.unh.edu (postal.iol.unh.edu. [132.177.123.84]) by smtp-relay.gmail.com with ESMTPS id 6a1803df08f44-6e44efc2dbasm352546d6.64.2025.02.07.10.34.51 (version=TLS1_2 cipher=ECDHE-ECDSA-AES128-GCM-SHA256 bits=128/128); Fri, 07 Feb 2025 10:34:51 -0800 (PST) X-Relaying-Domain: iol.unh.edu Date: Fri, 07 Feb 2025 10:34:51 -0800 (PST) Message-ID: <67a6524b.d40a0220.b1239.19b5SMTPIN_ADDED_MISSING@mx.google.com> Received: from [172.21.0.6] (unknown [172.18.0.240]) by postal.iol.unh.edu (Postfix) with ESMTP id 9632F6052477; Fri, 7 Feb 2025 13:34:51 -0500 (EST) Subject: |SUCCESS| [GIT MASTER] 7df61db6c387703a36306c1aea92225921e2eeb2 From: dpdklab@iol.unh.edu To: Test Report Cc: dpdk-test-reports@iol.unh.edu Content-Type: text/plain X-BeenThere: test-report@dpdk.org X-Mailman-Version: 2.1.29 Precedence: list List-Id: automatic DPDK test reports List-Unsubscribe: , List-Archive: List-Post: List-Help: List-Subscribe: , Errors-To: test-report-bounces@dpdk.org _Testing PASS_ Branch: dpdk 7df61db6c387703a36306c1aea92225921e2eeb2 --> testing pass Test environment and result as below: +---------------------+--------------------+------------------+-------------------+-------------------------+-------------------+----------------------+ | Environment | dpdk_meson_compile | dpdk_compile_ovs | dpdk_compile_spdk | dpdk_llvm_clang_compile | dpdk_msvc_compile | dpdk_mingw64_compile | +=====================+====================+==================+===================+=========================+===================+======================+ | CentOS Stream 9 | PASS | PASS | PASS | SKIPPED | SKIPPED | SKIPPED | +---------------------+--------------------+------------------+-------------------+-------------------------+-------------------+----------------------+ | Debian 12 | PASS | PASS | PASS | SKIPPED | SKIPPED | SKIPPED | +---------------------+--------------------+------------------+-------------------+-------------------------+-------------------+----------------------+ | Fedora 39 (Clang) | PASS | PASS | PASS | SKIPPED | SKIPPED | SKIPPED | +---------------------+--------------------+------------------+-------------------+-------------------------+-------------------+----------------------+ | Fedora 40 (Clang) | PASS | PASS | PASS | SKIPPED | SKIPPED | SKIPPED | +---------------------+--------------------+------------------+-------------------+-------------------------+-------------------+----------------------+ | Fedora 39 | PASS | PASS | PASS | SKIPPED | SKIPPED | SKIPPED | +---------------------+--------------------+------------------+-------------------+-------------------------+-------------------+----------------------+ | Fedora 40 | PASS | PASS | PASS | SKIPPED | SKIPPED | SKIPPED | +---------------------+--------------------+------------------+-------------------+-------------------------+-------------------+----------------------+ | openSUSE Leap 15 | PASS | PASS | SKIPPED | SKIPPED | SKIPPED | SKIPPED | +---------------------+--------------------+------------------+-------------------+-------------------------+-------------------+----------------------+ | RHEL8 | PASS | PASS | SKIPPED | SKIPPED | SKIPPED | SKIPPED | +---------------------+--------------------+------------------+-------------------+-------------------------+-------------------+----------------------+ | RHEL9 | PASS | PASS | SKIPPED | SKIPPED | SKIPPED | SKIPPED | +---------------------+--------------------+------------------+-------------------+-------------------------+-------------------+----------------------+ | Ubuntu 20.04 | PASS | SKIPPED | SKIPPED | SKIPPED | SKIPPED | SKIPPED | +---------------------+--------------------+------------------+-------------------+-------------------------+-------------------+----------------------+ | Ubuntu 22.04 | PASS | PASS | PASS | SKIPPED | SKIPPED | SKIPPED | +---------------------+--------------------+------------------+-------------------+-------------------------+-------------------+----------------------+ | Alpine | PASS | PASS | SKIPPED | SKIPPED | SKIPPED | SKIPPED | +---------------------+--------------------+------------------+-------------------+-------------------------+-------------------+----------------------+ | Arch Linux | PASS | PASS | SKIPPED | SKIPPED | SKIPPED | SKIPPED | +---------------------+--------------------+------------------+-------------------+-------------------------+-------------------+----------------------+ | FreeBSD 13.4 | PASS | SKIPPED | SKIPPED | SKIPPED | SKIPPED | SKIPPED | +---------------------+--------------------+------------------+-------------------+-------------------------+-------------------+----------------------+ | FreeBSD 14.2 | PASS | SKIPPED | SKIPPED | SKIPPED | SKIPPED | SKIPPED | +---------------------+--------------------+------------------+-------------------+-------------------------+-------------------+----------------------+ | Windows Server 2022 | SKIPPED | SKIPPED | SKIPPED | PASS | PASS | PASS | +---------------------+--------------------+------------------+-------------------+-------------------------+-------------------+----------------------+ CentOS Stream 9 Kernel: Depends on container host Compiler: gcc 11.5.0 20240719 (Red Hat 11.5.0-2) Debian 12 Kernel: Depends on container host Compiler: gcc (Debian 12.2.0-14) 12.2.0 Fedora 39 (Clang) Kernel: Depends on container host Compiler: clang 17.0.6 (Fedora 17.0.6-2.fc39) Fedora 40 (Clang) Kernel: Depends on container host Compiler: clang 18.1.8 (Fedora 18.1.8-1.fc40) Fedora 39 Kernel: Depends on container host Compiler: gcc 13.3.1 20240522 (Red Hat 13.3.1-1) Fedora 40 Kernel: Depends on container host Compiler: gcc 14.2.1 20240912 (Red Hat 14.2.1-3) openSUSE Leap 15 Kernel: Depends on container host Compiler: gcc (SUSE Linux) 7.5.0 RHEL8 Kernel: Depends on container host Compiler: gcc 8.5.0 20210514 (Red Hat 8.5.0-22) RHEL9 Kernel: Depends on container host Compiler: gcc 11.5.0 20240719 (Red Hat 11.5.0-2) Ubuntu 20.04 Kernel: Depends on container host Compiler: gcc (Ubuntu 9.4.0-1ubuntu1~20.04.2) 9.4.0 Ubuntu 22.04 Kernel: Depends on container host Compiler: gcc (Ubuntu 11.4.0-1ubuntu1~22.04) 11.4.0 Alpine Kernel: Depends on container host Compiler: gcc (Alpine 14.2.0) 14.2.0 Arch Linux Kernel: Depends on container host Compiler: gcc 14.2.1 20240910 FreeBSD 13.4 Kernel: 13.4-RELEASE-p1 Compiler: clang 18.1.6 FreeBSD 14.2 Kernel: 14.2-RELEASE Compiler: clang 18.1.6 Windows Server 2022 Kernel: 10.0.20348.2031 Compiler: clang 15.0.7, gcc 14.1.0 (MinGW), and MSVC VS 19.39.33521 To view detailed results, visit: https://lab.dpdk.org/results/dashboard/tarballs/31882/ UNH-IOL DPDK Community Lab To manage your email subscriptions, visit: https://lab.dpdk.org/results/dashboard/preferences/subscriptions/