From mboxrd@z Thu Jan 1 00:00:00 1970 Return-Path: Received: from mails.dpdk.org (mails.dpdk.org [217.70.189.124]) by inbox.dpdk.org (Postfix) with ESMTP id 642D2461BE for ; Fri, 7 Feb 2025 19:34:54 +0100 (CET) Received: from mails.dpdk.org (localhost [127.0.0.1]) by mails.dpdk.org (Postfix) with ESMTP id 6202F42EF5; Fri, 7 Feb 2025 19:34:54 +0100 (CET) Received: from mail-pl1-f225.google.com (mail-pl1-f225.google.com [209.85.214.225]) by mails.dpdk.org (Postfix) with ESMTP id 247A242ED5 for ; Fri, 7 Feb 2025 19:34:53 +0100 (CET) Received: by mail-pl1-f225.google.com with SMTP id d9443c01a7336-21f49837d36so23925565ad.3 for ; Fri, 07 Feb 2025 10:34:53 -0800 (PST) DKIM-Signature: v=1; a=rsa-sha256; c=relaxed/relaxed; d=iol.unh.edu; s=unh-iol; t=1738953292; x=1739558092; darn=dpdk.org; h=references:in-reply-to:cc:to:from:subject:message-id:date:from:to :cc:subject:date:message-id:reply-to; bh=zY9ED4WQjHEOw/GnHNmWTS0Nrua214d0gAfSL2tBCS0=; b=QuNq76iHyE822NCE8vA8ECguAqtKEHKKsRWkj7+DX6+/mt1h75yhkyHvR9PYUHU8EF MwoYlCGKq8bD0QjZexTNlkMDNjgZEg8HNHlva/dBYhjjv9XUiFF/c1z6O3QZdgQdkFCe hoQK0RoUliGl4I8jtNunhJEGVd+ZD0oI8bt/M= X-Google-DKIM-Signature: v=1; a=rsa-sha256; c=relaxed/relaxed; d=1e100.net; s=20230601; t=1738953292; x=1739558092; h=references:in-reply-to:cc:to:from:subject:message-id:date :x-gm-message-state:from:to:cc:subject:date:message-id:reply-to; bh=zY9ED4WQjHEOw/GnHNmWTS0Nrua214d0gAfSL2tBCS0=; b=ApuXr315Qf3+DJ+60gT5VTBkiaWuBZ9h8CKWh/hhy93o3GxSSt7a5DY+AQAg5Z+cAl 8Rt6rEwliCsCXB07FvB0iTQfq7c2QEmkKW3p+ngvC/tfSqxBrd3hOmW3HOI3ts4F9rXp nIk1/EXFaLuu8NRUp75bHawbsZe4qK+VWM1GWzhzyYTJD+PjaT9HfLlVc4NCN9AiaQnt WmZWgE3Ip3I8T5105nrSyJfZFKOHxMJEF3TXwFn2ybCp9D0LHTvITPZVZXL/157Bh1yi e/4KJ+0CodqX5SEEpl9f/5NFV1bnR3d64azsFTIKY/kXaKd3Zvh1KRggQoTx9a5Y28no Pa3g== X-Gm-Message-State: AOJu0YyySJ9/YDuGAX6jIQcPsDTqCzoXAClwg+HyNgAJMO5H0+roGxiI zQheG7B5zGyCo+am35xtvFQ6jWS7j9G+irTabllEYod394x1Pk/7FqZY6kp6IEOneNRfFs2z8g3 OB2uvGQvxZkCMghl/IFQ4EIKA58KFCbHDPwGMG/N3 X-Gm-Gg: ASbGncuRpjBu2IiYsWMwINg1NvwQJa7TxJSQf4l0qD8RtdUHZNmkxZMmMhvT/bCo0T+ usyVEyL9cNWdV+X5FozmrfDO6lRHDxeZrYfxswKRsmAEm/rXq7BS0m9hHefJYRuFqfyCRI60I5c snNDSQiQrC5TJqiKjk6DacuqtXzNXk/RE3shFg+n6wcsx5O3PycNVo8tHvF0zN/dNs2BwFkUW4t mSFytNuT91yTCSyN5HoQVmQr04KCVVZBqATblHDrzSYHhTTUkfz8lIRbveAna9ESUYDTl6xCsNF KVP34NETGcGLO+t98EGxWLkkgQjF5g== X-Google-Smtp-Source: AGHT+IHezUayvWuJpN4rzfxdBG/tp6Bv1O1lRKS6zI080oggupM4I67efhWtZd9wU05uPQGide9NOSuSdwBe X-Received: by 2002:a17:902:e5cf:b0:216:1ad2:1d5 with SMTP id d9443c01a7336-21f4e759e5fmr83905665ad.41.1738953292383; Fri, 07 Feb 2025 10:34:52 -0800 (PST) Received: from postal.iol.unh.edu (postal.iol.unh.edu. [132.177.123.84]) by smtp-relay.gmail.com with ESMTPS id d9443c01a7336-21f36594037sm2059905ad.69.2025.02.07.10.34.52 (version=TLS1_2 cipher=ECDHE-ECDSA-AES128-GCM-SHA256 bits=128/128); Fri, 07 Feb 2025 10:34:52 -0800 (PST) X-Relaying-Domain: iol.unh.edu Date: Fri, 07 Feb 2025 10:34:52 -0800 (PST) Message-ID: <67a6524c.170a0220.2e9272.ad50SMTPIN_ADDED_MISSING@mx.google.com> Received: from [172.21.0.8] (unknown [172.18.0.240]) by postal.iol.unh.edu (Postfix) with ESMTP id 8AFC9605247D; Fri, 7 Feb 2025 13:34:21 -0500 (EST) Subject: |SUCCESS| pw149123 [PATCH] [v2] MAINTAINERS: change maintainer for n From: dpdklab@iol.unh.edu To: Test Report Cc: dpdk-test-reports@iol.unh.edu In-Reply-To: <20241210204156.15393-1-stephen@networkplumber.org> References: <20241210204156.15393-1-stephen@networkplumber.org> Content-Type: text/plain X-BeenThere: test-report@dpdk.org X-Mailman-Version: 2.1.29 Precedence: list List-Id: automatic DPDK test reports List-Unsubscribe: , List-Archive: List-Post: List-Help: List-Subscribe: , Errors-To: test-report-bounces@dpdk.org Test-Label: iol-compile-amd64-testing Test-Status: SUCCESS http://dpdk.org/patch/149123 _Testing PASS_ Submitter: Stephen Hemminger Date: Tuesday, December 10 2024 20:41:55 DPDK git baseline: Repo:dpdk Branch: master CommitID:7df61db6c387703a36306c1aea92225921e2eeb2 149123 --> testing pass Test environment and result as below: +---------------------+--------------------+------------------+-------------------+-------------------------+-------------------+----------------------+ | Environment | dpdk_meson_compile | dpdk_compile_ovs | dpdk_compile_spdk | dpdk_llvm_clang_compile | dpdk_msvc_compile | dpdk_mingw64_compile | +=====================+====================+==================+===================+=========================+===================+======================+ | CentOS Stream 9 | PASS | PASS | PASS | SKIPPED | SKIPPED | SKIPPED | +---------------------+--------------------+------------------+-------------------+-------------------------+-------------------+----------------------+ | RHEL9 | PASS | PASS | SKIPPED | SKIPPED | SKIPPED | SKIPPED | +---------------------+--------------------+------------------+-------------------+-------------------------+-------------------+----------------------+ | Fedora 39 | PASS | PASS | PASS | SKIPPED | SKIPPED | SKIPPED | +---------------------+--------------------+------------------+-------------------+-------------------------+-------------------+----------------------+ | Fedora 39 (Clang) | PASS | PASS | PASS | SKIPPED | SKIPPED | SKIPPED | +---------------------+--------------------+------------------+-------------------+-------------------------+-------------------+----------------------+ | Debian 12 | PASS | PASS | PASS | SKIPPED | SKIPPED | SKIPPED | +---------------------+--------------------+------------------+-------------------+-------------------------+-------------------+----------------------+ | Fedora 40 | PASS | PASS | PASS | SKIPPED | SKIPPED | SKIPPED | +---------------------+--------------------+------------------+-------------------+-------------------------+-------------------+----------------------+ | Fedora 40 (Clang) | PASS | PASS | PASS | SKIPPED | SKIPPED | SKIPPED | +---------------------+--------------------+------------------+-------------------+-------------------------+-------------------+----------------------+ | RHEL8 | PASS | PASS | SKIPPED | SKIPPED | SKIPPED | SKIPPED | +---------------------+--------------------+------------------+-------------------+-------------------------+-------------------+----------------------+ | openSUSE Leap 15 | PASS | PASS | SKIPPED | SKIPPED | SKIPPED | SKIPPED | +---------------------+--------------------+------------------+-------------------+-------------------------+-------------------+----------------------+ | Ubuntu 22.04 | PASS | PASS | PASS | SKIPPED | SKIPPED | SKIPPED | +---------------------+--------------------+------------------+-------------------+-------------------------+-------------------+----------------------+ | Ubuntu 20.04 | PASS | SKIPPED | SKIPPED | SKIPPED | SKIPPED | SKIPPED | +---------------------+--------------------+------------------+-------------------+-------------------------+-------------------+----------------------+ | Ubuntu 24.04 | PASS | PASS | PASS | SKIPPED | SKIPPED | SKIPPED | +---------------------+--------------------+------------------+-------------------+-------------------------+-------------------+----------------------+ | Alpine | PASS | PASS | SKIPPED | SKIPPED | SKIPPED | SKIPPED | +---------------------+--------------------+------------------+-------------------+-------------------------+-------------------+----------------------+ | FreeBSD 13.4 | PASS | SKIPPED | SKIPPED | SKIPPED | SKIPPED | SKIPPED | +---------------------+--------------------+------------------+-------------------+-------------------------+-------------------+----------------------+ | FreeBSD 14.2 | PASS | SKIPPED | SKIPPED | SKIPPED | SKIPPED | SKIPPED | +---------------------+--------------------+------------------+-------------------+-------------------------+-------------------+----------------------+ | Windows Server 2022 | SKIPPED | SKIPPED | SKIPPED | PASS | PASS | PASS | +---------------------+--------------------+------------------+-------------------+-------------------------+-------------------+----------------------+ CentOS Stream 9 Kernel: Depends on container host Compiler: gcc 11.5.0 20240719 (Red Hat 11.5.0-2) RHEL9 Kernel: Depends on container host Compiler: gcc 11.5.0 20240719 (Red Hat 11.5.0-2) Fedora 39 Kernel: Depends on container host Compiler: gcc 13.3.1 20240522 (Red Hat 13.3.1-1) Fedora 39 (Clang) Kernel: Depends on container host Compiler: clang 17.0.6 (Fedora 17.0.6-2.fc39) Debian 12 Kernel: Depends on container host Compiler: gcc (Debian 12.2.0-14) 12.2.0 Fedora 40 Kernel: Depends on container host Compiler: gcc 14.2.1 20240912 (Red Hat 14.2.1-3) Fedora 40 (Clang) Kernel: Depends on container host Compiler: clang 18.1.8 (Fedora 18.1.8-1.fc40) RHEL8 Kernel: Depends on container host Compiler: gcc 8.5.0 20210514 (Red Hat 8.5.0-22) openSUSE Leap 15 Kernel: Depends on container host Compiler: gcc (SUSE Linux) 7.5.0 Ubuntu 22.04 Kernel: Depends on container host Compiler: gcc (Ubuntu 11.4.0-1ubuntu1~22.04) 11.4.0 Ubuntu 20.04 Kernel: Depends on container host Compiler: gcc (Ubuntu 9.4.0-1ubuntu1~20.04.2) 9.4.0 Ubuntu 24.04 Kernel: Depends on container host Compiler: gcc (Ubuntu 13.3.0-6ubuntu2~24.04) 13.3.0 Alpine Kernel: Depends on container host Compiler: gcc (Alpine 14.2.0) 14.2.0 FreeBSD 13.4 Kernel: 13.4-RELEASE-p1 Compiler: clang 18.1.6 FreeBSD 14.2 Kernel: 14.2-RELEASE Compiler: clang 18.1.6 Windows Server 2022 Kernel: 10.0.20348.2031 Compiler: clang 15.0.7, gcc 14.1.0 (MinGW), and MSVC VS 19.39.33521 To view detailed results, visit: https://lab.dpdk.org/results/dashboard/patchsets/32116/ UNH-IOL DPDK Community Lab To manage your email subscriptions, visit: https://lab.dpdk.org/results/dashboard/preferences/subscriptions/