From mboxrd@z Thu Jan 1 00:00:00 1970 Return-Path: Received: from mails.dpdk.org (mails.dpdk.org [217.70.189.124]) by inbox.dpdk.org (Postfix) with ESMTP id 8C7A0461BE for ; Fri, 7 Feb 2025 19:35:02 +0100 (CET) Received: from mails.dpdk.org (localhost [127.0.0.1]) by mails.dpdk.org (Postfix) with ESMTP id 89DCC42ED5; Fri, 7 Feb 2025 19:35:02 +0100 (CET) Received: from mail-il1-f225.google.com (mail-il1-f225.google.com [209.85.166.225]) by mails.dpdk.org (Postfix) with ESMTP id 7A86E42E90 for ; Fri, 7 Feb 2025 19:35:01 +0100 (CET) Received: by mail-il1-f225.google.com with SMTP id e9e14a558f8ab-3cfce97a3d9so8327045ab.2 for ; Fri, 07 Feb 2025 10:35:01 -0800 (PST) DKIM-Signature: v=1; a=rsa-sha256; c=relaxed/relaxed; d=iol.unh.edu; s=unh-iol; t=1738953301; x=1739558101; darn=dpdk.org; h=references:in-reply-to:cc:to:from:subject:message-id:date:from:to :cc:subject:date:message-id:reply-to; bh=xKfZpRgWQir3qvxGpmHVlyqWNc7tlZcT5Mz6FAMB6kg=; b=EmNbsNulSvLnTrLtiwh1oobBWwp1qUxkcnBXGGk0wWEPDaJE2tmSASpEVqwMvtETaI yuESG6PfC19EibBCXrutYNqCfUYCFareAqXHj8b4ep6t+p+OUt5/euq1xbwXIAj0mjQ3 fcndrVIiVhAoZnc66hwtpwwwBIZ7Lt2UNLo2Y= X-Google-DKIM-Signature: v=1; a=rsa-sha256; c=relaxed/relaxed; d=1e100.net; s=20230601; t=1738953301; x=1739558101; h=references:in-reply-to:cc:to:from:subject:message-id:date :x-gm-message-state:from:to:cc:subject:date:message-id:reply-to; bh=xKfZpRgWQir3qvxGpmHVlyqWNc7tlZcT5Mz6FAMB6kg=; b=f0ASaUX5UvdpO1IBsJtRj6Zv8g7TOhNGUw7Vcs5HLGG4VQpYSOzzIMxmyi8xBQ4LAN tGEZZ0EvgKPKMqsJfqh+b1HSPnlM58mWRlwu07dBLURkhbOMtbTGc1T8a56/8ccvXUAv Zr6XRbUhUTzxJUeaummf+TBbqci+sQzA6AKpa45mZlI/ZSlqON/YvIBMGDHAvbAy8NoV l1ta09LjK7pL0Q4meToIsfZXWyhPh/wlRLc3K1KzdLMADIUktFbo4hw0UOzdP817szHb q3XbNvmMAB80VlJ8zlSpOkI40EQqZ4+6GFzGz8Zp6GKYih4LDNh/U/174SbioF22q7MW +bfw== X-Gm-Message-State: AOJu0YxHGqG0R+ZqXhVtcww4krLXr3LH2PNGBu0ZkrjoXN8Ya/JpR9bQ AxXowOzVUbnfO34ez1dCNXahnYZV/cVYmLmiDRXlm4hpmLoCbkPGnxg++nMUTKP/p6IED9E/AXI r9sxZVxOZF4MA9k/LZrfSBjaVBQgeXpxdWL3zyoOx X-Gm-Gg: ASbGncvISTPkzMO/PkU7e9z38SazqlOiaKPLJd+6jsgkWRs7FpJZaXAPFfW7VJvejq8 MR1lMTC1sCHcfTjHHGXDvU5fy7jsp0lwi5K7iGCoVrTXvE7uqDZiwTVI/GdPPSuZ01He8RRHq5k It88PA5CTRRv0jdWPHG54p7BitY0kyQQxxYsyRM4V/ntVNVkWvGGKZmAY1lV2F40doaKS8ulrWs k7a2FwLH8KPmacvqvc2+KC/isVUbQLDzS1U4+DWHQgbHhseiXK2fXs1QiFYLMqsoKnJhuMC45+z j5mZokjjf0PkZP44E1DChXKQC2LPMg== X-Google-Smtp-Source: AGHT+IH8pe2m3kgLsWHHTyILRQIXQjKix9IRiNNXE1fwTuK9ciL6CHYXlFgeEOV9M1jNc8J7U0L/fpyCuv++ X-Received: by 2002:a05:6e02:1a41:b0:3cf:bac5:d90c with SMTP id e9e14a558f8ab-3d13defdaebmr32927295ab.18.1738953300880; Fri, 07 Feb 2025 10:35:00 -0800 (PST) Received: from postal.iol.unh.edu (postal.iol.unh.edu. [132.177.123.84]) by smtp-relay.gmail.com with ESMTPS id e9e14a558f8ab-3d05ea1bce4sm2537025ab.58.2025.02.07.10.35.00 (version=TLS1_2 cipher=ECDHE-ECDSA-AES128-GCM-SHA256 bits=128/128); Fri, 07 Feb 2025 10:35:00 -0800 (PST) X-Relaying-Domain: iol.unh.edu Date: Fri, 07 Feb 2025 10:35:00 -0800 (PST) Message-ID: <67a65254.920a0220.7901a.cf9cSMTPIN_ADDED_MISSING@mx.google.com> Received: from [172.21.0.8] (unknown [172.18.0.240]) by postal.iol.unh.edu (Postfix) with ESMTP id 5E6BA6052477; Fri, 7 Feb 2025 13:35:00 -0500 (EST) Subject: |SUCCESS| pw149081 [PATCH] [RFC,1/1] dts: add SUT cleanup to framewo From: dpdklab@iol.unh.edu To: Test Report Cc: dpdk-test-reports@iol.unh.edu In-Reply-To: <20241209205902.18321-2-dmarx@iol.unh.edu> References: <20241209205902.18321-2-dmarx@iol.unh.edu> Content-Type: text/plain X-BeenThere: test-report@dpdk.org X-Mailman-Version: 2.1.29 Precedence: list List-Id: automatic DPDK test reports List-Unsubscribe: , List-Archive: List-Post: List-Help: List-Subscribe: , Errors-To: test-report-bounces@dpdk.org Test-Label: iol-compile-amd64-testing Test-Status: SUCCESS http://dpdk.org/patch/149081 _Testing PASS_ Submitter: Dean Marx Date: Monday, December 09 2024 20:59:02 DPDK git baseline: Repo:dpdk Branch: master CommitID:7df61db6c387703a36306c1aea92225921e2eeb2 149081 --> testing pass Test environment and result as below: +---------------------+--------------------+------------------+-------------------+-------------------------+-------------------+----------------------+ | Environment | dpdk_meson_compile | dpdk_compile_ovs | dpdk_compile_spdk | dpdk_llvm_clang_compile | dpdk_msvc_compile | dpdk_mingw64_compile | +=====================+====================+==================+===================+=========================+===================+======================+ | CentOS Stream 9 | PASS | PASS | PASS | SKIPPED | SKIPPED | SKIPPED | +---------------------+--------------------+------------------+-------------------+-------------------------+-------------------+----------------------+ | Fedora 39 | PASS | PASS | PASS | SKIPPED | SKIPPED | SKIPPED | +---------------------+--------------------+------------------+-------------------+-------------------------+-------------------+----------------------+ | Debian 12 | PASS | PASS | PASS | SKIPPED | SKIPPED | SKIPPED | +---------------------+--------------------+------------------+-------------------+-------------------------+-------------------+----------------------+ | Fedora 39 (Clang) | PASS | PASS | PASS | SKIPPED | SKIPPED | SKIPPED | +---------------------+--------------------+------------------+-------------------+-------------------------+-------------------+----------------------+ | Fedora 40 | PASS | PASS | PASS | SKIPPED | SKIPPED | SKIPPED | +---------------------+--------------------+------------------+-------------------+-------------------------+-------------------+----------------------+ | Fedora 40 (Clang) | PASS | PASS | PASS | SKIPPED | SKIPPED | SKIPPED | +---------------------+--------------------+------------------+-------------------+-------------------------+-------------------+----------------------+ | openSUSE Leap 15 | PASS | PASS | SKIPPED | SKIPPED | SKIPPED | SKIPPED | +---------------------+--------------------+------------------+-------------------+-------------------------+-------------------+----------------------+ | RHEL8 | PASS | PASS | SKIPPED | SKIPPED | SKIPPED | SKIPPED | +---------------------+--------------------+------------------+-------------------+-------------------------+-------------------+----------------------+ | RHEL9 | PASS | PASS | SKIPPED | SKIPPED | SKIPPED | SKIPPED | +---------------------+--------------------+------------------+-------------------+-------------------------+-------------------+----------------------+ | Ubuntu 20.04 | PASS | SKIPPED | SKIPPED | SKIPPED | SKIPPED | SKIPPED | +---------------------+--------------------+------------------+-------------------+-------------------------+-------------------+----------------------+ | Ubuntu 22.04 | PASS | PASS | PASS | SKIPPED | SKIPPED | SKIPPED | +---------------------+--------------------+------------------+-------------------+-------------------------+-------------------+----------------------+ | Ubuntu 24.04 | PASS | PASS | PASS | SKIPPED | SKIPPED | SKIPPED | +---------------------+--------------------+------------------+-------------------+-------------------------+-------------------+----------------------+ | Alpine | PASS | PASS | SKIPPED | SKIPPED | SKIPPED | SKIPPED | +---------------------+--------------------+------------------+-------------------+-------------------------+-------------------+----------------------+ | FreeBSD 13.4 | PASS | SKIPPED | SKIPPED | SKIPPED | SKIPPED | SKIPPED | +---------------------+--------------------+------------------+-------------------+-------------------------+-------------------+----------------------+ | FreeBSD 14.2 | PASS | SKIPPED | SKIPPED | SKIPPED | SKIPPED | SKIPPED | +---------------------+--------------------+------------------+-------------------+-------------------------+-------------------+----------------------+ | Windows Server 2022 | SKIPPED | SKIPPED | SKIPPED | PASS | PASS | PASS | +---------------------+--------------------+------------------+-------------------+-------------------------+-------------------+----------------------+ CentOS Stream 9 Kernel: Depends on container host Compiler: gcc 11.5.0 20240719 (Red Hat 11.5.0-2) Fedora 39 Kernel: Depends on container host Compiler: gcc 13.3.1 20240522 (Red Hat 13.3.1-1) Debian 12 Kernel: Depends on container host Compiler: gcc (Debian 12.2.0-14) 12.2.0 Fedora 39 (Clang) Kernel: Depends on container host Compiler: clang 17.0.6 (Fedora 17.0.6-2.fc39) Fedora 40 Kernel: Depends on container host Compiler: gcc 14.2.1 20240912 (Red Hat 14.2.1-3) Fedora 40 (Clang) Kernel: Depends on container host Compiler: clang 18.1.8 (Fedora 18.1.8-1.fc40) openSUSE Leap 15 Kernel: Depends on container host Compiler: gcc (SUSE Linux) 7.5.0 RHEL8 Kernel: Depends on container host Compiler: gcc 8.5.0 20210514 (Red Hat 8.5.0-22) RHEL9 Kernel: Depends on container host Compiler: gcc 11.5.0 20240719 (Red Hat 11.5.0-2) Ubuntu 20.04 Kernel: Depends on container host Compiler: gcc (Ubuntu 9.4.0-1ubuntu1~20.04.2) 9.4.0 Ubuntu 22.04 Kernel: Depends on container host Compiler: gcc (Ubuntu 11.4.0-1ubuntu1~22.04) 11.4.0 Ubuntu 24.04 Kernel: Depends on container host Compiler: gcc (Ubuntu 13.3.0-6ubuntu2~24.04) 13.3.0 Alpine Kernel: Depends on container host Compiler: gcc (Alpine 14.2.0) 14.2.0 FreeBSD 13.4 Kernel: 13.4-RELEASE-p1 Compiler: clang 18.1.6 FreeBSD 14.2 Kernel: 14.2-RELEASE Compiler: clang 18.1.6 Windows Server 2022 Kernel: 10.0.20348.2031 Compiler: clang 15.0.7, gcc 14.1.0 (MinGW), and MSVC VS 19.39.33521 To view detailed results, visit: https://lab.dpdk.org/results/dashboard/patchsets/32105/ UNH-IOL DPDK Community Lab To manage your email subscriptions, visit: https://lab.dpdk.org/results/dashboard/preferences/subscriptions/