From mboxrd@z Thu Jan 1 00:00:00 1970 Return-Path: Received: from mails.dpdk.org (mails.dpdk.org [217.70.189.124]) by inbox.dpdk.org (Postfix) with ESMTP id A7C4B461BE for ; Fri, 7 Feb 2025 19:35:05 +0100 (CET) Received: from mails.dpdk.org (localhost [127.0.0.1]) by mails.dpdk.org (Postfix) with ESMTP id 9DF5D42ED5; Fri, 7 Feb 2025 19:35:05 +0100 (CET) Received: from mail-pl1-f227.google.com (mail-pl1-f227.google.com [209.85.214.227]) by mails.dpdk.org (Postfix) with ESMTP id 8B5AA42EE1 for ; Fri, 7 Feb 2025 19:35:02 +0100 (CET) Received: by mail-pl1-f227.google.com with SMTP id d9443c01a7336-21ddab8800bso35254395ad.3 for ; Fri, 07 Feb 2025 10:35:02 -0800 (PST) DKIM-Signature: v=1; a=rsa-sha256; c=relaxed/relaxed; d=iol.unh.edu; s=unh-iol; t=1738953302; x=1739558102; darn=dpdk.org; h=cc:to:from:subject:message-id:date:from:to:cc:subject:date :message-id:reply-to; bh=s4YGxog4ZvJJp3Ckct5Ar99nWb+soLP87e6yTq7abl4=; b=J6Aw++OCcgfLn1KNd6l5BuEJ/8IZ6myBeOuJnsiQEZY14cfUFMe3VG++A57DcZTKc4 ZhGYiWJDRVa5iPhtSjJbD46fP8EtsfgHufekYwfngbfJtbIFynbhHT53DCUQ+nHYHWiM pNXk6gkeyOeuT7rderzMIS7xAG4JsSLQY9gsQ= X-Google-DKIM-Signature: v=1; a=rsa-sha256; c=relaxed/relaxed; d=1e100.net; s=20230601; t=1738953302; x=1739558102; h=cc:to:from:subject:message-id:date:x-gm-message-state:from:to:cc :subject:date:message-id:reply-to; bh=s4YGxog4ZvJJp3Ckct5Ar99nWb+soLP87e6yTq7abl4=; b=FibcYM0QEjYKzV+xC3aU6G/V0c9akc20D2WmIOUkr1m/YyArX3rsytiMsNDMZFtS4L mjXKrvA/+6GK08hZl2DN/vCFpWNh+p8cD0/+4+7npbBDilA3Ej8TzUOXsaBbTgYb0xl9 Du6Hu9UqevA4s/K3l5br99EwSxFu2D1KuPclFjE+7mewscL+v+Rt6O0/Yi8r0p4sI/2g Oy4QBQBTHDfADoIKKQDBYqznM6O8OeY1La1B8NHc2//MbFucfgRz0Xr/d4ahM2YQlcD1 BWDSJ4Igex5HIVy/8Lnee39/6ZzN21II//egWowcVFybyowiozgydL/DGz+Y46L4Zi+E r/Yg== X-Gm-Message-State: AOJu0YxZpjQTBTXCFUsO/5DgD9M9LzZnsTrRto+Tr9qDeW/nh18p71eu b7KDlPBdlhCXrRXIKoYmDp/s96nPHr5TWxdI+Y5h04AtNq6NNZ5yQ72vmvI4lu59Igl7Ae06hxD xEcH8RQykCfdhS+KOhiIaf22PVWTlnHqV X-Gm-Gg: ASbGnctYgu5YZxPiTQwR7ZL+dUFglUgZsqsebpiaQnEbWdfhFWWofhOUZPEjBFoNULC KQv55ilRdtw39NYQ6YRVhPCSl1tDfvQCg2SYF07dxpay9HabAvusl7IylxUN4VpKY33SHHeuj6e KqR7VXjoiQAGCYCVxOBTfcVRao7edOgy8Q1h5EqPMFHgPuZ4Qd8m3aaQB/f1KjfUItzAK4KUcpD Qk7175UndfS/+2Nfgzd9dODaioXYxkwKkMZ+QATktBXxnoXCoCi9vBPMb6AoPWNxMQrz1RkvT9K CgIRZkd6aMIFLpVYSSBlECz+qrUfmA== X-Google-Smtp-Source: AGHT+IE6/i5T0s3DWsR+DNlQ0TuKctXbW0oIHlBz+MLY3NqPplOGvnB7fPLpamtQdaSDdSOGSmFVBNeledqv X-Received: by 2002:a17:902:fc4e:b0:215:854c:a71a with SMTP id d9443c01a7336-21f4e726105mr70760535ad.34.1738953301743; Fri, 07 Feb 2025 10:35:01 -0800 (PST) Received: from postal.iol.unh.edu (postal.iol.unh.edu. [132.177.123.84]) by smtp-relay.gmail.com with ESMTPS id d9443c01a7336-21f3658d297sm2126445ad.62.2025.02.07.10.35.01 (version=TLS1_2 cipher=ECDHE-ECDSA-AES128-GCM-SHA256 bits=128/128); Fri, 07 Feb 2025 10:35:01 -0800 (PST) X-Relaying-Domain: iol.unh.edu Date: Fri, 07 Feb 2025 10:35:01 -0800 (PST) Message-ID: <67a65255.170a0220.a860a.aa22SMTPIN_ADDED_MISSING@mx.google.com> Received: from [172.21.0.7] (unknown [172.18.0.240]) by postal.iol.unh.edu (Postfix) with ESMTP id 3B5CE6052477; Fri, 7 Feb 2025 13:35:01 -0500 (EST) Subject: |SUCCESS| [GIT MASTER] e8eb14e00d56027bef8569d68cf00e39670edca2 From: dpdklab@iol.unh.edu To: Test Report Cc: dpdk-test-reports@iol.unh.edu, Xueming Li , Christian Ehrhardt , Kevin Traynor , Luca Boccassi Content-Type: text/plain X-BeenThere: test-report@dpdk.org X-Mailman-Version: 2.1.29 Precedence: list List-Id: automatic DPDK test reports List-Unsubscribe: , List-Archive: List-Post: List-Help: List-Subscribe: , Errors-To: test-report-bounces@dpdk.org _Testing PASS_ Branch: tags/v23.11 e8eb14e00d56027bef8569d68cf00e39670edca2 --> testing pass Test environment and result as below: +---------------------+--------------------+------------------+-------------------+-------------------+-------------------------+----------------------+ | Environment | dpdk_meson_compile | dpdk_compile_ovs | dpdk_compile_spdk | dpdk_msvc_compile | dpdk_llvm_clang_compile | dpdk_mingw64_compile | +=====================+====================+==================+===================+===================+=========================+======================+ | CentOS Stream 9 | PASS | PASS | PASS | SKIPPED | SKIPPED | SKIPPED | +---------------------+--------------------+------------------+-------------------+-------------------+-------------------------+----------------------+ | Fedora 39 (Clang) | PASS | PASS | PASS | SKIPPED | SKIPPED | SKIPPED | +---------------------+--------------------+------------------+-------------------+-------------------+-------------------------+----------------------+ | Debian 12 | PASS | PASS | PASS | SKIPPED | SKIPPED | SKIPPED | +---------------------+--------------------+------------------+-------------------+-------------------+-------------------------+----------------------+ | Fedora 40 | PASS | PASS | PASS | SKIPPED | SKIPPED | SKIPPED | +---------------------+--------------------+------------------+-------------------+-------------------+-------------------------+----------------------+ | Fedora 40 (Clang) | PASS | PASS | PASS | SKIPPED | SKIPPED | SKIPPED | +---------------------+--------------------+------------------+-------------------+-------------------+-------------------------+----------------------+ | Fedora 39 | PASS | PASS | PASS | SKIPPED | SKIPPED | SKIPPED | +---------------------+--------------------+------------------+-------------------+-------------------+-------------------------+----------------------+ | Ubuntu 20.04 | PASS | SKIPPED | SKIPPED | SKIPPED | SKIPPED | SKIPPED | +---------------------+--------------------+------------------+-------------------+-------------------+-------------------------+----------------------+ | RHEL9 | PASS | PASS | SKIPPED | SKIPPED | SKIPPED | SKIPPED | +---------------------+--------------------+------------------+-------------------+-------------------+-------------------------+----------------------+ | RHEL8 | PASS | PASS | SKIPPED | SKIPPED | SKIPPED | SKIPPED | +---------------------+--------------------+------------------+-------------------+-------------------+-------------------------+----------------------+ | Ubuntu 22.04 | PASS | PASS | PASS | SKIPPED | SKIPPED | SKIPPED | +---------------------+--------------------+------------------+-------------------+-------------------+-------------------------+----------------------+ | openSUSE Leap 15 | PASS | PASS | SKIPPED | SKIPPED | SKIPPED | SKIPPED | +---------------------+--------------------+------------------+-------------------+-------------------+-------------------------+----------------------+ | FreeBSD 13.4 | PASS | SKIPPED | SKIPPED | SKIPPED | SKIPPED | SKIPPED | +---------------------+--------------------+------------------+-------------------+-------------------+-------------------------+----------------------+ | Ubuntu 24.04 | PASS | PASS | PASS | SKIPPED | SKIPPED | SKIPPED | +---------------------+--------------------+------------------+-------------------+-------------------+-------------------------+----------------------+ | Alpine | PASS | PASS | SKIPPED | SKIPPED | SKIPPED | SKIPPED | +---------------------+--------------------+------------------+-------------------+-------------------+-------------------------+----------------------+ | FreeBSD 14.2 | PASS | SKIPPED | SKIPPED | SKIPPED | SKIPPED | SKIPPED | +---------------------+--------------------+------------------+-------------------+-------------------+-------------------------+----------------------+ | Windows Server 2022 | SKIPPED | SKIPPED | SKIPPED | PASS | PASS | PASS | +---------------------+--------------------+------------------+-------------------+-------------------+-------------------------+----------------------+ CentOS Stream 9 Kernel: Depends on container host Compiler: gcc 11.5.0 20240719 (Red Hat 11.5.0-2) Fedora 39 (Clang) Kernel: Depends on container host Compiler: clang 17.0.6 (Fedora 17.0.6-2.fc39) Debian 12 Kernel: Depends on container host Compiler: gcc (Debian 12.2.0-14) 12.2.0 Fedora 40 Kernel: Depends on container host Compiler: gcc 14.2.1 20240912 (Red Hat 14.2.1-3) Fedora 40 (Clang) Kernel: Depends on container host Compiler: clang 18.1.8 (Fedora 18.1.8-1.fc40) Fedora 39 Kernel: Depends on container host Compiler: gcc 13.3.1 20240522 (Red Hat 13.3.1-1) Ubuntu 20.04 Kernel: Depends on container host Compiler: gcc (Ubuntu 9.4.0-1ubuntu1~20.04.2) 9.4.0 RHEL9 Kernel: Depends on container host Compiler: gcc 11.5.0 20240719 (Red Hat 11.5.0-2) RHEL8 Kernel: Depends on container host Compiler: gcc 8.5.0 20210514 (Red Hat 8.5.0-22) Ubuntu 22.04 Kernel: Depends on container host Compiler: gcc (Ubuntu 11.4.0-1ubuntu1~22.04) 11.4.0 openSUSE Leap 15 Kernel: Depends on container host Compiler: gcc (SUSE Linux) 7.5.0 FreeBSD 13.4 Kernel: 13.4-RELEASE-p1 Compiler: clang 18.1.6 Ubuntu 24.04 Kernel: Depends on container host Compiler: gcc (Ubuntu 13.3.0-6ubuntu2~24.04) 13.3.0 Alpine Kernel: Depends on container host Compiler: gcc (Alpine 14.2.0) 14.2.0 FreeBSD 14.2 Kernel: 14.2-RELEASE Compiler: clang 18.1.6 Windows Server 2022 Kernel: 10.0.20348.2031 Compiler: clang 15.0.7, gcc 14.1.0 (MinGW), and MSVC VS 19.39.33521 To view detailed results, visit: https://lab.dpdk.org/results/dashboard/tarballs/31879/ UNH-IOL DPDK Community Lab To manage your email subscriptions, visit: https://lab.dpdk.org/results/dashboard/preferences/subscriptions/