From mboxrd@z Thu Jan 1 00:00:00 1970 Return-Path: Received: from mails.dpdk.org (mails.dpdk.org [217.70.189.124]) by inbox.dpdk.org (Postfix) with ESMTP id B3E92461BE for ; Fri, 7 Feb 2025 19:35:09 +0100 (CET) Received: from mails.dpdk.org (localhost [127.0.0.1]) by mails.dpdk.org (Postfix) with ESMTP id B09B642ED5; Fri, 7 Feb 2025 19:35:09 +0100 (CET) Received: from mail-yb1-f227.google.com (mail-yb1-f227.google.com [209.85.219.227]) by mails.dpdk.org (Postfix) with ESMTP id 3499242E90 for ; Fri, 7 Feb 2025 19:35:08 +0100 (CET) Received: by mail-yb1-f227.google.com with SMTP id 3f1490d57ef6-e5372a2fbddso2088121276.3 for ; Fri, 07 Feb 2025 10:35:08 -0800 (PST) DKIM-Signature: v=1; a=rsa-sha256; c=relaxed/relaxed; d=iol.unh.edu; s=unh-iol; t=1738953307; x=1739558107; darn=dpdk.org; h=references:in-reply-to:cc:to:from:subject:message-id:date:from:to :cc:subject:date:message-id:reply-to; bh=1shEAzARc7/ZjHcWb/vrWWwBSVjZPW1PxMsZKkrcohI=; b=DDBHSr/wG3DKT35sHQTbetXjo9gEqkoEUHXZbdYnfWcnEaPAK85q7w3vA4p5byOzfF zq3eBAeYdyF55IerITThkgvymK9Uf9wKa4fYh7xvy5Rw2yWBInZOOfpR2y45BkTegvCb LJKi5GuGv1YS2sZJpkwesJWjtgSru7/4TUWBw= X-Google-DKIM-Signature: v=1; a=rsa-sha256; c=relaxed/relaxed; d=1e100.net; s=20230601; t=1738953307; x=1739558107; h=references:in-reply-to:cc:to:from:subject:message-id:date :x-gm-message-state:from:to:cc:subject:date:message-id:reply-to; bh=1shEAzARc7/ZjHcWb/vrWWwBSVjZPW1PxMsZKkrcohI=; b=FSrMsFMpsINRSxbQ+QwK3Sh/UvEFD5XHMwv8RB08VvhiV8ZeehsZBEByfKloVFzCvx bVJjbBMk8JeGAR9DP3OE/iQAeArAbda6HIMvHQ4032/q6ExzOH59OidUYbyev5WwcPL5 s/D7UWEJKuz8Ipz3UB4pXXmaVGAXl+R109eJ/1V6cXFC8RqnOivsjRjuZ9+AV7Kn635V rlKa0leEmaB4/N23yO4HtkOpn9HeqDjNFINu+E6jzyTNIOfEBgBjiYxfiAurSBGwzwyL hJT4/pO7cqas6XrJUzwllsXJBUQ5MSJeJJQyPpH/4i9/CS4gobfhsvlFHDWeGt3uswij ne5g== X-Gm-Message-State: AOJu0YwvKSRd+eVtbw86o/e7Nv8aqrUSRFUWAdydWfEjNeF7ooM8iMou AgBzqCpjcCNARlEhSRyR68mPoudp2FVTuoMCz16zxB+UZQcq+X3cUCYix7F77qPP1ZpkcEubgZk Ch3bGuzJA/8n5pEwYAmxk1EUmCULVX2HZ4s0UMxiV X-Gm-Gg: ASbGncvy1Kthr1/uBj28xEWH8LfsR6+7nEHmOZmIhkjGfEy4GzG3X1Gd3f48Gs84NUi Oa35vkeFoo9rYt1QYCEceNeDBn8399JofyqHqpA/8O/uO06SIwRLe1Tj4wU18GtnO2OiUl4Qwhu X0TJzhuFR2k9aWkK0LYfqLOgzFBlpopQmNemf3zfQ5xqApuE7MbSTshYSDBh9fJLR6V02/cfReu v2KZfMyNGxnlgZtpY2Ir5Ft/2ojge784qFATMhJoq0TjW2QxFPHzFlq1kZMXyNlpvdI9LYakNBp BPfDzgbzyxT9kjfT+cmKwjXLgECcrw== X-Google-Smtp-Source: AGHT+IGifdhlxIGs5T13JlAfhj13i4U5VuX2mF0csWv+v9tzoOj5FLsSu2cxEB2FiZ7+7c6+9oyKha9cKUF0 X-Received: by 2002:a05:6902:150d:b0:e58:14b:6f99 with SMTP id 3f1490d57ef6-e5b46167bb7mr3916169276.1.1738953307578; Fri, 07 Feb 2025 10:35:07 -0800 (PST) Received: from postal.iol.unh.edu (postal.iol.unh.edu. [132.177.123.84]) by smtp-relay.gmail.com with ESMTPS id 3f1490d57ef6-e5b3a44d4fbsm97567276.25.2025.02.07.10.35.07 (version=TLS1_2 cipher=ECDHE-ECDSA-AES128-GCM-SHA256 bits=128/128); Fri, 07 Feb 2025 10:35:07 -0800 (PST) X-Relaying-Domain: iol.unh.edu Date: Fri, 07 Feb 2025 10:35:07 -0800 (PST) Message-ID: <67a6525b.250a0220.3abcaa.4cb8SMTPIN_ADDED_MISSING@mx.google.com> Received: from [172.21.0.10] (unknown [172.18.0.240]) by postal.iol.unh.edu (Postfix) with ESMTP id 325C96052471; Fri, 7 Feb 2025 13:34:37 -0500 (EST) Subject: |SUCCESS| pw149106-149111 [PATCH] [6/6] dts: remove old linters and From: dpdklab@iol.unh.edu To: Test Report Cc: dpdk-test-reports@iol.unh.edu In-Reply-To: <20241210103253.3931003-7-luca.vizzarro@arm.com> References: <20241210103253.3931003-7-luca.vizzarro@arm.com> Content-Type: text/plain X-BeenThere: test-report@dpdk.org X-Mailman-Version: 2.1.29 Precedence: list List-Id: automatic DPDK test reports List-Unsubscribe: , List-Archive: List-Post: List-Help: List-Subscribe: , Errors-To: test-report-bounces@dpdk.org Test-Label: iol-compile-amd64-testing Test-Status: SUCCESS http://dpdk.org/patch/149111 _Testing PASS_ Submitter: Luca Vizzarro Date: Tuesday, December 10 2024 10:32:53 DPDK git baseline: Repo:dpdk Branch: master CommitID:7df61db6c387703a36306c1aea92225921e2eeb2 149106-149111 --> testing pass Test environment and result as below: +---------------------+--------------------+------------------+-------------------+-------------------+-------------------------+----------------------+ | Environment | dpdk_meson_compile | dpdk_compile_ovs | dpdk_compile_spdk | dpdk_msvc_compile | dpdk_llvm_clang_compile | dpdk_mingw64_compile | +=====================+====================+==================+===================+===================+=========================+======================+ | CentOS Stream 9 | PASS | PASS | PASS | SKIPPED | SKIPPED | SKIPPED | +---------------------+--------------------+------------------+-------------------+-------------------+-------------------------+----------------------+ | Fedora 39 (Clang) | PASS | PASS | PASS | SKIPPED | SKIPPED | SKIPPED | +---------------------+--------------------+------------------+-------------------+-------------------+-------------------------+----------------------+ | Debian 12 | PASS | PASS | PASS | SKIPPED | SKIPPED | SKIPPED | +---------------------+--------------------+------------------+-------------------+-------------------+-------------------------+----------------------+ | Fedora 39 | PASS | PASS | PASS | SKIPPED | SKIPPED | SKIPPED | +---------------------+--------------------+------------------+-------------------+-------------------+-------------------------+----------------------+ | openSUSE Leap 15 | PASS | PASS | SKIPPED | SKIPPED | SKIPPED | SKIPPED | +---------------------+--------------------+------------------+-------------------+-------------------+-------------------------+----------------------+ | Fedora 40 (Clang) | PASS | PASS | PASS | SKIPPED | SKIPPED | SKIPPED | +---------------------+--------------------+------------------+-------------------+-------------------+-------------------------+----------------------+ | Fedora 40 | PASS | PASS | PASS | SKIPPED | SKIPPED | SKIPPED | +---------------------+--------------------+------------------+-------------------+-------------------+-------------------------+----------------------+ | RHEL8 | PASS | PASS | SKIPPED | SKIPPED | SKIPPED | SKIPPED | +---------------------+--------------------+------------------+-------------------+-------------------+-------------------------+----------------------+ | RHEL9 | PASS | PASS | SKIPPED | SKIPPED | SKIPPED | SKIPPED | +---------------------+--------------------+------------------+-------------------+-------------------+-------------------------+----------------------+ | Ubuntu 20.04 | PASS | SKIPPED | SKIPPED | SKIPPED | SKIPPED | SKIPPED | +---------------------+--------------------+------------------+-------------------+-------------------+-------------------------+----------------------+ | Ubuntu 22.04 | PASS | PASS | PASS | SKIPPED | SKIPPED | SKIPPED | +---------------------+--------------------+------------------+-------------------+-------------------+-------------------------+----------------------+ | Ubuntu 24.04 | PASS | PASS | PASS | SKIPPED | SKIPPED | SKIPPED | +---------------------+--------------------+------------------+-------------------+-------------------+-------------------------+----------------------+ | Alpine | PASS | PASS | SKIPPED | SKIPPED | SKIPPED | SKIPPED | +---------------------+--------------------+------------------+-------------------+-------------------+-------------------------+----------------------+ | FreeBSD 13.4 | PASS | SKIPPED | SKIPPED | SKIPPED | SKIPPED | SKIPPED | +---------------------+--------------------+------------------+-------------------+-------------------+-------------------------+----------------------+ | FreeBSD 14.2 | PASS | SKIPPED | SKIPPED | SKIPPED | SKIPPED | SKIPPED | +---------------------+--------------------+------------------+-------------------+-------------------+-------------------------+----------------------+ | Windows Server 2022 | SKIPPED | SKIPPED | SKIPPED | PASS | PASS | PASS | +---------------------+--------------------+------------------+-------------------+-------------------+-------------------------+----------------------+ CentOS Stream 9 Kernel: Depends on container host Compiler: gcc 11.5.0 20240719 (Red Hat 11.5.0-2) Fedora 39 (Clang) Kernel: Depends on container host Compiler: clang 17.0.6 (Fedora 17.0.6-2.fc39) Debian 12 Kernel: Depends on container host Compiler: gcc (Debian 12.2.0-14) 12.2.0 Fedora 39 Kernel: Depends on container host Compiler: gcc 13.3.1 20240522 (Red Hat 13.3.1-1) openSUSE Leap 15 Kernel: Depends on container host Compiler: gcc (SUSE Linux) 7.5.0 Fedora 40 (Clang) Kernel: Depends on container host Compiler: clang 18.1.8 (Fedora 18.1.8-1.fc40) Fedora 40 Kernel: Depends on container host Compiler: gcc 14.2.1 20240912 (Red Hat 14.2.1-3) RHEL8 Kernel: Depends on container host Compiler: gcc 8.5.0 20210514 (Red Hat 8.5.0-22) RHEL9 Kernel: Depends on container host Compiler: gcc 11.5.0 20240719 (Red Hat 11.5.0-2) Ubuntu 20.04 Kernel: Depends on container host Compiler: gcc (Ubuntu 9.4.0-1ubuntu1~20.04.2) 9.4.0 Ubuntu 22.04 Kernel: Depends on container host Compiler: gcc (Ubuntu 11.4.0-1ubuntu1~22.04) 11.4.0 Ubuntu 24.04 Kernel: Depends on container host Compiler: gcc (Ubuntu 13.3.0-6ubuntu2~24.04) 13.3.0 Alpine Kernel: Depends on container host Compiler: gcc (Alpine 14.2.0) 14.2.0 FreeBSD 13.4 Kernel: 13.4-RELEASE-p1 Compiler: clang 18.1.6 FreeBSD 14.2 Kernel: 14.2-RELEASE Compiler: clang 18.1.6 Windows Server 2022 Kernel: 10.0.20348.2031 Compiler: clang 15.0.7, gcc 14.1.0 (MinGW), and MSVC VS 19.39.33521 To view detailed results, visit: https://lab.dpdk.org/results/dashboard/patchsets/32111/ UNH-IOL DPDK Community Lab To manage your email subscriptions, visit: https://lab.dpdk.org/results/dashboard/preferences/subscriptions/