From mboxrd@z Thu Jan 1 00:00:00 1970 Return-Path: Received: from mails.dpdk.org (mails.dpdk.org [217.70.189.124]) by inbox.dpdk.org (Postfix) with ESMTP id C2401461BE for ; Fri, 7 Feb 2025 19:35:12 +0100 (CET) Received: from mails.dpdk.org (localhost [127.0.0.1]) by mails.dpdk.org (Postfix) with ESMTP id BFB5142ED5; Fri, 7 Feb 2025 19:35:12 +0100 (CET) Received: from mail-il1-f228.google.com (mail-il1-f228.google.com [209.85.166.228]) by mails.dpdk.org (Postfix) with ESMTP id 4AE2342E90 for ; Fri, 7 Feb 2025 19:35:11 +0100 (CET) Received: by mail-il1-f228.google.com with SMTP id e9e14a558f8ab-3cfc8772469so8113545ab.3 for ; Fri, 07 Feb 2025 10:35:11 -0800 (PST) DKIM-Signature: v=1; a=rsa-sha256; c=relaxed/relaxed; d=iol.unh.edu; s=unh-iol; t=1738953310; x=1739558110; darn=dpdk.org; h=references:in-reply-to:cc:to:from:subject:message-id:date:from:to :cc:subject:date:message-id:reply-to; bh=VdrjT9A3fO6CHYJag1XT7xnLIBorJm6b3S+08AVWWgU=; b=EF6sHhjclx3o5I2MJkGtmDrdrE+mha06pn4F7FIyzDUehFKWchc1o6RRD93xTkbJhD +CftzP/gGcfPQ8qPo2xrP88fIaVuP7qmvnONjpKFaOfoZ9c8/DeYZgxAqFwdIR9sNelJ RgIFQvy8lPmSa95JpABXC6KktPhBOPMmaiQAw= X-Google-DKIM-Signature: v=1; a=rsa-sha256; c=relaxed/relaxed; d=1e100.net; s=20230601; t=1738953310; x=1739558110; h=references:in-reply-to:cc:to:from:subject:message-id:date :x-gm-message-state:from:to:cc:subject:date:message-id:reply-to; bh=VdrjT9A3fO6CHYJag1XT7xnLIBorJm6b3S+08AVWWgU=; b=QOCAw0C7zbrBVdwyBWp8aJRtDWNfBXshnoE0I6DFIpNxx7SJTGPgU1tufRAyCzCxgS 1VKjm3OXNZFCEALqDIN0fQPw4hOcc9NR7eNA8kS2QswzuaUueYXL387ELp8ockhcdVji K6ugmaAeiWmGI58TfbfOas1gWrbSUBouTGOYZSZ/u9KvfgCHClaKGiymUkkuy90y5Y14 vuF02iuXsdrx3Rytilhg1BYwQ2EZP3LLqNkHjiRyg20PA8tpsM3BF4Liqf+gu1bjsKl1 scOuk7cH4ZusbbQ9NLfYD+Z9znTRvNiHHv2E8jn9AbzgA0fGZIxdgK+m64n7kO0Xh7Xp g4gg== X-Gm-Message-State: AOJu0YyjUPxScCbVPJ6qpw6g4YUzrTYnspw4GvbW7KRsWsizJ596WzpA BIr8MDNd06HCbtIp/7kvfJfn5e3NeVn5wPIavxw0dRir9KrLMDCVv0NunQz7kwIU9r4rEI9P2RW lYxFILMOm+FLY/ESNvwCudeVmXOHj1tDXwVKctGBX X-Gm-Gg: ASbGncurMtGxQZHscyQaFLK17M9XVaGg38RLn7VYY1NWtBawIBoHeb9ESbgIL/YFhUy Jz1BPV/nls/wOr+wAv9uKW1fv8i1soWs8M/P68XVWhWlw+BY3QqVh1wtXawUap6bO9fCafAdB+Q iPGX5JJ0KxYAjDdmGHbLgVbOWK830CJ0zhdcdhLut+OBPDzndKm4kZNXHG2AqmsIiHdOTF1DLm4 tXh8cJZjx9Z+kOlg25AF6MgJGWJx740zNi3pSpmHS4MkS2bZp2eqUz0nbXHdtREG1n+EXVF6zYj Hk/jRG3RaR8zpFXPXIW7jZGaHQaQ/A== X-Google-Smtp-Source: AGHT+IFjZw8X8aAoKOWZZvAv8VqujUREDjXkOgLcsPlJcsAg0p8KhfY4DfkBikjDmr9M+f4zzzyko05bWIEL X-Received: by 2002:a05:6e02:216a:b0:3cf:fd28:852 with SMTP id e9e14a558f8ab-3d13dd0280fmr43527665ab.3.1738953310685; Fri, 07 Feb 2025 10:35:10 -0800 (PST) Received: from postal.iol.unh.edu (postal.iol.unh.edu. [132.177.123.84]) by smtp-relay.gmail.com with ESMTPS id e9e14a558f8ab-3d05e8d8fa9sm2542955ab.11.2025.02.07.10.35.10 (version=TLS1_2 cipher=ECDHE-ECDSA-AES128-GCM-SHA256 bits=128/128); Fri, 07 Feb 2025 10:35:10 -0800 (PST) X-Relaying-Domain: iol.unh.edu Date: Fri, 07 Feb 2025 10:35:10 -0800 (PST) Message-ID: <67a6525e.050a0220.35722.ce99SMTPIN_ADDED_MISSING@mx.google.com> Received: from [172.21.0.9] (unknown [172.18.0.240]) by postal.iol.unh.edu (Postfix) with ESMTP id 2CED46052471; Fri, 7 Feb 2025 13:35:10 -0500 (EST) Subject: |SUCCESS| pw151089 [PATCH] common/qat: fix incorrect size in the par From: dpdklab@iol.unh.edu To: Test Report Cc: dpdk-test-reports@iol.unh.edu In-Reply-To: <20250207095832.4032332-1-arkadiuszx.kusztal@intel.com> References: <20250207095832.4032332-1-arkadiuszx.kusztal@intel.com> Content-Type: text/plain X-BeenThere: test-report@dpdk.org X-Mailman-Version: 2.1.29 Precedence: list List-Id: automatic DPDK test reports List-Unsubscribe: , List-Archive: List-Post: List-Help: List-Subscribe: , Errors-To: test-report-bounces@dpdk.org Test-Label: iol-compile-amd64-testing Test-Status: SUCCESS http://dpdk.org/patch/151089 _Testing PASS_ Submitter: Arkadiusz Kusztal Date: Friday, February 07 2025 09:58:32 DPDK git baseline: Repo:dpdk Branch: master CommitID:7125636162d67b1c40ba6802a3ff4466d125d243 151089 --> testing pass Upstream job id: Generic-DPDK-Compile-Meson#359142 Test environment and result as below: +---------------------+--------------------+-------------------+-------------------------+----------------------+------------------+-------------------+ | Environment | dpdk_meson_compile | dpdk_msvc_compile | dpdk_llvm_clang_compile | dpdk_mingw64_compile | dpdk_compile_ovs | dpdk_compile_spdk | +=====================+====================+===================+=========================+======================+==================+===================+ | FreeBSD 13.4 | PASS | SKIPPED | SKIPPED | SKIPPED | SKIPPED | SKIPPED | +---------------------+--------------------+-------------------+-------------------------+----------------------+------------------+-------------------+ | FreeBSD 14.2 | PASS | SKIPPED | SKIPPED | SKIPPED | SKIPPED | SKIPPED | +---------------------+--------------------+-------------------+-------------------------+----------------------+------------------+-------------------+ | CentOS Stream 9 | PASS | SKIPPED | SKIPPED | SKIPPED | PASS | PASS | +---------------------+--------------------+-------------------+-------------------------+----------------------+------------------+-------------------+ | Debian Bullseye | PASS | SKIPPED | SKIPPED | SKIPPED | PASS | PASS | +---------------------+--------------------+-------------------+-------------------------+----------------------+------------------+-------------------+ | Debian 12 | PASS | SKIPPED | SKIPPED | SKIPPED | PASS | PASS | +---------------------+--------------------+-------------------+-------------------------+----------------------+------------------+-------------------+ | Fedora 40 (Clang) | PASS | SKIPPED | SKIPPED | SKIPPED | PASS | PASS | +---------------------+--------------------+-------------------+-------------------------+----------------------+------------------+-------------------+ | Fedora 40 | PASS | SKIPPED | SKIPPED | SKIPPED | PASS | PASS | +---------------------+--------------------+-------------------+-------------------------+----------------------+------------------+-------------------+ | Fedora 41 (Clang) | PASS | SKIPPED | SKIPPED | SKIPPED | PASS | PASS | +---------------------+--------------------+-------------------+-------------------------+----------------------+------------------+-------------------+ | Fedora 41 | PASS | SKIPPED | SKIPPED | SKIPPED | PASS | PASS | +---------------------+--------------------+-------------------+-------------------------+----------------------+------------------+-------------------+ | openSUSE Leap 15 | PASS | SKIPPED | SKIPPED | SKIPPED | SKIPPED | SKIPPED | +---------------------+--------------------+-------------------+-------------------------+----------------------+------------------+-------------------+ | RHEL8 | PASS | SKIPPED | SKIPPED | SKIPPED | PASS | SKIPPED | +---------------------+--------------------+-------------------+-------------------------+----------------------+------------------+-------------------+ | RHEL9 | PASS | SKIPPED | SKIPPED | SKIPPED | PASS | SKIPPED | +---------------------+--------------------+-------------------+-------------------------+----------------------+------------------+-------------------+ | Ubuntu 20.04 | PASS | SKIPPED | SKIPPED | SKIPPED | SKIPPED | SKIPPED | +---------------------+--------------------+-------------------+-------------------------+----------------------+------------------+-------------------+ | Ubuntu 22.04 | PASS | SKIPPED | SKIPPED | SKIPPED | PASS | PASS | +---------------------+--------------------+-------------------+-------------------------+----------------------+------------------+-------------------+ | Ubuntu 24.04 | PASS | SKIPPED | SKIPPED | SKIPPED | PASS | PASS | +---------------------+--------------------+-------------------+-------------------------+----------------------+------------------+-------------------+ | Alpine | PASS | SKIPPED | SKIPPED | SKIPPED | PASS | SKIPPED | +---------------------+--------------------+-------------------+-------------------------+----------------------+------------------+-------------------+ | Windows Server 2022 | SKIPPED | PASS | PASS | PASS | SKIPPED | SKIPPED | +---------------------+--------------------+-------------------+-------------------------+----------------------+------------------+-------------------+ FreeBSD 13.4 Kernel: 13.4-RELEASE-p1 Compiler: clang 18.1.6 FreeBSD 14.2 Kernel: 14.2-RELEASE Compiler: clang 18.1.6 CentOS Stream 9 Kernel: Depends on container host Compiler: gcc 11.5.0 20240719 (Red Hat 11.5.0-2) Debian Bullseye Kernel: Depends on container host Compiler: gcc (Debian 10.2.1-6) 10.2.1 20210110 Debian 12 Kernel: Depends on container host Compiler: gcc (Debian 12.2.0-14) 12.2.0 Fedora 40 (Clang) Kernel: Depends on container host Compiler: clang 18.1.8 (Fedora 18.1.8-1.fc40) Fedora 40 Kernel: Depends on container host Compiler: gcc 14.2.1 20240912 (Red Hat 14.2.1-3) Fedora 41 (Clang) Kernel: Depends on container host Compiler: clang 19.1.5 (Fedora 19.1.5-1.fc41) Fedora 41 Kernel: Depends on container host Compiler: gcc 14.2.1 20240912 (Red Hat 14.2.1-3) openSUSE Leap 15 Kernel: Depends on container host Compiler: gcc (SUSE Linux) 7.5.0 RHEL8 Kernel: Depends on container host Compiler: gcc 8.5.0 20210514 (Red Hat 8.5.0-22) RHEL9 Kernel: Depends on container host Compiler: gcc 11.5.0 20240719 (Red Hat 11.5.0-2) Ubuntu 20.04 Kernel: Depends on container host Compiler: gcc (Ubuntu 9.4.0-1ubuntu1~20.04.2) 9.4.0 Ubuntu 22.04 Kernel: Depends on container host Compiler: gcc (Ubuntu 11.4.0-1ubuntu1~22.04) 11.4.0 Ubuntu 24.04 Kernel: Depends on container host Compiler: gcc (Ubuntu 13.3.0-6ubuntu2~24.04) 13.3.0 Alpine Kernel: Depends on container host Compiler: gcc (Alpine 14.2.0) 14.2.0 Windows Server 2022 Kernel: 10.0.20348.2031 Compiler: clang 15.0.7, gcc 14.1.0 (MinGW), and MSVC VS 19.39.33521 To view detailed results, visit: https://lab.dpdk.org/results/dashboard/patchsets/32521/ UNH-IOL DPDK Community Lab To manage your email subscriptions, visit: https://lab.dpdk.org/results/dashboard/preferences/subscriptions/