From mboxrd@z Thu Jan 1 00:00:00 1970 Return-Path: Received: from mails.dpdk.org (mails.dpdk.org [217.70.189.124]) by inbox.dpdk.org (Postfix) with ESMTP id D30D5461BE for ; Fri, 7 Feb 2025 19:35:15 +0100 (CET) Received: from mails.dpdk.org (localhost [127.0.0.1]) by mails.dpdk.org (Postfix) with ESMTP id D103542ED5; Fri, 7 Feb 2025 19:35:15 +0100 (CET) Received: from mail-pl1-f227.google.com (mail-pl1-f227.google.com [209.85.214.227]) by mails.dpdk.org (Postfix) with ESMTP id 5B9ED42E90 for ; Fri, 7 Feb 2025 19:35:14 +0100 (CET) Received: by mail-pl1-f227.google.com with SMTP id d9443c01a7336-21f2cfd821eso44784205ad.3 for ; Fri, 07 Feb 2025 10:35:14 -0800 (PST) DKIM-Signature: v=1; a=rsa-sha256; c=relaxed/relaxed; d=iol.unh.edu; s=unh-iol; t=1738953313; x=1739558113; darn=dpdk.org; h=cc:to:from:subject:message-id:date:from:to:cc:subject:date :message-id:reply-to; bh=oo5luAEIF1v1+qz+tuAdakEj3GE+LLRtSbkAWxQjChY=; b=iT6JrfDVL7gToFjwj4g9sWTEalZQUGoaWo+EVRKze+cq88pTCI0gCoJ/AUCIBhqwQ8 9Q2W01JL1lhSKEhxLZQt9/YiUVvtszy+56bW1IkCdYeZa8ZF2HNTZ+EY5eSp8bA5vKpl d2tOXtXFtf1jdZrDU9Eb3k+13I55TfxCL6VO4= X-Google-DKIM-Signature: v=1; a=rsa-sha256; c=relaxed/relaxed; d=1e100.net; s=20230601; t=1738953313; x=1739558113; h=cc:to:from:subject:message-id:date:x-gm-message-state:from:to:cc :subject:date:message-id:reply-to; bh=oo5luAEIF1v1+qz+tuAdakEj3GE+LLRtSbkAWxQjChY=; b=UW4SMM0+vWLKvJs7/dxgPBn1n/SYH9BPJGDrvNoZ/LGANRm3rSNaXJcB1T04Xj1XVa pXihQKdOmATBG0ZhVIMaBgeVxELRLpcheJfkBVEnPHkLRF+jiCeIDLYAohuN+x30X6n9 V5fovsSyGJhT1fwDZ86A2//4+NzXMZGdyleuSF26yteCPD49CRqp8ecGkpVWqZoHNkpR 8854cMATITu1EtxKwaSUknrHFd/wgNZLxZ5rqUbiBGMXJFExSbexOwTjEc2nQBMp/ia9 6uC3L1hUBVgmc7w5cd5STeOalVy3AXiXRMn4Ay8uud2eKcPz+MH/xFL0tAmuJfAAa2Z7 KX/A== X-Gm-Message-State: AOJu0YwUBewisOHB74iyZRbgw86sLK1YY4dvHlblUVrmBYeyf8S5koCw iGJx4ol24abTuQdrhfU1NVW/KOwq2PpDTfPv/6ePgw63Qe9XuAT5zRPcDx0eOXp9Pf61IC3bz2r pgoMLMF+8oTWinGAXxywJQ8fX1clEvTMc X-Gm-Gg: ASbGncuDIL6Bvpn2ScWvFxSOyMUz2Z6agjGaHeBEEAorjMqwGW/aScuSRyawOQfDUOS 8Fpq4Iwzr8OVKFS0iIm7wo8DWlSuDofnGXOTwkG4AyVPFfGCmXwOmKZ/2s7Qx8kcDDhNivzFUDY TgkjU0Tl2sFi2h5wFU2DYEj9/sBgtdMMYLKjfAjqZHPSIUzIXiPjT3DsM+jX70/IbO/Lko39zHO zhwctmur2qDspIJtd6ZL39txaLc4LsoyNjgw67ojj0a/kAtCDWdUalCt7mPvuZ65DkV7V5BMx6o Ql+EZCZgadqiiRArlKaMJhj1DXHrqg== X-Google-Smtp-Source: AGHT+IECHcEzT692VWGxE967p1kpc3JJowjx0ZAmu3V3xBsNoUR6uM9UWlS12lH60ic0ga9D0LWveO3l8mEW X-Received: by 2002:a05:6a20:6f87:b0:1e1:b329:3cd with SMTP id adf61e73a8af0-1ee03a8dc80mr7649327637.20.1738953313605; Fri, 07 Feb 2025 10:35:13 -0800 (PST) Received: from postal.iol.unh.edu (postal.iol.unh.edu. [132.177.123.84]) by smtp-relay.gmail.com with ESMTPS id d2e1a72fcca58-73048b0fe31sm191215b3a.14.2025.02.07.10.35.13 (version=TLS1_2 cipher=ECDHE-ECDSA-AES128-GCM-SHA256 bits=128/128); Fri, 07 Feb 2025 10:35:13 -0800 (PST) X-Relaying-Domain: iol.unh.edu Date: Fri, 07 Feb 2025 10:35:13 -0800 (PST) Message-ID: <67a65261.050a0220.19a06.9e07SMTPIN_ADDED_MISSING@mx.google.com> Received: from [172.21.0.10] (unknown [172.18.0.240]) by postal.iol.unh.edu (Postfix) with ESMTP id CC3BA6052471; Fri, 7 Feb 2025 13:35:12 -0500 (EST) Subject: |SUCCESS| [GIT MASTER] e8eb14e00d56027bef8569d68cf00e39670edca2 From: dpdklab@iol.unh.edu To: Test Report Cc: dpdk-test-reports@iol.unh.edu, Xueming Li , Christian Ehrhardt , Kevin Traynor , Luca Boccassi Content-Type: text/plain X-BeenThere: test-report@dpdk.org X-Mailman-Version: 2.1.29 Precedence: list List-Id: automatic DPDK test reports List-Unsubscribe: , List-Archive: List-Post: List-Help: List-Subscribe: , Errors-To: test-report-bounces@dpdk.org _Testing PASS_ Branch: tags/v23.11 e8eb14e00d56027bef8569d68cf00e39670edca2 --> testing pass Test environment and result as below: +---------------------+--------------------+------------------+-------------------+-------------------+-------------------------+----------------------+ | Environment | dpdk_meson_compile | dpdk_compile_ovs | dpdk_compile_spdk | dpdk_msvc_compile | dpdk_llvm_clang_compile | dpdk_mingw64_compile | +=====================+====================+==================+===================+===================+=========================+======================+ | CentOS Stream 9 | PASS | PASS | PASS | SKIPPED | SKIPPED | SKIPPED | +---------------------+--------------------+------------------+-------------------+-------------------+-------------------------+----------------------+ | Fedora 39 | PASS | PASS | PASS | SKIPPED | SKIPPED | SKIPPED | +---------------------+--------------------+------------------+-------------------+-------------------+-------------------------+----------------------+ | Fedora 39 (Clang) | PASS | PASS | PASS | SKIPPED | SKIPPED | SKIPPED | +---------------------+--------------------+------------------+-------------------+-------------------+-------------------------+----------------------+ | Debian 12 | PASS | PASS | PASS | SKIPPED | SKIPPED | SKIPPED | +---------------------+--------------------+------------------+-------------------+-------------------+-------------------------+----------------------+ | openSUSE Leap 15 | PASS | PASS | SKIPPED | SKIPPED | SKIPPED | SKIPPED | +---------------------+--------------------+------------------+-------------------+-------------------+-------------------------+----------------------+ | RHEL9 | PASS | PASS | SKIPPED | SKIPPED | SKIPPED | SKIPPED | +---------------------+--------------------+------------------+-------------------+-------------------+-------------------------+----------------------+ | Fedora 40 | PASS | PASS | PASS | SKIPPED | SKIPPED | SKIPPED | +---------------------+--------------------+------------------+-------------------+-------------------+-------------------------+----------------------+ | Fedora 40 (Clang) | PASS | PASS | PASS | SKIPPED | SKIPPED | SKIPPED | +---------------------+--------------------+------------------+-------------------+-------------------+-------------------------+----------------------+ | RHEL8 | PASS | PASS | SKIPPED | SKIPPED | SKIPPED | SKIPPED | +---------------------+--------------------+------------------+-------------------+-------------------+-------------------------+----------------------+ | Ubuntu 22.04 | PASS | PASS | PASS | SKIPPED | SKIPPED | SKIPPED | +---------------------+--------------------+------------------+-------------------+-------------------+-------------------------+----------------------+ | Ubuntu 20.04 | PASS | SKIPPED | SKIPPED | SKIPPED | SKIPPED | SKIPPED | +---------------------+--------------------+------------------+-------------------+-------------------+-------------------------+----------------------+ | Ubuntu 24.04 | PASS | PASS | PASS | SKIPPED | SKIPPED | SKIPPED | +---------------------+--------------------+------------------+-------------------+-------------------+-------------------------+----------------------+ | Alpine | PASS | PASS | SKIPPED | SKIPPED | SKIPPED | SKIPPED | +---------------------+--------------------+------------------+-------------------+-------------------+-------------------------+----------------------+ | FreeBSD 13.4 | PASS | SKIPPED | SKIPPED | SKIPPED | SKIPPED | SKIPPED | +---------------------+--------------------+------------------+-------------------+-------------------+-------------------------+----------------------+ | FreeBSD 14.2 | PASS | SKIPPED | SKIPPED | SKIPPED | SKIPPED | SKIPPED | +---------------------+--------------------+------------------+-------------------+-------------------+-------------------------+----------------------+ | Windows Server 2022 | SKIPPED | SKIPPED | SKIPPED | PASS | PASS | PASS | +---------------------+--------------------+------------------+-------------------+-------------------+-------------------------+----------------------+ CentOS Stream 9 Kernel: Depends on container host Compiler: gcc 11.5.0 20240719 (Red Hat 11.5.0-2) Fedora 39 Kernel: Depends on container host Compiler: gcc 13.3.1 20240522 (Red Hat 13.3.1-1) Fedora 39 (Clang) Kernel: Depends on container host Compiler: clang 17.0.6 (Fedora 17.0.6-2.fc39) Debian 12 Kernel: Depends on container host Compiler: gcc (Debian 12.2.0-14) 12.2.0 openSUSE Leap 15 Kernel: Depends on container host Compiler: gcc (SUSE Linux) 7.5.0 RHEL9 Kernel: Depends on container host Compiler: gcc 11.5.0 20240719 (Red Hat 11.5.0-2) Fedora 40 Kernel: Depends on container host Compiler: gcc 14.2.1 20240912 (Red Hat 14.2.1-3) Fedora 40 (Clang) Kernel: Depends on container host Compiler: clang 18.1.8 (Fedora 18.1.8-1.fc40) RHEL8 Kernel: Depends on container host Compiler: gcc 8.5.0 20210514 (Red Hat 8.5.0-22) Ubuntu 22.04 Kernel: Depends on container host Compiler: gcc (Ubuntu 11.4.0-1ubuntu1~22.04) 11.4.0 Ubuntu 20.04 Kernel: Depends on container host Compiler: gcc (Ubuntu 9.4.0-1ubuntu1~20.04.2) 9.4.0 Ubuntu 24.04 Kernel: Depends on container host Compiler: gcc (Ubuntu 13.3.0-6ubuntu2~24.04) 13.3.0 Alpine Kernel: Depends on container host Compiler: gcc (Alpine 14.2.0) 14.2.0 FreeBSD 13.4 Kernel: 13.4-RELEASE-p1 Compiler: clang 18.1.6 FreeBSD 14.2 Kernel: 14.2-RELEASE Compiler: clang 18.1.6 Windows Server 2022 Kernel: 10.0.20348.2031 Compiler: clang 15.0.7, gcc 14.1.0 (MinGW), and MSVC VS 19.39.33521 To view detailed results, visit: https://lab.dpdk.org/results/dashboard/tarballs/31875/ UNH-IOL DPDK Community Lab To manage your email subscriptions, visit: https://lab.dpdk.org/results/dashboard/preferences/subscriptions/