From mboxrd@z Thu Jan 1 00:00:00 1970 Return-Path: Received: from mails.dpdk.org (mails.dpdk.org [217.70.189.124]) by inbox.dpdk.org (Postfix) with ESMTP id 071FD461BE for ; Fri, 7 Feb 2025 19:36:17 +0100 (CET) Received: from mails.dpdk.org (localhost [127.0.0.1]) by mails.dpdk.org (Postfix) with ESMTP id 005AE42ED5; Fri, 7 Feb 2025 19:36:17 +0100 (CET) Received: from mail-vk1-f227.google.com (mail-vk1-f227.google.com [209.85.221.227]) by mails.dpdk.org (Postfix) with ESMTP id 42B1342E90 for ; Fri, 7 Feb 2025 19:36:16 +0100 (CET) Received: by mail-vk1-f227.google.com with SMTP id 71dfb90a1353d-51eb181331bso626543e0c.0 for ; Fri, 07 Feb 2025 10:36:16 -0800 (PST) DKIM-Signature: v=1; a=rsa-sha256; c=relaxed/relaxed; d=iol.unh.edu; s=unh-iol; t=1738953375; x=1739558175; darn=dpdk.org; h=references:in-reply-to:cc:to:from:subject:message-id:date:from:to :cc:subject:date:message-id:reply-to; bh=6Oj+XfkT/KXC9ZRPF3RMLAYkQ9HfA41p/YpTbL//M/I=; b=jXQnD3S/GClYZmaijmRsrIjTub3zNvfT9RZtVkjSCbcNPr+tMACFAEl9FzQZuLbB9b wHA1CMBACfsQE8yO3aHfnyRFLVkCMcEVjqQP0vHZO2ds3PxTUCuuNki9x3XckmSnSg/6 /0QxjMlHDTxDrbY/ltkD87C07/vBrw8t5HK7M= X-Google-DKIM-Signature: v=1; a=rsa-sha256; c=relaxed/relaxed; d=1e100.net; s=20230601; t=1738953375; x=1739558175; h=references:in-reply-to:cc:to:from:subject:message-id:date :x-gm-message-state:from:to:cc:subject:date:message-id:reply-to; bh=6Oj+XfkT/KXC9ZRPF3RMLAYkQ9HfA41p/YpTbL//M/I=; b=ELQfu3Am3ENto4guj4hzYrVkLB/QdssAM6bj0L+1HsaEJC9Xd+GjoEBnsu/UXkgoR7 GHUIR7GXHwBMB5fwIRGT/I6JqcgGCASS4xBGk0ljsmHWyn5JE1nii+mbMw5jmbz00gk7 TQVl5SSrZUCkUFQ3y7RjWlratFM4JutiDzEP1xiIqeNRXz89ggjdffO5mApMhTKxSvK0 F1AddJCFLbLM96TqzCZjebpKswQ13rDg27a4aUMVOPG19Nwc8R/w3kgpE74iCeKmX8zU KyKJoIduAFGGj/juuQ/l5acRx7YT24m76mwdjWoWbQjQjuXLzs9YFa4OMj8nkDJaGrkC 9lrg== X-Gm-Message-State: AOJu0YwDgvr0AD0Lc8SHC9p1BaujintUmJfd0W7QalvzCCoAISjpopi1 EHpp+7MRZk88i6IMaK0hli6MxJoMjYrHMyX+Tdi2wJmVVS3uvGBUIqkNI/408+fV6abMpp0Eb8d HvV4jKjeNKBi/Zghe0Y8jzmhiPWSPufSFX4VVhXPf X-Gm-Gg: ASbGnctfGPJlCtz6sSZsN4uU59ehu5NrM1GfhVbpR3kaZBmisgWoq0AZN3TTV+WWPfM 75y0JexCuqKlozbrDZU8RKxUylnExf0d8QND1aKx8FSX/rWteB0jtSJ68cL7BfGiHGv32PCuNmK UGlRS4UxvDTCzQZOEI7MKNhpvNjuq6Hi9NAprrbIEPX/zYgwlSTLedg4QCHJo2hXHvSgZlFP1G3 M6c8aSRVUFEdwN91KZKWzuiHjLAFjVEi7yalZcfi9DP4XORBqmfjupogytpZgpuEmdZ6D0Scgk7 PwIYafDQAyhBzzUpsr9QzZMcZzjPcg== X-Google-Smtp-Source: AGHT+IH0LvhPDOe+GH7wj7KscGD1ttejiUaA38gMuP+BsZy08kIYxWKiaCP2n26tWJumGKw+LUQRS/5dekF2 X-Received: by 2002:a05:6122:2222:b0:518:865e:d177 with SMTP id 71dfb90a1353d-51f2e2a763emr4297429e0c.9.1738953375573; Fri, 07 Feb 2025 10:36:15 -0800 (PST) Received: from postal.iol.unh.edu (postal.iol.unh.edu. [132.177.123.84]) by smtp-relay.gmail.com with ESMTPS id 71dfb90a1353d-51f2290d975sm28684e0c.9.2025.02.07.10.36.15 (version=TLS1_2 cipher=ECDHE-ECDSA-AES128-GCM-SHA256 bits=128/128); Fri, 07 Feb 2025 10:36:15 -0800 (PST) X-Relaying-Domain: iol.unh.edu Date: Fri, 07 Feb 2025 10:36:15 -0800 (PST) Message-ID: <67a6529f.050a0220.2538de.15dfSMTPIN_ADDED_MISSING@mx.google.com> Received: from [172.21.0.9] (unknown [172.18.0.240]) by postal.iol.unh.edu (Postfix) with ESMTP id 0DCC16052471; Fri, 7 Feb 2025 13:36:14 -0500 (EST) Subject: |SUCCESS| pw149080 [PATCH] [1/1] buildtools: clear out regex syntax From: dpdklab@iol.unh.edu To: Test Report Cc: dpdk-test-reports@iol.unh.edu In-Reply-To: <20241208023022.777275-2-otilibil@eurecom.fr> References: <20241208023022.777275-2-otilibil@eurecom.fr> Content-Type: text/plain X-BeenThere: test-report@dpdk.org X-Mailman-Version: 2.1.29 Precedence: list List-Id: automatic DPDK test reports List-Unsubscribe: , List-Archive: List-Post: List-Help: List-Subscribe: , Errors-To: test-report-bounces@dpdk.org Test-Label: iol-compile-amd64-testing Test-Status: SUCCESS http://dpdk.org/patch/149080 _Testing PASS_ Submitter: Ariel Otilibili-Anieli Date: Sunday, December 08 2024 02:25:55 DPDK git baseline: Repo:dpdk Branch: master CommitID:7df61db6c387703a36306c1aea92225921e2eeb2 149080 --> testing pass Test environment and result as below: +---------------------+--------------------+------------------+-------------------+-------------------+-------------------------+----------------------+ | Environment | dpdk_meson_compile | dpdk_compile_ovs | dpdk_compile_spdk | dpdk_msvc_compile | dpdk_llvm_clang_compile | dpdk_mingw64_compile | +=====================+====================+==================+===================+===================+=========================+======================+ | CentOS Stream 9 | PASS | PASS | PASS | SKIPPED | SKIPPED | SKIPPED | +---------------------+--------------------+------------------+-------------------+-------------------+-------------------------+----------------------+ | Fedora 39 | PASS | PASS | PASS | SKIPPED | SKIPPED | SKIPPED | +---------------------+--------------------+------------------+-------------------+-------------------+-------------------------+----------------------+ | Fedora 39 (Clang) | PASS | PASS | PASS | SKIPPED | SKIPPED | SKIPPED | +---------------------+--------------------+------------------+-------------------+-------------------+-------------------------+----------------------+ | Debian 12 | PASS | PASS | PASS | SKIPPED | SKIPPED | SKIPPED | +---------------------+--------------------+------------------+-------------------+-------------------+-------------------------+----------------------+ | Ubuntu 20.04 | PASS | SKIPPED | SKIPPED | SKIPPED | SKIPPED | SKIPPED | +---------------------+--------------------+------------------+-------------------+-------------------+-------------------------+----------------------+ | Fedora 40 | PASS | PASS | PASS | SKIPPED | SKIPPED | SKIPPED | +---------------------+--------------------+------------------+-------------------+-------------------+-------------------------+----------------------+ | Fedora 40 (Clang) | PASS | PASS | PASS | SKIPPED | SKIPPED | SKIPPED | +---------------------+--------------------+------------------+-------------------+-------------------+-------------------------+----------------------+ | RHEL9 | PASS | PASS | SKIPPED | SKIPPED | SKIPPED | SKIPPED | +---------------------+--------------------+------------------+-------------------+-------------------+-------------------------+----------------------+ | openSUSE Leap 15 | PASS | PASS | SKIPPED | SKIPPED | SKIPPED | SKIPPED | +---------------------+--------------------+------------------+-------------------+-------------------+-------------------------+----------------------+ | Alpine | PASS | PASS | SKIPPED | SKIPPED | SKIPPED | SKIPPED | +---------------------+--------------------+------------------+-------------------+-------------------+-------------------------+----------------------+ | RHEL8 | PASS | PASS | SKIPPED | SKIPPED | SKIPPED | SKIPPED | +---------------------+--------------------+------------------+-------------------+-------------------+-------------------------+----------------------+ | Ubuntu 22.04 | PASS | PASS | PASS | SKIPPED | SKIPPED | SKIPPED | +---------------------+--------------------+------------------+-------------------+-------------------+-------------------------+----------------------+ | Ubuntu 24.04 | PASS | PASS | PASS | SKIPPED | SKIPPED | SKIPPED | +---------------------+--------------------+------------------+-------------------+-------------------+-------------------------+----------------------+ | FreeBSD 13.4 | PASS | SKIPPED | SKIPPED | SKIPPED | SKIPPED | SKIPPED | +---------------------+--------------------+------------------+-------------------+-------------------+-------------------------+----------------------+ | FreeBSD 14.2 | PASS | SKIPPED | SKIPPED | SKIPPED | SKIPPED | SKIPPED | +---------------------+--------------------+------------------+-------------------+-------------------+-------------------------+----------------------+ | Windows Server 2022 | SKIPPED | SKIPPED | SKIPPED | PASS | PASS | PASS | +---------------------+--------------------+------------------+-------------------+-------------------+-------------------------+----------------------+ CentOS Stream 9 Kernel: Depends on container host Compiler: gcc 11.5.0 20240719 (Red Hat 11.5.0-2) Fedora 39 Kernel: Depends on container host Compiler: gcc 13.3.1 20240522 (Red Hat 13.3.1-1) Fedora 39 (Clang) Kernel: Depends on container host Compiler: clang 17.0.6 (Fedora 17.0.6-2.fc39) Debian 12 Kernel: Depends on container host Compiler: gcc (Debian 12.2.0-14) 12.2.0 Ubuntu 20.04 Kernel: Depends on container host Compiler: gcc (Ubuntu 9.4.0-1ubuntu1~20.04.2) 9.4.0 Fedora 40 Kernel: Depends on container host Compiler: gcc 14.2.1 20240912 (Red Hat 14.2.1-3) Fedora 40 (Clang) Kernel: Depends on container host Compiler: clang 18.1.8 (Fedora 18.1.8-1.fc40) RHEL9 Kernel: Depends on container host Compiler: gcc 11.5.0 20240719 (Red Hat 11.5.0-2) openSUSE Leap 15 Kernel: Depends on container host Compiler: gcc (SUSE Linux) 7.5.0 Alpine Kernel: Depends on container host Compiler: gcc (Alpine 14.2.0) 14.2.0 RHEL8 Kernel: Depends on container host Compiler: gcc 8.5.0 20210514 (Red Hat 8.5.0-22) Ubuntu 22.04 Kernel: Depends on container host Compiler: gcc (Ubuntu 11.4.0-1ubuntu1~22.04) 11.4.0 Ubuntu 24.04 Kernel: Depends on container host Compiler: gcc (Ubuntu 13.3.0-6ubuntu2~24.04) 13.3.0 FreeBSD 13.4 Kernel: 13.4-RELEASE-p1 Compiler: clang 18.1.6 FreeBSD 14.2 Kernel: 14.2-RELEASE Compiler: clang 18.1.6 Windows Server 2022 Kernel: 10.0.20348.2031 Compiler: clang 15.0.7, gcc 14.1.0 (MinGW), and MSVC VS 19.39.33521 To view detailed results, visit: https://lab.dpdk.org/results/dashboard/patchsets/32104/ UNH-IOL DPDK Community Lab To manage your email subscriptions, visit: https://lab.dpdk.org/results/dashboard/preferences/subscriptions/