From mboxrd@z Thu Jan 1 00:00:00 1970 Return-Path: Received: from mails.dpdk.org (mails.dpdk.org [217.70.189.124]) by inbox.dpdk.org (Postfix) with ESMTP id 3258A461BE for ; Fri, 7 Feb 2025 19:36:46 +0100 (CET) Received: from mails.dpdk.org (localhost [127.0.0.1]) by mails.dpdk.org (Postfix) with ESMTP id 2F17B42ED5; Fri, 7 Feb 2025 19:36:46 +0100 (CET) Received: from mail-il1-f226.google.com (mail-il1-f226.google.com [209.85.166.226]) by mails.dpdk.org (Postfix) with ESMTP id B100142E90 for ; Fri, 7 Feb 2025 19:36:45 +0100 (CET) Received: by mail-il1-f226.google.com with SMTP id e9e14a558f8ab-3cf82bd380bso17720075ab.0 for ; Fri, 07 Feb 2025 10:36:45 -0800 (PST) DKIM-Signature: v=1; a=rsa-sha256; c=relaxed/relaxed; d=iol.unh.edu; s=unh-iol; t=1738953405; x=1739558205; darn=dpdk.org; h=references:in-reply-to:cc:to:from:subject:message-id:date:from:to :cc:subject:date:message-id:reply-to; bh=pd5UCKoRoAauleNXCqR1+1LmaGHhO643sXvBTCSp0sg=; b=DBAOG+C5LzapQPrtpn2xYhACY8LNghxviqGsOcXdahy6QcfSKOziTO+amESHQqx2/K /FMw0NUN2OgZefakFh1Nwt42PE2cpk5mSsVfRg0YZdHuWF4v1AJv2SptxmA3feU2yMRs HLgMyFyA5I7GsxZUaCW+3XpIgtJLs8OGgkdvk= X-Google-DKIM-Signature: v=1; a=rsa-sha256; c=relaxed/relaxed; d=1e100.net; s=20230601; t=1738953405; x=1739558205; h=references:in-reply-to:cc:to:from:subject:message-id:date :x-gm-message-state:from:to:cc:subject:date:message-id:reply-to; bh=pd5UCKoRoAauleNXCqR1+1LmaGHhO643sXvBTCSp0sg=; b=mCgvDET7pb2KqsjgDQ96ALYZw1AkpuGM8YVXLhVmTg1yMumwWQP8f3o/fJa5DCdENv b7VYrey1D4BrDIazAGkY/hPvhxKR/N+Xu8gOcevE07oFKUXcCjlqPPu1Y3TlLX+7lG9O JLce5RMgsQazmwNAdIuALJII0wzGXsjWv4RmWKJypO1M4AN6iObUq3kgGLxbszsOkz8s ujgTgtuCVvmK++p+gRC4v40xxDbxxD3QYgNV/0V9arj2dzC0YJhEdc/4yYEbuVx3SPdS olmNStYGssFKZqbKkbfvpBU/l92g7gpg3pdcp13H1E+wUjFBAoYdvNk5OS5pOltY4vBY /Luw== X-Gm-Message-State: AOJu0YxnidmHz4ojZ1yQ9/hzQo0x8W/9viFdj3EQ/DXubwn4kKzmG8UJ lLPZDifgggpXRr0fgiFTt0OPcsReamnITPU/MQuXvYowVGO6K9Sy1J7O/BW1WSfr7X5xPoo+DLG 0R2naGEe/ztHRfHrS2L8z5qeojTK5siAfTeMcE67l X-Gm-Gg: ASbGncvqJ7gR4TSw9ilz+Gxo5YZFeqtqWejOcJXqyx/GiPFHvYhpkqmay/8TBz3y+By mnNjIQkJUtFeEh6Wg49jfLsnVhRifn9mrG2L7FaG6HUr78wLQwVMww3nPZrPy7BNHcGcV5fFJPR niSVy61by5G47T5BJhWLIzMKGRMLGIzLY3MJqn+TXuAhtUVqraiMwoBczrKD3oX2jL6y6PyOT9L aZHzmb1s1XPVpcC7ap9KtK9UzmrmL9E7Zrq1ZwKZ+rU0N7rwJy5K3uxYQMmvFd+RcwinMX1Rc35 4yzg6gj2Yws/keuKfeCg6OfEr3xFeg== X-Google-Smtp-Source: AGHT+IEPqWoMGWpkiASOvoxKghKGaWFP/yEbD4E6Ku+sbiR+L1olIEQz5kIfZwLgWKaszmogrs+1C6tL5G35 X-Received: by 2002:a05:6e02:3702:b0:3d0:285a:56b with SMTP id e9e14a558f8ab-3d13df2bbbcmr38305615ab.17.1738953405130; Fri, 07 Feb 2025 10:36:45 -0800 (PST) Received: from postal.iol.unh.edu (postal.iol.unh.edu. [132.177.123.84]) by smtp-relay.gmail.com with ESMTPS id 8926c6da1cb9f-4eccf9f580asm257514173.41.2025.02.07.10.36.45 (version=TLS1_2 cipher=ECDHE-ECDSA-AES128-GCM-SHA256 bits=128/128); Fri, 07 Feb 2025 10:36:45 -0800 (PST) X-Relaying-Domain: iol.unh.edu Date: Fri, 07 Feb 2025 10:36:45 -0800 (PST) Message-ID: <67a652bd.050a0220.183691.d01fSMTPIN_ADDED_MISSING@mx.google.com> Received: from [172.21.0.18] (unknown [172.18.0.240]) by postal.iol.unh.edu (Postfix) with ESMTP id A53876052485; Fri, 7 Feb 2025 13:36:44 -0500 (EST) Subject: |SUCCESS| pw149018-149023 [PATCH] [6/6] lib/mldev: eliminate depende From: dpdklab@iol.unh.edu To: Test Report Cc: dpdk-test-reports@iol.unh.edu In-Reply-To: <1733342995-3722-7-git-send-email-andremue@linux.microsoft.com> References: <1733342995-3722-7-git-send-email-andremue@linux.microsoft.com> Content-Type: text/plain X-BeenThere: test-report@dpdk.org X-Mailman-Version: 2.1.29 Precedence: list List-Id: automatic DPDK test reports List-Unsubscribe: , List-Archive: List-Post: List-Help: List-Subscribe: , Errors-To: test-report-bounces@dpdk.org Test-Label: iol-compile-amd64-testing Test-Status: SUCCESS http://dpdk.org/patch/149023 _Testing PASS_ Submitter: Andre Muezerie Date: Wednesday, December 04 2024 20:09:55 DPDK git baseline: Repo:dpdk Branch: master CommitID:7df61db6c387703a36306c1aea92225921e2eeb2 149018-149023 --> testing pass Test environment and result as below: +---------------------+--------------------+------------------+-------------------+-------------------+-------------------------+----------------------+ | Environment | dpdk_meson_compile | dpdk_compile_ovs | dpdk_compile_spdk | dpdk_msvc_compile | dpdk_llvm_clang_compile | dpdk_mingw64_compile | +=====================+====================+==================+===================+===================+=========================+======================+ | RHEL8 | PASS | PASS | SKIPPED | SKIPPED | SKIPPED | SKIPPED | +---------------------+--------------------+------------------+-------------------+-------------------+-------------------------+----------------------+ | CentOS Stream 9 | PASS | PASS | PASS | SKIPPED | SKIPPED | SKIPPED | +---------------------+--------------------+------------------+-------------------+-------------------+-------------------------+----------------------+ | Fedora 40 | PASS | PASS | PASS | SKIPPED | SKIPPED | SKIPPED | +---------------------+--------------------+------------------+-------------------+-------------------+-------------------------+----------------------+ | Debian 12 | PASS | PASS | PASS | SKIPPED | SKIPPED | SKIPPED | +---------------------+--------------------+------------------+-------------------+-------------------+-------------------------+----------------------+ | openSUSE Leap 15 | PASS | PASS | SKIPPED | SKIPPED | SKIPPED | SKIPPED | +---------------------+--------------------+------------------+-------------------+-------------------+-------------------------+----------------------+ | Fedora 39 | PASS | PASS | PASS | SKIPPED | SKIPPED | SKIPPED | +---------------------+--------------------+------------------+-------------------+-------------------+-------------------------+----------------------+ | Fedora 39 (Clang) | PASS | PASS | PASS | SKIPPED | SKIPPED | SKIPPED | +---------------------+--------------------+------------------+-------------------+-------------------+-------------------------+----------------------+ | Fedora 40 (Clang) | PASS | PASS | PASS | SKIPPED | SKIPPED | SKIPPED | +---------------------+--------------------+------------------+-------------------+-------------------+-------------------------+----------------------+ | Ubuntu 20.04 | PASS | SKIPPED | SKIPPED | SKIPPED | SKIPPED | SKIPPED | +---------------------+--------------------+------------------+-------------------+-------------------+-------------------------+----------------------+ | Ubuntu 24.04 | PASS | PASS | PASS | SKIPPED | SKIPPED | SKIPPED | +---------------------+--------------------+------------------+-------------------+-------------------+-------------------------+----------------------+ | RHEL9 | PASS | PASS | SKIPPED | SKIPPED | SKIPPED | SKIPPED | +---------------------+--------------------+------------------+-------------------+-------------------+-------------------------+----------------------+ | Ubuntu 22.04 | PASS | PASS | PASS | SKIPPED | SKIPPED | SKIPPED | +---------------------+--------------------+------------------+-------------------+-------------------+-------------------------+----------------------+ | FreeBSD 13.4 | PASS | SKIPPED | SKIPPED | SKIPPED | SKIPPED | SKIPPED | +---------------------+--------------------+------------------+-------------------+-------------------+-------------------------+----------------------+ | Alpine | PASS | PASS | SKIPPED | SKIPPED | SKIPPED | SKIPPED | +---------------------+--------------------+------------------+-------------------+-------------------+-------------------------+----------------------+ | FreeBSD 14.2 | PASS | SKIPPED | SKIPPED | SKIPPED | SKIPPED | SKIPPED | +---------------------+--------------------+------------------+-------------------+-------------------+-------------------------+----------------------+ | Windows Server 2022 | SKIPPED | SKIPPED | SKIPPED | PASS | PASS | PASS | +---------------------+--------------------+------------------+-------------------+-------------------+-------------------------+----------------------+ RHEL8 Kernel: Depends on container host Compiler: gcc 8.5.0 20210514 (Red Hat 8.5.0-22) CentOS Stream 9 Kernel: Depends on container host Compiler: gcc 11.5.0 20240719 (Red Hat 11.5.0-2) Fedora 40 Kernel: Depends on container host Compiler: gcc 14.2.1 20240912 (Red Hat 14.2.1-3) Debian 12 Kernel: Depends on container host Compiler: gcc (Debian 12.2.0-14) 12.2.0 openSUSE Leap 15 Kernel: Depends on container host Compiler: gcc (SUSE Linux) 7.5.0 Fedora 39 Kernel: Depends on container host Compiler: gcc 13.3.1 20240522 (Red Hat 13.3.1-1) Fedora 39 (Clang) Kernel: Depends on container host Compiler: clang 17.0.6 (Fedora 17.0.6-2.fc39) Fedora 40 (Clang) Kernel: Depends on container host Compiler: clang 18.1.8 (Fedora 18.1.8-1.fc40) Ubuntu 20.04 Kernel: Depends on container host Compiler: gcc (Ubuntu 9.4.0-1ubuntu1~20.04.2) 9.4.0 Ubuntu 24.04 Kernel: Depends on container host Compiler: gcc (Ubuntu 13.3.0-6ubuntu2~24.04) 13.3.0 RHEL9 Kernel: Depends on container host Compiler: gcc 11.5.0 20240719 (Red Hat 11.5.0-2) Ubuntu 22.04 Kernel: Depends on container host Compiler: gcc (Ubuntu 11.4.0-1ubuntu1~22.04) 11.4.0 FreeBSD 13.4 Kernel: 13.4-RELEASE-p1 Compiler: clang 18.1.6 Alpine Kernel: Depends on container host Compiler: gcc (Alpine 14.2.0) 14.2.0 FreeBSD 14.2 Kernel: 14.2-RELEASE Compiler: clang 18.1.6 Windows Server 2022 Kernel: 10.0.20348.2031 Compiler: clang 15.0.7, gcc 14.1.0 (MinGW), and MSVC VS 19.39.33521 To view detailed results, visit: https://lab.dpdk.org/results/dashboard/patchsets/32086/ UNH-IOL DPDK Community Lab To manage your email subscriptions, visit: https://lab.dpdk.org/results/dashboard/preferences/subscriptions/