From mboxrd@z Thu Jan 1 00:00:00 1970 Return-Path: Received: from mails.dpdk.org (mails.dpdk.org [217.70.189.124]) by inbox.dpdk.org (Postfix) with ESMTP id 3DBB7461BE for ; Fri, 7 Feb 2025 19:36:49 +0100 (CET) Received: from mails.dpdk.org (localhost [127.0.0.1]) by mails.dpdk.org (Postfix) with ESMTP id 3B4ED42ED5; Fri, 7 Feb 2025 19:36:49 +0100 (CET) Received: from mail-io1-f98.google.com (mail-io1-f98.google.com [209.85.166.98]) by mails.dpdk.org (Postfix) with ESMTP id 8D25542E90 for ; Fri, 7 Feb 2025 19:36:48 +0100 (CET) Received: by mail-io1-f98.google.com with SMTP id ca18e2360f4ac-844e06e5d11so68421239f.0 for ; Fri, 07 Feb 2025 10:36:48 -0800 (PST) DKIM-Signature: v=1; a=rsa-sha256; c=relaxed/relaxed; d=iol.unh.edu; s=unh-iol; t=1738953408; x=1739558208; darn=dpdk.org; h=references:in-reply-to:cc:to:from:subject:message-id:date:from:to :cc:subject:date:message-id:reply-to; bh=ZUr/eLCPtlMe82j5meynS21+biDjebg/ycbhMoxF1VU=; b=NeEWg4Gni5oFnIzULfGUNv4IjWpsA4ZBahRaJCFKsux82XINKXWHAGTISzoLU0d8zq muC6xOQRkldE3IXm+Tu+Mqj1jKbHmAn/dOIp2GUggrH8gutdWe1xqajpq1lyNU8HVdV6 KZeaK3u9paD5fbz0qpSd14HIHPx3mIE7B1j+8= X-Google-DKIM-Signature: v=1; a=rsa-sha256; c=relaxed/relaxed; d=1e100.net; s=20230601; t=1738953408; x=1739558208; h=references:in-reply-to:cc:to:from:subject:message-id:date :x-gm-message-state:from:to:cc:subject:date:message-id:reply-to; bh=ZUr/eLCPtlMe82j5meynS21+biDjebg/ycbhMoxF1VU=; b=nmK0ITNhcmeFBh/aidptG6jKRMh9NwBIPzhaAcLm4rqW+RgukJt96OAlCGoiFR9DbI xiGbwDu0PQDekcV9xaGxT50GM6iCpRqDm7Y8xbfkCGyuHWfzx4E67AkA1uoupXpcllko u702sZV5EgX2tWImTrdDS5lCrSjBaReommQBftE/Q1Qes/Ov6SWTOPhA2KbyeRJWrKLU 49jSUWI9oZkOLU0gSI6ALRNNuXeEBFQIT89OPheUcHeezUOTgX5D4YpXAXCWMP1rZz1Y 2O1eRwr/lXsmLchuD9k7L+hPFgsuDWESdQkkEljnJTKWXdr6pz3VSLjsmIs+7Wn8MHSl 72hA== X-Gm-Message-State: AOJu0Yzjeb7yiH7uZvM0k/Tm9BYbFwwpn84SW9LrZiUS+PFmAHYH5wvd 4DKUNWYQq2tJD6GpZ6I8bYMlugSL23mD4w/XexErsqjgGml1Ehbf7z54J7gb3Dwm3VtKkUiNE84 MEp5G5Ofu2kyjRV5/hP7kfbN6Az1CF3eo0JSLyEKo X-Gm-Gg: ASbGnct899v4HxDvNOMhKVahSEmr+46LYdkg17tXhkTw0UQgTRLHevDZYb2XorSxxTI 57+R2YfjOJYkIzd8T8PIqvG/35YCWlZtWl1m4YecI/MYUwXaW7GUtZ+iEFTmgvMXdn4CDvINuVb F1D5jmTlriw46ZLS0Wuf/IRnGvFYlij0Mjkw3rXTWzOLsrvVTh5fxy/fYO5n+6tW6RGgGa5Qa+E 1EN8HAYA9ixmqCbu5PGm6MtqsgThEFdAyXRqYiv2s3OITd8BMWzSTunLIh927ndvRdvAlGq6Tdc YYqCSzsT7VP0SjL/qB2QwJiy3kQE2Q== X-Google-Smtp-Source: AGHT+IFVQMU/4HC9PPTl9r8Fhx4XPsf1WiJTm7KD66nbldIQKaZquzatKP58tEleo+4DMOVkFjVhmCyez4QR X-Received: by 2002:a05:6602:610b:b0:84c:ea14:9315 with SMTP id ca18e2360f4ac-854fd907d52mr493178739f.12.1738953407927; Fri, 07 Feb 2025 10:36:47 -0800 (PST) Received: from postal.iol.unh.edu (postal.iol.unh.edu. [132.177.123.84]) by smtp-relay.gmail.com with ESMTPS id 8926c6da1cb9f-4eccfaa20eesm253177173.47.2025.02.07.10.36.47 (version=TLS1_2 cipher=ECDHE-ECDSA-AES128-GCM-SHA256 bits=128/128); Fri, 07 Feb 2025 10:36:47 -0800 (PST) X-Relaying-Domain: iol.unh.edu Date: Fri, 07 Feb 2025 10:36:47 -0800 (PST) Message-ID: <67a652bf.050a0220.10758.cd4dSMTPIN_ADDED_MISSING@mx.google.com> Received: from [172.21.0.12] (unknown [172.18.0.240]) by postal.iol.unh.edu (Postfix) with ESMTP id 707176052471; Fri, 7 Feb 2025 13:36:17 -0500 (EST) Subject: |SUCCESS| pw149024-149028 [PATCH] [v2,6/6] lib/mldev: eliminate depe From: dpdklab@iol.unh.edu To: Test Report Cc: dpdk-test-reports@iol.unh.edu In-Reply-To: <1733348466-16057-7-git-send-email-andremue@linux.microsoft.com> References: <1733348466-16057-7-git-send-email-andremue@linux.microsoft.com> Content-Type: text/plain X-BeenThere: test-report@dpdk.org X-Mailman-Version: 2.1.29 Precedence: list List-Id: automatic DPDK test reports List-Unsubscribe: , List-Archive: List-Post: List-Help: List-Subscribe: , Errors-To: test-report-bounces@dpdk.org Test-Label: iol-compile-amd64-testing Test-Status: SUCCESS http://dpdk.org/patch/149028 _Testing PASS_ Submitter: Andre Muezerie Date: Wednesday, December 04 2024 21:41:06 DPDK git baseline: Repo:dpdk Branch: master CommitID:7df61db6c387703a36306c1aea92225921e2eeb2 149024-149028 --> testing pass Test environment and result as below: +---------------------+--------------------+------------------+-------------------+-------------------+-------------------------+----------------------+ | Environment | dpdk_meson_compile | dpdk_compile_ovs | dpdk_compile_spdk | dpdk_msvc_compile | dpdk_llvm_clang_compile | dpdk_mingw64_compile | +=====================+====================+==================+===================+===================+=========================+======================+ | Fedora 40 (Clang) | PASS | PASS | PASS | SKIPPED | SKIPPED | SKIPPED | +---------------------+--------------------+------------------+-------------------+-------------------+-------------------------+----------------------+ | Fedora 39 (Clang) | PASS | PASS | PASS | SKIPPED | SKIPPED | SKIPPED | +---------------------+--------------------+------------------+-------------------+-------------------+-------------------------+----------------------+ | Debian 12 | PASS | PASS | PASS | SKIPPED | SKIPPED | SKIPPED | +---------------------+--------------------+------------------+-------------------+-------------------+-------------------------+----------------------+ | Fedora 39 | PASS | PASS | PASS | SKIPPED | SKIPPED | SKIPPED | +---------------------+--------------------+------------------+-------------------+-------------------+-------------------------+----------------------+ | Fedora 40 | PASS | PASS | PASS | SKIPPED | SKIPPED | SKIPPED | +---------------------+--------------------+------------------+-------------------+-------------------+-------------------------+----------------------+ | RHEL8 | PASS | PASS | SKIPPED | SKIPPED | SKIPPED | SKIPPED | +---------------------+--------------------+------------------+-------------------+-------------------+-------------------------+----------------------+ | Alpine | PASS | PASS | SKIPPED | SKIPPED | SKIPPED | SKIPPED | +---------------------+--------------------+------------------+-------------------+-------------------+-------------------------+----------------------+ | openSUSE Leap 15 | PASS | PASS | SKIPPED | SKIPPED | SKIPPED | SKIPPED | +---------------------+--------------------+------------------+-------------------+-------------------+-------------------------+----------------------+ | Ubuntu 24.04 | PASS | PASS | PASS | SKIPPED | SKIPPED | SKIPPED | +---------------------+--------------------+------------------+-------------------+-------------------+-------------------------+----------------------+ | Ubuntu 22.04 | PASS | PASS | PASS | SKIPPED | SKIPPED | SKIPPED | +---------------------+--------------------+------------------+-------------------+-------------------+-------------------------+----------------------+ | Ubuntu 20.04 | PASS | SKIPPED | SKIPPED | SKIPPED | SKIPPED | SKIPPED | +---------------------+--------------------+------------------+-------------------+-------------------+-------------------------+----------------------+ | FreeBSD 13.4 | PASS | SKIPPED | SKIPPED | SKIPPED | SKIPPED | SKIPPED | +---------------------+--------------------+------------------+-------------------+-------------------+-------------------------+----------------------+ | RHEL9 | PASS | PASS | SKIPPED | SKIPPED | SKIPPED | SKIPPED | +---------------------+--------------------+------------------+-------------------+-------------------+-------------------------+----------------------+ | FreeBSD 14.2 | PASS | SKIPPED | SKIPPED | SKIPPED | SKIPPED | SKIPPED | +---------------------+--------------------+------------------+-------------------+-------------------+-------------------------+----------------------+ | CentOS Stream 9 | PASS | PASS | PASS | SKIPPED | SKIPPED | SKIPPED | +---------------------+--------------------+------------------+-------------------+-------------------+-------------------------+----------------------+ | Windows Server 2022 | SKIPPED | SKIPPED | SKIPPED | PASS | PASS | PASS | +---------------------+--------------------+------------------+-------------------+-------------------+-------------------------+----------------------+ Fedora 40 (Clang) Kernel: Depends on container host Compiler: clang 18.1.8 (Fedora 18.1.8-1.fc40) Fedora 39 (Clang) Kernel: Depends on container host Compiler: clang 17.0.6 (Fedora 17.0.6-2.fc39) Debian 12 Kernel: Depends on container host Compiler: gcc (Debian 12.2.0-14) 12.2.0 Fedora 39 Kernel: Depends on container host Compiler: gcc 13.3.1 20240522 (Red Hat 13.3.1-1) Fedora 40 Kernel: Depends on container host Compiler: gcc 14.2.1 20240912 (Red Hat 14.2.1-3) RHEL8 Kernel: Depends on container host Compiler: gcc 8.5.0 20210514 (Red Hat 8.5.0-22) Alpine Kernel: Depends on container host Compiler: gcc (Alpine 14.2.0) 14.2.0 openSUSE Leap 15 Kernel: Depends on container host Compiler: gcc (SUSE Linux) 7.5.0 Ubuntu 24.04 Kernel: Depends on container host Compiler: gcc (Ubuntu 13.3.0-6ubuntu2~24.04) 13.3.0 Ubuntu 22.04 Kernel: Depends on container host Compiler: gcc (Ubuntu 11.4.0-1ubuntu1~22.04) 11.4.0 Ubuntu 20.04 Kernel: Depends on container host Compiler: gcc (Ubuntu 9.4.0-1ubuntu1~20.04.2) 9.4.0 FreeBSD 13.4 Kernel: 13.4-RELEASE-p1 Compiler: clang 18.1.6 RHEL9 Kernel: Depends on container host Compiler: gcc 11.5.0 20240719 (Red Hat 11.5.0-2) FreeBSD 14.2 Kernel: 14.2-RELEASE Compiler: clang 18.1.6 CentOS Stream 9 Kernel: Depends on container host Compiler: gcc 11.5.0 20240719 (Red Hat 11.5.0-2) Windows Server 2022 Kernel: 10.0.20348.2031 Compiler: clang 15.0.7, gcc 14.1.0 (MinGW), and MSVC VS 19.39.33521 To view detailed results, visit: https://lab.dpdk.org/results/dashboard/patchsets/32087/ UNH-IOL DPDK Community Lab To manage your email subscriptions, visit: https://lab.dpdk.org/results/dashboard/preferences/subscriptions/