From mboxrd@z Thu Jan 1 00:00:00 1970 Return-Path: Received: from mails.dpdk.org (mails.dpdk.org [217.70.189.124]) by inbox.dpdk.org (Postfix) with ESMTP id 4A247461BE for ; Fri, 7 Feb 2025 19:36:49 +0100 (CET) Received: from mails.dpdk.org (localhost [127.0.0.1]) by mails.dpdk.org (Postfix) with ESMTP id 4763142EF0; Fri, 7 Feb 2025 19:36:49 +0100 (CET) Received: from mail-pl1-f227.google.com (mail-pl1-f227.google.com [209.85.214.227]) by mails.dpdk.org (Postfix) with ESMTP id ADB9442ED5 for ; Fri, 7 Feb 2025 19:36:48 +0100 (CET) Received: by mail-pl1-f227.google.com with SMTP id d9443c01a7336-21f55fbb72bso17558895ad.2 for ; Fri, 07 Feb 2025 10:36:48 -0800 (PST) DKIM-Signature: v=1; a=rsa-sha256; c=relaxed/relaxed; d=iol.unh.edu; s=unh-iol; t=1738953408; x=1739558208; darn=dpdk.org; h=references:in-reply-to:cc:to:from:subject:message-id:date:from:to :cc:subject:date:message-id:reply-to; bh=z6jJyQdzTSEb8utFttNUX1QPbH2Ylj/lIX/su2gA5Ck=; b=b/q0jL5auUIZx1EE/Ucn1sbzdMGPld0LtYfBhLYm1XeU1VSYIDZNRj1ijcHpk/yd6L viXxAqMKGJWS6ceMmcWOdnz6YhL14QhnOEaswwjqRVT+gXCyIFbnIHY9zNfg/PHJKHze lbfnXAW88CJ2vgmwlBYfQDKT7xzaatUAek+3s= X-Google-DKIM-Signature: v=1; a=rsa-sha256; c=relaxed/relaxed; d=1e100.net; s=20230601; t=1738953408; x=1739558208; h=references:in-reply-to:cc:to:from:subject:message-id:date :x-gm-message-state:from:to:cc:subject:date:message-id:reply-to; bh=z6jJyQdzTSEb8utFttNUX1QPbH2Ylj/lIX/su2gA5Ck=; b=i516wEHk0AatKzgLNqW9AWqng/gQ/PnIktGple127ljfQUzz8PSMP+ie6T48thSpdz jF73gcErP1s/QZPt//ubmazDDq1Rs3xmGpk6067qW3b8ZApIWQMk/cUvV2QJjidCVGKK 3MKamSLlDsu9RLwB8emktRQm+iKmLcWZAODLuJjGdD9qkaaTETPF3Fkn7mQAodyabVJo ZbtpMSYIcwXPHnN13LjkvsTm82ec4Cv+raQ3qwwzqMNWC9V2e6USDFdM073B2bsNo6cx NVxjXrBO5Eao0SGaq6/ISUSRUHjp9c84N+w4WEGUMasy+wT4ecIUxgOVNirnHJoSAAn6 LXrQ== X-Gm-Message-State: AOJu0Yypj1MNbzm49WWVvs4noWEX+A6vqANzmjXeV4txZxKJbekriCpa SloC5r8OB+0FzXz5TUvdZj4gccpL5m2D7O5aC+/hkfOMXwqpZrPXbttrjre5xF8VLRTUqMVwe+l euqvDNf9BWYO0817d3TZcl2wI4oupRjo71XT3fWhT X-Gm-Gg: ASbGncsaarRnDKa2F3Wxs9Eprvm00OFF/dDqHvtpDlGluqj9Nr+ZX9lv4z+7WyMdlxw 4iF7QH6AQNFLYdGHEE1rs4Dj55l/TXW5uVfYM8exxIk0UvdyNnIi2sXEVElKKuTXU2GF4H5lAyT otTWpr8vZ9L6t4yI8ZzGzjla/DSCGsBJcXrmxQD3xll8vrp1zH+P1oePOatSaoH9bgQlt5nRu0S wad26Nr9N6lNl1Kn5wIdjxwEHQvvjoB1DLJCJvKKtSSjzsKx8Aj24OVx3lhEXXkZJxaBf/Dk8qF 0a7OVzazCHMn4DcJoLNjUCIjBF1B5Q== X-Google-Smtp-Source: AGHT+IHJPVy6uKF8XcD1wGrSSzId0jYHGuqEZBvSr1bM6YZTL5IYmdzlW6dNbcxmr9q37qOIDIp1adVbyiEK X-Received: by 2002:a17:902:f54a:b0:215:44fe:163e with SMTP id d9443c01a7336-21f4e1cf11emr61073415ad.1.1738953407939; Fri, 07 Feb 2025 10:36:47 -0800 (PST) Received: from postal.iol.unh.edu (postal.iol.unh.edu. [132.177.123.84]) by smtp-relay.gmail.com with ESMTPS id d9443c01a7336-21f36879577sm2232875ad.110.2025.02.07.10.36.47 (version=TLS1_2 cipher=ECDHE-ECDSA-AES128-GCM-SHA256 bits=128/128); Fri, 07 Feb 2025 10:36:47 -0800 (PST) X-Relaying-Domain: iol.unh.edu Date: Fri, 07 Feb 2025 10:36:47 -0800 (PST) Message-ID: <67a652bf.170a0220.15bc93.c152SMTPIN_ADDED_MISSING@mx.google.com> Received: from [172.21.0.15] (unknown [172.18.0.240]) by postal.iol.unh.edu (Postfix) with ESMTP id 285166052485; Fri, 7 Feb 2025 13:36:47 -0500 (EST) Subject: |SUCCESS| pw149071-149077 [PATCH] [v11,7/7] test: add stress test su From: dpdklab@iol.unh.edu To: Test Report Cc: dpdk-test-reports@iol.unh.edu In-Reply-To: <20241206183600.34758-8-konstantin.ananyev@huawei.com> References: <20241206183600.34758-8-konstantin.ananyev@huawei.com> Content-Type: text/plain X-BeenThere: test-report@dpdk.org X-Mailman-Version: 2.1.29 Precedence: list List-Id: automatic DPDK test reports List-Unsubscribe: , List-Archive: List-Post: List-Help: List-Subscribe: , Errors-To: test-report-bounces@dpdk.org Test-Label: iol-compile-amd64-testing Test-Status: SUCCESS http://dpdk.org/patch/149077 _Testing PASS_ Submitter: Konstantin Ananyev Date: Friday, December 06 2024 18:36:00 DPDK git baseline: Repo:dpdk Branch: master CommitID:7df61db6c387703a36306c1aea92225921e2eeb2 149071-149077 --> testing pass Test environment and result as below: +---------------------+--------------------+------------------+-------------------+-------------------+-------------------------+----------------------+ | Environment | dpdk_meson_compile | dpdk_compile_ovs | dpdk_compile_spdk | dpdk_msvc_compile | dpdk_llvm_clang_compile | dpdk_mingw64_compile | +=====================+====================+==================+===================+===================+=========================+======================+ | Debian 12 | PASS | PASS | PASS | SKIPPED | SKIPPED | SKIPPED | +---------------------+--------------------+------------------+-------------------+-------------------+-------------------------+----------------------+ | CentOS Stream 9 | PASS | PASS | PASS | SKIPPED | SKIPPED | SKIPPED | +---------------------+--------------------+------------------+-------------------+-------------------+-------------------------+----------------------+ | Fedora 39 (Clang) | PASS | PASS | PASS | SKIPPED | SKIPPED | SKIPPED | +---------------------+--------------------+------------------+-------------------+-------------------+-------------------------+----------------------+ | Fedora 40 (Clang) | PASS | PASS | PASS | SKIPPED | SKIPPED | SKIPPED | +---------------------+--------------------+------------------+-------------------+-------------------+-------------------------+----------------------+ | Fedora 40 | PASS | PASS | PASS | SKIPPED | SKIPPED | SKIPPED | +---------------------+--------------------+------------------+-------------------+-------------------+-------------------------+----------------------+ | openSUSE Leap 15 | PASS | PASS | SKIPPED | SKIPPED | SKIPPED | SKIPPED | +---------------------+--------------------+------------------+-------------------+-------------------+-------------------------+----------------------+ | RHEL8 | PASS | PASS | SKIPPED | SKIPPED | SKIPPED | SKIPPED | +---------------------+--------------------+------------------+-------------------+-------------------+-------------------------+----------------------+ | RHEL9 | PASS | PASS | SKIPPED | SKIPPED | SKIPPED | SKIPPED | +---------------------+--------------------+------------------+-------------------+-------------------+-------------------------+----------------------+ | Ubuntu 20.04 | PASS | SKIPPED | SKIPPED | SKIPPED | SKIPPED | SKIPPED | +---------------------+--------------------+------------------+-------------------+-------------------+-------------------------+----------------------+ | Ubuntu 22.04 | PASS | PASS | PASS | SKIPPED | SKIPPED | SKIPPED | +---------------------+--------------------+------------------+-------------------+-------------------+-------------------------+----------------------+ | Ubuntu 24.04 | PASS | PASS | PASS | SKIPPED | SKIPPED | SKIPPED | +---------------------+--------------------+------------------+-------------------+-------------------+-------------------------+----------------------+ | Alpine | PASS | PASS | SKIPPED | SKIPPED | SKIPPED | SKIPPED | +---------------------+--------------------+------------------+-------------------+-------------------+-------------------------+----------------------+ | FreeBSD 13.4 | PASS | SKIPPED | SKIPPED | SKIPPED | SKIPPED | SKIPPED | +---------------------+--------------------+------------------+-------------------+-------------------+-------------------------+----------------------+ | FreeBSD 14.2 | PASS | SKIPPED | SKIPPED | SKIPPED | SKIPPED | SKIPPED | +---------------------+--------------------+------------------+-------------------+-------------------+-------------------------+----------------------+ | Fedora 39 | PASS | PASS | PASS | SKIPPED | SKIPPED | SKIPPED | +---------------------+--------------------+------------------+-------------------+-------------------+-------------------------+----------------------+ | Windows Server 2022 | SKIPPED | SKIPPED | SKIPPED | PASS | PASS | PASS | +---------------------+--------------------+------------------+-------------------+-------------------+-------------------------+----------------------+ Debian 12 Kernel: Depends on container host Compiler: gcc (Debian 12.2.0-14) 12.2.0 CentOS Stream 9 Kernel: Depends on container host Compiler: gcc 11.5.0 20240719 (Red Hat 11.5.0-2) Fedora 39 (Clang) Kernel: Depends on container host Compiler: clang 17.0.6 (Fedora 17.0.6-2.fc39) Fedora 40 (Clang) Kernel: Depends on container host Compiler: clang 18.1.8 (Fedora 18.1.8-1.fc40) Fedora 40 Kernel: Depends on container host Compiler: gcc 14.2.1 20240912 (Red Hat 14.2.1-3) openSUSE Leap 15 Kernel: Depends on container host Compiler: gcc (SUSE Linux) 7.5.0 RHEL8 Kernel: Depends on container host Compiler: gcc 8.5.0 20210514 (Red Hat 8.5.0-22) RHEL9 Kernel: Depends on container host Compiler: gcc 11.5.0 20240719 (Red Hat 11.5.0-2) Ubuntu 20.04 Kernel: Depends on container host Compiler: gcc (Ubuntu 9.4.0-1ubuntu1~20.04.2) 9.4.0 Ubuntu 22.04 Kernel: Depends on container host Compiler: gcc (Ubuntu 11.4.0-1ubuntu1~22.04) 11.4.0 Ubuntu 24.04 Kernel: Depends on container host Compiler: gcc (Ubuntu 13.3.0-6ubuntu2~24.04) 13.3.0 Alpine Kernel: Depends on container host Compiler: gcc (Alpine 14.2.0) 14.2.0 FreeBSD 13.4 Kernel: 13.4-RELEASE-p1 Compiler: clang 18.1.6 FreeBSD 14.2 Kernel: 14.2-RELEASE Compiler: clang 18.1.6 Fedora 39 Kernel: Depends on container host Compiler: gcc 13.3.1 20240522 (Red Hat 13.3.1-1) Windows Server 2022 Kernel: 10.0.20348.2031 Compiler: clang 15.0.7, gcc 14.1.0 (MinGW), and MSVC VS 19.39.33521 To view detailed results, visit: https://lab.dpdk.org/results/dashboard/patchsets/32102/ UNH-IOL DPDK Community Lab To manage your email subscriptions, visit: https://lab.dpdk.org/results/dashboard/preferences/subscriptions/