From mboxrd@z Thu Jan 1 00:00:00 1970 Return-Path: Received: from mails.dpdk.org (mails.dpdk.org [217.70.189.124]) by inbox.dpdk.org (Postfix) with ESMTP id 5A345461BE for ; Fri, 7 Feb 2025 19:36:55 +0100 (CET) Received: from mails.dpdk.org (localhost [127.0.0.1]) by mails.dpdk.org (Postfix) with ESMTP id 5278442ED5; Fri, 7 Feb 2025 19:36:55 +0100 (CET) Received: from mail-pl1-f226.google.com (mail-pl1-f226.google.com [209.85.214.226]) by mails.dpdk.org (Postfix) with ESMTP id DA01F42E90 for ; Fri, 7 Feb 2025 19:36:54 +0100 (CET) Received: by mail-pl1-f226.google.com with SMTP id d9443c01a7336-21f5660c2fdso18333085ad.2 for ; Fri, 07 Feb 2025 10:36:54 -0800 (PST) DKIM-Signature: v=1; a=rsa-sha256; c=relaxed/relaxed; d=iol.unh.edu; s=unh-iol; t=1738953414; x=1739558214; darn=dpdk.org; h=references:in-reply-to:cc:to:from:subject:message-id:date:from:to :cc:subject:date:message-id:reply-to; bh=iFZOlXBQuU7gKn+K/8XcI179azbzpcVXu2t/K2GoDaU=; b=ZEELtiRLIYhhoi/VUt3fVTZt5c5lrg1VK9pq3mA9MptyuzY+tcKmIz2GllwUWpuDR0 fhwyjQQJoPXuI2kXg73Ak+HJlYJM1c6+rCZN3wTdSfzdTkOtr/5w3gTZbRrkR8Md9yom MiTOQEDpD9d3KG9WZAOCotmxlJeaX75KDR7ew= X-Google-DKIM-Signature: v=1; a=rsa-sha256; c=relaxed/relaxed; d=1e100.net; s=20230601; t=1738953414; x=1739558214; h=references:in-reply-to:cc:to:from:subject:message-id:date :x-gm-message-state:from:to:cc:subject:date:message-id:reply-to; bh=iFZOlXBQuU7gKn+K/8XcI179azbzpcVXu2t/K2GoDaU=; b=rJ02fERK7urIz5lJsVaQH9Fa5HV5X6RfGaMNG7NRFL854ZSKZUe07DrnOge+jAcflD bIZfuRRq2WnMs3LhBwiJUapazHqNrFdfeW2QIt3d+ouwuNk7AO8ZhnU5TKHzn7+J08yg wGSZw+auujJj5RvIcwapJJhfpQ4ZS9o6VXtGwrsCTwYMyuMY6RFPqMMo23ZBpn1WwkAq P8vuLbucRQOi7fauykIbGR8iX3Ng8Qz/0c8TvN8Fit/+cR85MGzosWux1DGmYEtOcD1a 4oSyQWreAGFPRq/nRrvn7I6XkcmLeOkp3RFOnr8hCR5z578R7fUW468M6RRMZ6CLd0Ex FAMQ== X-Gm-Message-State: AOJu0Yy47NdY5x/XrfC9vcVQgreAJeuua3BgNu2s/xn2/fKeu4sInpRS CEZqvUCJxTIgMhfVtKA1dsy9vhuOrBNTD8Q2vfdYSPugsbjw3GlkvOcVyIaUbpdhEApn+lCYzt8 7kKAuArimKKf9qoSfAlHbqzBLd3MZizjEo5KwzfAQ X-Gm-Gg: ASbGncuYJQT6Rmas/G0BRDHpJ4Zv2cxe4JVghNF1h8S/eA3FZJNpIkBnQRvXUZujXli anZKuA0iXIPyaDmewmOli9FfS3iJ4KLTWHGeoxVzYDv3c5GdJjEsKQvy0JX8Je9BQxLIGBUm5Y7 pwt4N+Pq93nF8ITUZpHTAop7W/mf48QQa9s7Hley3tnLBTOFxYqtqWBpVBZx7UMxrEDn9Hf6P6i q1/kl5kJ72tLETNeskLcIEbwbu4X+2nlMV5Y1V35IdIoZ7DPtU12fqkUSK5hbywTBCEuTWvNqxj nT+DPP50JdrMB5TqMn8gfY22tEXAug== X-Google-Smtp-Source: AGHT+IGpJgrzxXX/gzStv3UfuoyOL26NzI8iczTBqvr34bKVLo2WfQmfGk2mu3yMCjcOZT3PCbqgcatt5IOa X-Received: by 2002:a17:902:f78d:b0:21f:68ae:56e3 with SMTP id d9443c01a7336-21f68ae57dcmr2430475ad.39.1738953414183; Fri, 07 Feb 2025 10:36:54 -0800 (PST) Received: from postal.iol.unh.edu (postal.iol.unh.edu. [132.177.123.84]) by smtp-relay.gmail.com with ESMTPS id d9443c01a7336-21f36839c58sm2229505ad.74.2025.02.07.10.36.54 (version=TLS1_2 cipher=ECDHE-ECDSA-AES128-GCM-SHA256 bits=128/128); Fri, 07 Feb 2025 10:36:54 -0800 (PST) X-Relaying-Domain: iol.unh.edu Date: Fri, 07 Feb 2025 10:36:54 -0800 (PST) Message-ID: <67a652c6.170a0220.54024.b85cSMTPIN_ADDED_MISSING@mx.google.com> Received: from [172.21.0.7] (unknown [172.18.0.240]) by postal.iol.unh.edu (Postfix) with ESMTP id 952E36052472; Fri, 7 Feb 2025 13:36:23 -0500 (EST) Subject: |SUCCESS| pw149079-149078 [PATCH] [2/2] lib/dmadev: enable dmadev li From: dpdklab@iol.unh.edu To: Test Report Cc: dpdk-test-reports@iol.unh.edu In-Reply-To: <1733513273-25550-3-git-send-email-andremue@linux.microsoft.com> References: <1733513273-25550-3-git-send-email-andremue@linux.microsoft.com> Content-Type: text/plain X-BeenThere: test-report@dpdk.org X-Mailman-Version: 2.1.29 Precedence: list List-Id: automatic DPDK test reports List-Unsubscribe: , List-Archive: List-Post: List-Help: List-Subscribe: , Errors-To: test-report-bounces@dpdk.org Test-Label: iol-compile-amd64-testing Test-Status: SUCCESS http://dpdk.org/patch/149078 _Testing PASS_ Submitter: Andre Muezerie Date: Friday, December 06 2024 19:27:53 DPDK git baseline: Repo:dpdk Branch: master CommitID:7df61db6c387703a36306c1aea92225921e2eeb2 149079-149078 --> testing pass Test environment and result as below: +---------------------+--------------------+------------------+-------------------+-------------------+-------------------------+----------------------+ | Environment | dpdk_meson_compile | dpdk_compile_ovs | dpdk_compile_spdk | dpdk_msvc_compile | dpdk_llvm_clang_compile | dpdk_mingw64_compile | +=====================+====================+==================+===================+===================+=========================+======================+ | CentOS Stream 9 | PASS | PASS | PASS | SKIPPED | SKIPPED | SKIPPED | +---------------------+--------------------+------------------+-------------------+-------------------+-------------------------+----------------------+ | Debian 12 | PASS | PASS | PASS | SKIPPED | SKIPPED | SKIPPED | +---------------------+--------------------+------------------+-------------------+-------------------+-------------------------+----------------------+ | Fedora 39 (Clang) | PASS | PASS | PASS | SKIPPED | SKIPPED | SKIPPED | +---------------------+--------------------+------------------+-------------------+-------------------+-------------------------+----------------------+ | Fedora 39 | PASS | PASS | PASS | SKIPPED | SKIPPED | SKIPPED | +---------------------+--------------------+------------------+-------------------+-------------------+-------------------------+----------------------+ | Fedora 40 (Clang) | PASS | PASS | PASS | SKIPPED | SKIPPED | SKIPPED | +---------------------+--------------------+------------------+-------------------+-------------------+-------------------------+----------------------+ | Fedora 40 | PASS | PASS | PASS | SKIPPED | SKIPPED | SKIPPED | +---------------------+--------------------+------------------+-------------------+-------------------+-------------------------+----------------------+ | openSUSE Leap 15 | PASS | PASS | SKIPPED | SKIPPED | SKIPPED | SKIPPED | +---------------------+--------------------+------------------+-------------------+-------------------+-------------------------+----------------------+ | Ubuntu 24.04 | PASS | PASS | PASS | SKIPPED | SKIPPED | SKIPPED | +---------------------+--------------------+------------------+-------------------+-------------------+-------------------------+----------------------+ | RHEL8 | PASS | PASS | SKIPPED | SKIPPED | SKIPPED | SKIPPED | +---------------------+--------------------+------------------+-------------------+-------------------+-------------------------+----------------------+ | Ubuntu 20.04 | PASS | SKIPPED | SKIPPED | SKIPPED | SKIPPED | SKIPPED | +---------------------+--------------------+------------------+-------------------+-------------------+-------------------------+----------------------+ | Ubuntu 22.04 | PASS | PASS | PASS | SKIPPED | SKIPPED | SKIPPED | +---------------------+--------------------+------------------+-------------------+-------------------+-------------------------+----------------------+ | FreeBSD 13.4 | PASS | SKIPPED | SKIPPED | SKIPPED | SKIPPED | SKIPPED | +---------------------+--------------------+------------------+-------------------+-------------------+-------------------------+----------------------+ | FreeBSD 14.2 | PASS | SKIPPED | SKIPPED | SKIPPED | SKIPPED | SKIPPED | +---------------------+--------------------+------------------+-------------------+-------------------+-------------------------+----------------------+ | RHEL9 | PASS | PASS | SKIPPED | SKIPPED | SKIPPED | SKIPPED | +---------------------+--------------------+------------------+-------------------+-------------------+-------------------------+----------------------+ | Alpine | PASS | PASS | SKIPPED | SKIPPED | SKIPPED | SKIPPED | +---------------------+--------------------+------------------+-------------------+-------------------+-------------------------+----------------------+ | Windows Server 2022 | SKIPPED | SKIPPED | SKIPPED | PASS | PASS | PASS | +---------------------+--------------------+------------------+-------------------+-------------------+-------------------------+----------------------+ CentOS Stream 9 Kernel: Depends on container host Compiler: gcc 11.5.0 20240719 (Red Hat 11.5.0-2) Debian 12 Kernel: Depends on container host Compiler: gcc (Debian 12.2.0-14) 12.2.0 Fedora 39 (Clang) Kernel: Depends on container host Compiler: clang 17.0.6 (Fedora 17.0.6-2.fc39) Fedora 39 Kernel: Depends on container host Compiler: gcc 13.3.1 20240522 (Red Hat 13.3.1-1) Fedora 40 (Clang) Kernel: Depends on container host Compiler: clang 18.1.8 (Fedora 18.1.8-1.fc40) Fedora 40 Kernel: Depends on container host Compiler: gcc 14.2.1 20240912 (Red Hat 14.2.1-3) openSUSE Leap 15 Kernel: Depends on container host Compiler: gcc (SUSE Linux) 7.5.0 Ubuntu 24.04 Kernel: Depends on container host Compiler: gcc (Ubuntu 13.3.0-6ubuntu2~24.04) 13.3.0 RHEL8 Kernel: Depends on container host Compiler: gcc 8.5.0 20210514 (Red Hat 8.5.0-22) Ubuntu 20.04 Kernel: Depends on container host Compiler: gcc (Ubuntu 9.4.0-1ubuntu1~20.04.2) 9.4.0 Ubuntu 22.04 Kernel: Depends on container host Compiler: gcc (Ubuntu 11.4.0-1ubuntu1~22.04) 11.4.0 FreeBSD 13.4 Kernel: 13.4-RELEASE-p1 Compiler: clang 18.1.6 FreeBSD 14.2 Kernel: 14.2-RELEASE Compiler: clang 18.1.6 RHEL9 Kernel: Depends on container host Compiler: gcc 11.5.0 20240719 (Red Hat 11.5.0-2) Alpine Kernel: Depends on container host Compiler: gcc (Alpine 14.2.0) 14.2.0 Windows Server 2022 Kernel: 10.0.20348.2031 Compiler: clang 15.0.7, gcc 14.1.0 (MinGW), and MSVC VS 19.39.33521 To view detailed results, visit: https://lab.dpdk.org/results/dashboard/patchsets/32103/ UNH-IOL DPDK Community Lab To manage your email subscriptions, visit: https://lab.dpdk.org/results/dashboard/preferences/subscriptions/